{"text_format":"1","workbook":"xlsx","n_sheets":14,"sheets":["(吉池事務所用)取込","マクロ用","(吉池事務所用)保管","検索範囲","取得手続連絡","取得手続連絡 (2)","取得手続連絡 (3)","取得手続連絡 (4)","取得手続連絡 (5)","取得手続連絡 (6)","取得手続連絡 (7)","取得手続連絡 (8)","取得手続連絡 (9)","取得手続連絡 (10)"],"not_rendered":{"charts":0,"images":0,"macros":1,"external_links":0,"defined_names":0,"comments":0,"pivot_tables":0},"unopened":[],"bounds":{"document_bytes":16777216,"sheet_cells":100000,"rows_first":2000,"rows_last":500,"rows_between":2000,"halvings":0,"cell_chars":16384,"cell_head_chars":4096},"cells_cut":0,"cells_raw":0,"read":"whole","date_system":"1900"}

{"sheet":"(吉池事務所用)取込","index":0,"n_rows":11,"n_cols":68,"rows_kept":11,"cut":false,"hidden":false,"merged":[]}
["事業所№","個人ｺｰﾄﾞ","姓(ｶﾅ)","名(ｶﾅ)","姓(漢字)","名(漢字)","性別","生年月日","郵便番号","住所(ｶﾅ)","マンション・ビル名(ｶﾅ)","住所","マンション・ビル名等","電話番号","入社年月日","在職区分","基礎年金番号(上4桁)","基礎年金番号(下6桁)","健保資格取得年月日","厚年資格取得年月日","雇用保険個人番号4","雇用保険個人番号6","雇用保険個人番号1","雇保取得年月日","扶養No1_姓(漢字)","扶養No1_名(漢字)","扶養No1_姓(ｶﾅ)","扶養No1_名(ｶﾅ)","扶養No1_生年月日","扶養No1_性別","扶養No1_続柄","扶養No1_被扶養者になった日","扶養No2_姓(漢字)","扶養No2_名(漢字)","扶養No2_姓(ｶﾅ)","扶養No2_名(ｶﾅ)","扶養No2_生年月日","扶養No2_性別","扶養No2_続柄","扶養No2_被扶養者になった日","扶養No3_姓(漢字)","扶養No3_名(漢字)","扶養No3_姓(ｶﾅ)","扶養No3_名(ｶﾅ)","扶養No3_生年月日","扶養No3_性別","扶養No3_続柄","扶養No3_被扶養者になった日","扶養No4_姓(漢字)","扶養No4_名(漢字)","扶養No4_姓(ｶﾅ)","扶養No4_名(ｶﾅ)","扶養No4_生年月日","扶養No4_性別","扶養No4_続柄","扶養No4_被扶養者になった日","扶養No1同居区分","扶養No2同居区分","扶養No3同居区分","扶養No4同居区分","扶養No1基礎年金番号(上4桁)","扶養No1基礎年金番号(下6桁)","扶養No2基礎年金番号(上4桁)","扶養No2基礎年金番号(下6桁)","扶養No3基礎年金番号(上4桁)","扶養No3基礎年金番号(下6桁)","扶養No4基礎年金番号(上4桁)","扶養No4基礎年金番号(下6桁)"]
[null,null,{"$f":"IF(取得手続連絡!$B$10=\"\",\"\",取得手続連絡!$B$10)","v":""},{"$f":"IF(取得手続連絡!$G$10=\"\",\"\",取得手続連絡!$G$10)","v":""},{"$f":"IF(取得手続連絡!$B$12=\"\",\"\",取得手続連絡!$B$12)","v":""},{"$f":"IF(取得手続連絡!$G$12=\"\",\"\",取得手続連絡!$G$12)","v":""},{"$f":"IF(取得手続連絡!$J$14=\"\",\"\",IF(取得手続連絡!$J$14=取得手続連絡!$Z$3,1,2))","v":""},{"$f":"IF(LEN(取得手続連絡!$Y$13)=8,取得手続連絡!$Y$13,\"\")","v":""},{"$f":"IF(取得手続連絡!$B$14=\"\",\"\",CONCATENATE(取得手続連絡!$B$14,取得手続連絡!$D$14,取得手続連絡!$E$14))","v":""},{"$f":"IF(取得手続連絡!$B$15=\"\",\"\",取得手続連絡!$B$15)","v":""},{"$f":"IF(取得手続連絡!$B$17=\"\",\"\",取得手続連絡!$B$17)","v":""},{"$f":"IF(取得手続連絡!$B$16=\"\",\"\",取得手続連絡!$B$16)","v":""},{"$f":"IF(取得手続連絡!$B$18=\"\",\"\",取得手続連絡!$B$18)","v":""},{"$f":"IF(取得手続連絡!$M$14=\"\",\"\",CONCATENATE(取得手続連絡!$M$14,取得手続連絡!$N$14,取得手続連絡!$O$14,取得手続連絡!$Q$14,取得手続連絡!$R$14))","v":""},{"$f":"IF(LEN(取得手続連絡!$Y$16)=8,取得手続連絡!$Y$16,\"\")","v":""},{"$f":"IF(B2=\"\",\"\",0)","v":""},{"$f":"IF(取得手続連絡!$B$20=\"\",\"\",取得手続連絡!$B$20)","v":""},{"$f":"IF(取得手続連絡!$G$20=\"\",\"\",取得手続連絡!$G$20)","v":""},{"$f":"O2","v":""},{"$f":"O2","v":""},{"$f":"IF(取得手続連絡!$B$22=\"\",\"\",取得手続連絡!$B$22)","v":""},{"$f":"IF(取得手続連絡!$F$22=\"\",\"\",取得手続連絡!$F$22)","v":""},{"$f":"IF(取得手続連絡!$K$22=\"\",\"\",取得手続連絡!$K$22)","v":""},{"$f":"O2","v":""},{"$f":"IF(取得手続連絡!$B$28=\"\",\"\",取得手続連絡!$B$28)","v":""},{"$f":"IF(取得手続連絡!$G$28=\"\",\"\",取得手続連絡!$G$28)","v":""},{"$f":"IF(取得手続連絡!$B$26=\"\",\"\",取得手続連絡!$B$26)","v":""},{"$f":"IF(取得手続連絡!$G$26=\"\",\"\",取得手続連絡!$G$26)","v":""},{"$f":"IF(LEN(取得手続連絡!$Y$29)=8,取得手続連絡!$Y$29,\"\")","v":""},{"$f":"IF(取得手続連絡!$B$30=\"\",\"\",IF(取得手続連絡!$B$30=取得手続連絡!$Z$3,1,2))","v":""},{"$f":"IF(取得手続連絡!$G$30=\"\",\"\",取得手続連絡!$G$30)","v":""},{"$f":"IF($Z2=\"\",\"\",$O2)","v":""},{"$f":"IF(取得手続連絡!$B$39=\"\",\"\",取得手続連絡!$B$39)","v":""},{"$f":"IF(取得手続連絡!$G$39=\"\",\"\",取得手続連絡!$G$39)","v":""},{"$f":"IF(取得手続連絡!$B$37=\"\",\"\",取得手続連絡!$B$37)","v":""},{"$f":"IF(取得手続連絡!$G$37=\"\",\"\",取得手続連絡!$G$37)","v":""},{"$f":"IF(LEN(取得手続連絡!$Y$40)=8,取得手続連絡!$Y$40,\"\")","v":""},{"$f":"IF(取得手続連絡!$B$41=\"\",\"\",IF(取得手続連絡!$B$41=取得手続連絡!$Z$3,1,2))","v":""},{"$f":"IF(取得手続連絡!$G$41=\"\",\"\",取得手続連絡!$G$41)","v":""},{"$f":"IF(AH2=\"\",\"\",$O2)","v":""},{"$f":"IF(取得手続連絡!$B$50=\"\",\"\",取得手続連絡!$B$50)","v":""},{"$f":"IF(取得手続連絡!$G$50=\"\",\"\",取得手続連絡!$G$50)","v":""},{"$f":"IF(取得手続連絡!$B$48=\"\",\"\",取得手続連絡!$B$48)","v":""},{"$f":"IF(取得手続連絡!$G$48=\"\",\"\",取得手続連絡!$G$48)","v":""},{"$f":"IF(LEN(取得手続連絡!$Y$51)=8,取得手続連絡!$Y$51,\"\")","v":""},{"$f":"IF(取得手続連絡!$B$52=\"\",\"\",IF(取得手続連絡!$B$52=取得手続連絡!$Z$3,1,2))","v":""},{"$f":"IF(取得手続連絡!$G$52=\"\",\"\",取得手続連絡!$G$52)","v":""},{"$f":"IF(AP2=\"\",\"\",$O2)","v":""},{"$f":"IF(取得手続連絡!$B$61=\"\",\"\",取得手続連絡!$B$61)","v":""},{"$f":"IF(取得手続連絡!$G$61=\"\",\"\",取得手続連絡!$G$61)","v":""},{"$f":"IF(取得手続連絡!$B$59=\"\",\"\",取得手続連絡!$B$59)","v":""},{"$f":"IF(取得手続連絡!$G$59=\"\",\"\",取得手続連絡!$G$59)","v":""},{"$f":"IF(LEN(取得手続連絡!$Y$62)=8,取得手続連絡!$Y$62,\"\")","v":""},{"$f":"IF(取得手続連絡!$B$63=\"\",\"\",IF(取得手続連絡!$B$63=取得手続連絡!$Z$3,1,2))","v":""},{"$f":"IF(取得手続連絡!$G$63=\"\",\"\",取得手続連絡!$G$63)","v":""},{"$f":"IF(AX2=\"\",\"\",$O2)","v":""},{"$f":"IF(取得手続連絡!$B$31=\"\",\"\",IF(取得手続連絡!$B$31=取得手続連絡!$AA$1,1,2))","v":""},{"$f":"IF(取得手続連絡!$B$42=\"\",\"\",IF(取得手続連絡!$B$42=取得手続連絡!$AA$1,1,2))","v":""},{"$f":"IF(取得手続連絡!$B$53=\"\",\"\",IF(取得手続連絡!$B$53=取得手続連絡!$AA$1,1,2))","v":""},{"$f":"IF(取得手続連絡!$B$64=\"\",\"\",IF(取得手続連絡!$B$64=取得手続連絡!$AA$1,1,2))","v":""},{"$f":"IF(取得手続連絡!$B$34=\"\",\"\",取得手続連絡!$B$34)","v":""},{"$f":"IF(取得手続連絡!$G$34=\"\",\"\",取得手続連絡!$G$34)","v":""},{"$f":"IF(取得手続連絡!$B$45=\"\",\"\",取得手続連絡!$B$45)","v":""},{"$f":"IF(取得手続連絡!$G$45=\"\",\"\",取得手続連絡!$G$45)","v":""},{"$f":"IF(取得手続連絡!$B$56=\"\",\"\",取得手続連絡!$B$56)","v":""},{"$f":"IF(取得手続連絡!$G$56=\"\",\"\",取得手続連絡!$G$56)","v":""},{"$f":"IF(取得手続連絡!$B$67=\"\",\"\",取得手続連絡!$B$67)","v":""},{"$f":"IF(取得手続連絡!$G$67=\"\",\"\",取得手続連絡!$G$67)","v":""}]
[{"$f":"IF($A$2=\"\",\"\",IF(B3=\"\",\"\",$A$2))","v":""},null,{"$f":"IF('取得手続連絡 (2)'!$B$10=\"\",\"\",'取得手続連絡 (2)'!$B$10)","v":""},{"$f":"IF('取得手続連絡 (2)'!$G$10=\"\",\"\",'取得手続連絡 (2)'!$G$10)","v":""},{"$f":"IF('取得手続連絡 (2)'!$B$12=\"\",\"\",'取得手続連絡 (2)'!$B$12)","v":""},{"$f":"IF('取得手続連絡 (2)'!$G$12=\"\",\"\",'取得手続連絡 (2)'!$G$12)","v":""},{"$f":"IF('取得手続連絡 (2)'!$J$14=\"\",\"\",IF('取得手続連絡 (2)'!$J$14='取得手続連絡 (2)'!$Z$3,1,2))","v":""},{"$f":"IF(LEN('取得手続連絡 (2)'!$Y$13)=8,'取得手続連絡 (2)'!$Y$13,\"\")","v":""},{"$f":"IF('取得手続連絡 (2)'!$B$14=\"\",\"\",CONCATENATE('取得手続連絡 (2)'!$B$14,'取得手続連絡 (2)'!$D$14,'取得手続連絡 (2)'!$E$14))","v":""},{"$f":"IF('取得手続連絡 (2)'!$B$15=\"\",\"\",'取得手続連絡 (2)'!$B$15)","v":""},{"$f":"IF('取得手続連絡 (2)'!$B$17=\"\",\"\",'取得手続連絡 (2)'!$B$17)","v":""},{"$f":"IF('取得手続連絡 (2)'!$B$16=\"\",\"\",'取得手続連絡 (2)'!$B$16)","v":""},{"$f":"IF('取得手続連絡 (2)'!$B$18=\"\",\"\",'取得手続連絡 (2)'!$B$18)","v":""},{"$f":"IF('取得手続連絡 (2)'!$M$14=\"\",\"\",CONCATENATE('取得手続連絡 (2)'!$M$14,'取得手続連絡 (2)'!$N$14,'取得手続連絡 (2)'!$O$14,'取得手続連絡 (2)'!$Q$14,'取得手続連絡 (2)'!$R$14))","v":""},{"$f":"IF(LEN('取得手続連絡 (2)'!$Y$16)=8,'取得手続連絡 (2)'!$Y$16,\"\")","v":""},{"$f":"IF(B3=\"\",\"\",0)","v":""},{"$f":"IF('取得手続連絡 (2)'!$B$20=\"\",\"\",'取得手続連絡 (2)'!$B$20)","v":""},{"$f":"IF('取得手続連絡 (2)'!$G$20=\"\",\"\",'取得手続連絡 (2)'!$G$20)","v":""},{"$f":"O3","v":""},{"$f":"O3","v":""},{"$f":"IF('取得手続連絡 (2)'!$B$22=\"\",\"\",'取得手続連絡 (2)'!$B$22)","v":""},{"$f":"IF('取得手続連絡 (2)'!$F$22=\"\",\"\",'取得手続連絡 (2)'!$F$22)","v":""},{"$f":"IF('取得手続連絡 (2)'!$K$22=\"\",\"\",'取得手続連絡 (2)'!$K$22)","v":""},{"$f":"O3","v":""},{"$f":"IF('取得手続連絡 (2)'!$B$28=\"\",\"\",'取得手続連絡 (2)'!$B$28)","v":""},{"$f":"IF('取得手続連絡 (2)'!$G$28=\"\",\"\",'取得手続連絡 (2)'!$G$28)","v":""},{"$f":"IF('取得手続連絡 (2)'!$B$26=\"\",\"\",'取得手続連絡 (2)'!$B$26)","v":""},{"$f":"IF('取得手続連絡 (2)'!$G$26=\"\",\"\",'取得手続連絡 (2)'!$G$26)","v":""},{"$f":"IF(LEN('取得手続連絡 (2)'!$Y$29)=8,'取得手続連絡 (2)'!$Y$29,\"\")","v":""},{"$f":"IF('取得手続連絡 (2)'!$B$30=\"\",\"\",IF('取得手続連絡 (2)'!$B$30='取得手続連絡 (2)'!$Z$3,1,2))","v":""},{"$f":"IF('取得手続連絡 (2)'!$G$30=\"\",\"\",'取得手続連絡 (2)'!$G$30)","v":""},{"$f":"IF($Z3=\"\",\"\",$O3)","v":""},{"$f":"IF('取得手続連絡 (2)'!$B$39=\"\",\"\",'取得手続連絡 (2)'!$B$39)","v":""},{"$f":"IF('取得手続連絡 (2)'!$G$39=\"\",\"\",'取得手続連絡 (2)'!$G$39)","v":""},{"$f":"IF('取得手続連絡 (2)'!$B$37=\"\",\"\",'取得手続連絡 (2)'!$B$37)","v":""},{"$f":"IF('取得手続連絡 (2)'!$G$37=\"\",\"\",'取得手続連絡 (2)'!$G$37)","v":""},{"$f":"IF(LEN('取得手続連絡 (2)'!$Y$40)=8,'取得手続連絡 (2)'!$Y$40,\"\")","v":""},{"$f":"IF('取得手続連絡 (2)'!$B$41=\"\",\"\",IF('取得手続連絡 (2)'!$B$41='取得手続連絡 (2)'!$Z$3,1,2))","v":""},{"$f":"IF('取得手続連絡 (2)'!$G$41=\"\",\"\",'取得手続連絡 (2)'!$G$41)","v":""},{"$f":"IF(AH3=\"\",\"\",$O3)","v":""},{"$f":"IF('取得手続連絡 (2)'!$B$50=\"\",\"\",'取得手続連絡 (2)'!$B$50)","v":""},{"$f":"IF('取得手続連絡 (2)'!$G$50=\"\",\"\",'取得手続連絡 (2)'!$G$50)","v":""},{"$f":"IF('取得手続連絡 (2)'!$B$48=\"\",\"\",'取得手続連絡 (2)'!$B$48)","v":""},{"$f":"IF('取得手続連絡 (2)'!$G$48=\"\",\"\",'取得手続連絡 (2)'!$G$48)","v":""},{"$f":"IF(LEN('取得手続連絡 (2)'!$Y$51)=8,'取得手続連絡 (2)'!$Y$51,\"\")","v":""},{"$f":"IF('取得手続連絡 (2)'!$B$52=\"\",\"\",IF('取得手続連絡 (2)'!$B$52='取得手続連絡 (2)'!$Z$3,1,2))","v":""},{"$f":"IF('取得手続連絡 (2)'!$G$52=\"\",\"\",'取得手続連絡 (2)'!$G$52)","v":""},{"$f":"IF(AP3=\"\",\"\",$O3)","v":""},{"$f":"IF('取得手続連絡 (2)'!$B$61=\"\",\"\",'取得手続連絡 (2)'!$B$61)","v":""},{"$f":"IF('取得手続連絡 (2)'!$G$61=\"\",\"\",'取得手続連絡 (2)'!$G$61)","v":""},{"$f":"IF('取得手続連絡 (2)'!$B$59=\"\",\"\",'取得手続連絡 (2)'!$B$59)","v":""},{"$f":"IF('取得手続連絡 (2)'!$G$59=\"\",\"\",'取得手続連絡 (2)'!$G$59)","v":""},{"$f":"IF(LEN('取得手続連絡 (2)'!$Y$62)=8,'取得手続連絡 (2)'!$Y$62,\"\")","v":""},{"$f":"IF('取得手続連絡 (2)'!$B$63=\"\",\"\",IF('取得手続連絡 (2)'!$B$63='取得手続連絡 (2)'!$Z$3,1,2))","v":""},{"$f":"IF('取得手続連絡 (2)'!$G$63=\"\",\"\",'取得手続連絡 (2)'!$G$63)","v":""},{"$f":"IF(AX3=\"\",\"\",$O3)","v":""},{"$f":"IF('取得手続連絡 (2)'!$B$31=\"\",\"\",IF('取得手続連絡 (2)'!$B$31='取得手続連絡 (2)'!$AA$1,1,2))","v":""},{"$f":"IF('取得手続連絡 (2)'!$B$42=\"\",\"\",IF('取得手続連絡 (2)'!$B$42='取得手続連絡 (2)'!$AA$1,1,2))","v":""},{"$f":"IF('取得手続連絡 (2)'!$B$53=\"\",\"\",IF('取得手続連絡 (2)'!$B$53='取得手続連絡 (2)'!$AA$1,1,2))","v":""},{"$f":"IF('取得手続連絡 (2)'!$B$64=\"\",\"\",IF('取得手続連絡 (2)'!$B$64='取得手続連絡 (2)'!$AA$1,1,2))","v":""},{"$f":"IF('取得手続連絡 (2)'!$B$34=\"\",\"\",'取得手続連絡 (2)'!$B$34)","v":""},{"$f":"IF('取得手続連絡 (2)'!$G$34=\"\",\"\",'取得手続連絡 (2)'!$G$34)","v":""},{"$f":"IF('取得手続連絡 (2)'!$B$45=\"\",\"\",'取得手続連絡 (2)'!$B$45)","v":""},{"$f":"IF('取得手続連絡 (2)'!$G$45=\"\",\"\",'取得手続連絡 (2)'!$G$45)","v":""},{"$f":"IF('取得手続連絡 (2)'!$B$56=\"\",\"\",'取得手続連絡 (2)'!$B$56)","v":""},{"$f":"IF('取得手続連絡 (2)'!$G$56=\"\",\"\",'取得手続連絡 (2)'!$G$56)","v":""},{"$f":"IF('取得手続連絡 (2)'!$B$67=\"\",\"\",'取得手続連絡 (2)'!$B$67)","v":""},{"$f":"IF('取得手続連絡 (2)'!$G$67=\"\",\"\",'取得手続連絡 (2)'!$G$67)","v":""}]
["",null,{"$f":"IF('取得手続連絡 (3)'!$B$10=\"\",\"\",'取得手続連絡 (3)'!$B$10)","v":""},{"$f":"IF('取得手続連絡 (3)'!$G$10=\"\",\"\",'取得手続連絡 (3)'!$G$10)","v":""},{"$f":"IF('取得手続連絡 (3)'!$B$12=\"\",\"\",'取得手続連絡 (3)'!$B$12)","v":""},{"$f":"IF('取得手続連絡 (3)'!$G$12=\"\",\"\",'取得手続連絡 (3)'!$G$12)","v":""},{"$f":"IF('取得手続連絡 (3)'!$J$14=\"\",\"\",IF('取得手続連絡 (3)'!$J$14='取得手続連絡 (3)'!$Z$3,1,2))","v":""},{"$f":"IF(LEN('取得手続連絡 (3)'!$Y$13)=8,'取得手続連絡 (3)'!$Y$13,\"\")","v":""},{"$f":"IF('取得手続連絡 (3)'!$B$14=\"\",\"\",CONCATENATE('取得手続連絡 (3)'!$B$14,'取得手続連絡 (3)'!$D$14,'取得手続連絡 (3)'!$E$14))","v":""},{"$f":"IF('取得手続連絡 (3)'!$B$15=\"\",\"\",'取得手続連絡 (3)'!$B$15)","v":""},{"$f":"IF('取得手続連絡 (3)'!$B$17=\"\",\"\",'取得手続連絡 (3)'!$B$17)","v":""},{"$f":"IF('取得手続連絡 (3)'!$B$16=\"\",\"\",'取得手続連絡 (3)'!$B$16)","v":""},{"$f":"IF('取得手続連絡 (3)'!$B$18=\"\",\"\",'取得手続連絡 (3)'!$B$18)","v":""},{"$f":"IF('取得手続連絡 (3)'!$M$14=\"\",\"\",CONCATENATE('取得手続連絡 (3)'!$M$14,'取得手続連絡 (3)'!$N$14,'取得手続連絡 (3)'!$O$14,'取得手続連絡 (3)'!$Q$14,'取得手続連絡 (3)'!$R$14))","v":""},{"$f":"IF(LEN('取得手続連絡 (3)'!$Y$16)=8,'取得手続連絡 (3)'!$Y$16,\"\")","v":""},"",{"$f":"IF('取得手続連絡 (3)'!$B$20=\"\",\"\",'取得手続連絡 (3)'!$B$20)","v":""},{"$f":"IF('取得手続連絡 (3)'!$G$20=\"\",\"\",'取得手続連絡 (3)'!$G$20)","v":""},"","",{"$f":"IF('取得手続連絡 (3)'!$B$22=\"\",\"\",'取得手続連絡 (3)'!$B$22)","v":""},{"$f":"IF('取得手続連絡 (3)'!$F$22=\"\",\"\",'取得手続連絡 (3)'!$F$22)","v":""},{"$f":"IF('取得手続連絡 (3)'!$K$22=\"\",\"\",'取得手続連絡 (3)'!$K$22)","v":""},"",{"$f":"IF('取得手続連絡 (3)'!$B$28=\"\",\"\",'取得手続連絡 (3)'!$B$28)","v":""},{"$f":"IF('取得手続連絡 (3)'!$G$28=\"\",\"\",'取得手続連絡 (3)'!$G$28)","v":""},{"$f":"IF('取得手続連絡 (3)'!$B$26=\"\",\"\",'取得手続連絡 (3)'!$B$26)","v":""},{"$f":"IF('取得手続連絡 (3)'!$G$26=\"\",\"\",'取得手続連絡 (3)'!$G$26)","v":""},{"$f":"IF(LEN('取得手続連絡 (3)'!$Y$29)=8,'取得手続連絡 (3)'!$Y$29,\"\")","v":""},{"$f":"IF('取得手続連絡 (3)'!$B$30=\"\",\"\",IF('取得手続連絡 (3)'!$B$30='取得手続連絡 (3)'!$Z$3,1,2))","v":""},{"$f":"IF('取得手続連絡 (3)'!$G$30=\"\",\"\",'取得手続連絡 (3)'!$G$30)","v":""},"",{"$f":"IF('取得手続連絡 (3)'!$B$39=\"\",\"\",'取得手続連絡 (3)'!$B$39)","v":""},{"$f":"IF('取得手続連絡 (3)'!$G$39=\"\",\"\",'取得手続連絡 (3)'!$G$39)","v":""},{"$f":"IF('取得手続連絡 (3)'!$B$37=\"\",\"\",'取得手続連絡 (3)'!$B$37)","v":""},{"$f":"IF('取得手続連絡 (3)'!$G$37=\"\",\"\",'取得手続連絡 (3)'!$G$37)","v":""},{"$f":"IF(LEN('取得手続連絡 (3)'!$Y$40)=8,'取得手続連絡 (3)'!$Y$40,\"\")","v":""},{"$f":"IF('取得手続連絡 (3)'!$B$41=\"\",\"\",IF('取得手続連絡 (3)'!$B$41='取得手続連絡 (3)'!$Z$3,1,2))","v":""},{"$f":"IF('取得手続連絡 (3)'!$G$41=\"\",\"\",'取得手続連絡 (3)'!$G$41)","v":""},"",{"$f":"IF('取得手続連絡 (3)'!$B$50=\"\",\"\",'取得手続連絡 (3)'!$B$50)","v":""},{"$f":"IF('取得手続連絡 (3)'!$G$50=\"\",\"\",'取得手続連絡 (3)'!$G$50)","v":""},{"$f":"IF('取得手続連絡 (3)'!$B$48=\"\",\"\",'取得手続連絡 (3)'!$B$48)","v":""},{"$f":"IF('取得手続連絡 (3)'!$G$48=\"\",\"\",'取得手続連絡 (3)'!$G$48)","v":""},{"$f":"IF(LEN('取得手続連絡 (3)'!$Y$51)=8,'取得手続連絡 (3)'!$Y$51,\"\")","v":""},{"$f":"IF('取得手続連絡 (3)'!$B$52=\"\",\"\",IF('取得手続連絡 (3)'!$B$52='取得手続連絡 (3)'!$Z$3,1,2))","v":""},{"$f":"IF('取得手続連絡 (3)'!$G$52=\"\",\"\",'取得手続連絡 (3)'!$G$52)","v":""},"",{"$f":"IF('取得手続連絡 (3)'!$B$61=\"\",\"\",'取得手続連絡 (3)'!$B$61)","v":""},{"$f":"IF('取得手続連絡 (3)'!$G$61=\"\",\"\",'取得手続連絡 (3)'!$G$61)","v":""},{"$f":"IF('取得手続連絡 (3)'!$B$59=\"\",\"\",'取得手続連絡 (3)'!$B$59)","v":""},{"$f":"IF('取得手続連絡 (3)'!$G$59=\"\",\"\",'取得手続連絡 (3)'!$G$59)","v":""},{"$f":"IF(LEN('取得手続連絡 (3)'!$Y$62)=8,'取得手続連絡 (3)'!$Y$62,\"\")","v":""},{"$f":"IF('取得手続連絡 (3)'!$B$63=\"\",\"\",IF('取得手続連絡 (3)'!$B$63='取得手続連絡 (3)'!$Z$3,1,2))","v":""},{"$f":"IF('取得手続連絡 (3)'!$G$63=\"\",\"\",'取得手続連絡 (3)'!$G$63)","v":""},"",{"$f":"IF('取得手続連絡 (3)'!$B$31=\"\",\"\",IF('取得手続連絡 (3)'!$B$31='取得手続連絡 (3)'!$AA$1,1,2))","v":""},{"$f":"IF('取得手続連絡 (3)'!$B$42=\"\",\"\",IF('取得手続連絡 (3)'!$B$42='取得手続連絡 (3)'!$AA$1,1,2))","v":""},{"$f":"IF('取得手続連絡 (3)'!$B$53=\"\",\"\",IF('取得手続連絡 (3)'!$B$53='取得手続連絡 (3)'!$AA$1,1,2))","v":""},{"$f":"IF('取得手続連絡 (3)'!$B$64=\"\",\"\",IF('取得手続連絡 (3)'!$B$64='取得手続連絡 (3)'!$AA$1,1,2))","v":""},{"$f":"IF('取得手続連絡 (3)'!$B$34=\"\",\"\",'取得手続連絡 (3)'!$B$34)","v":""},{"$f":"IF('取得手続連絡 (3)'!$G$34=\"\",\"\",'取得手続連絡 (3)'!$G$34)","v":""},{"$f":"IF('取得手続連絡 (3)'!$B$45=\"\",\"\",'取得手続連絡 (3)'!$B$45)","v":""},{"$f":"IF('取得手続連絡 (3)'!$G$45=\"\",\"\",'取得手続連絡 (3)'!$G$45)","v":""},{"$f":"IF('取得手続連絡 (3)'!$B$56=\"\",\"\",'取得手続連絡 (3)'!$B$56)","v":""},{"$f":"IF('取得手続連絡 (3)'!$G$56=\"\",\"\",'取得手続連絡 (3)'!$G$56)","v":""},{"$f":"IF('取得手続連絡 (3)'!$B$67=\"\",\"\",'取得手続連絡 (3)'!$B$67)","v":""},{"$f":"IF('取得手続連絡 (3)'!$G$67=\"\",\"\",'取得手続連絡 (3)'!$G$67)","v":""}]
["",null,{"$f":"IF('取得手続連絡 (4)'!$B$10=\"\",\"\",'取得手続連絡 (4)'!$B$10)","v":""},{"$f":"IF('取得手続連絡 (4)'!$G$10=\"\",\"\",'取得手続連絡 (4)'!$G$10)","v":""},{"$f":"IF('取得手続連絡 (4)'!$B$12=\"\",\"\",'取得手続連絡 (4)'!$B$12)","v":""},{"$f":"IF('取得手続連絡 (4)'!$G$12=\"\",\"\",'取得手続連絡 (4)'!$G$12)","v":""},{"$f":"IF('取得手続連絡 (4)'!$J$14=\"\",\"\",IF('取得手続連絡 (4)'!$J$14='取得手続連絡 (4)'!$Z$3,1,2))","v":""},{"$f":"IF(LEN('取得手続連絡 (4)'!$Y$13)=8,'取得手続連絡 (4)'!$Y$13,\"\")","v":""},{"$f":"IF('取得手続連絡 (4)'!$B$14=\"\",\"\",CONCATENATE('取得手続連絡 (4)'!$B$14,'取得手続連絡 (4)'!$D$14,'取得手続連絡 (4)'!$E$14))","v":""},{"$f":"IF('取得手続連絡 (4)'!$B$15=\"\",\"\",'取得手続連絡 (4)'!$B$15)","v":""},{"$f":"IF('取得手続連絡 (4)'!$B$17=\"\",\"\",'取得手続連絡 (4)'!$B$17)","v":""},{"$f":"IF('取得手続連絡 (4)'!$B$16=\"\",\"\",'取得手続連絡 (4)'!$B$16)","v":""},{"$f":"IF('取得手続連絡 (4)'!$B$18=\"\",\"\",'取得手続連絡 (4)'!$B$18)","v":""},{"$f":"IF('取得手続連絡 (4)'!$M$14=\"\",\"\",CONCATENATE('取得手続連絡 (4)'!$M$14,'取得手続連絡 (4)'!$N$14,'取得手続連絡 (4)'!$O$14,'取得手続連絡 (4)'!$Q$14,'取得手続連絡 (4)'!$R$14))","v":""},{"$f":"IF(LEN('取得手続連絡 (4)'!$Y$16)=8,'取得手続連絡 (4)'!$Y$16,\"\")","v":""},"",{"$f":"IF('取得手続連絡 (4)'!$B$20=\"\",\"\",'取得手続連絡 (4)'!$B$20)","v":""},{"$f":"IF('取得手続連絡 (4)'!$G$20=\"\",\"\",'取得手続連絡 (4)'!$G$20)","v":""},"","",{"$f":"IF('取得手続連絡 (4)'!$B$22=\"\",\"\",'取得手続連絡 (4)'!$B$22)","v":""},{"$f":"IF('取得手続連絡 (4)'!$F$22=\"\",\"\",'取得手続連絡 (4)'!$F$22)","v":""},{"$f":"IF('取得手続連絡 (4)'!$K$22=\"\",\"\",'取得手続連絡 (4)'!$K$22)","v":""},"",{"$f":"IF('取得手続連絡 (4)'!$B$28=\"\",\"\",'取得手続連絡 (4)'!$B$28)","v":""},{"$f":"IF('取得手続連絡 (4)'!$G$28=\"\",\"\",'取得手続連絡 (4)'!$G$28)","v":""},{"$f":"IF('取得手続連絡 (4)'!$B$26=\"\",\"\",'取得手続連絡 (4)'!$B$26)","v":""},{"$f":"IF('取得手続連絡 (4)'!$G$26=\"\",\"\",'取得手続連絡 (4)'!$G$26)","v":""},{"$f":"IF(LEN('取得手続連絡 (4)'!$Y$29)=8,'取得手続連絡 (4)'!$Y$29,\"\")","v":""},{"$f":"IF('取得手続連絡 (4)'!$B$30=\"\",\"\",IF('取得手続連絡 (4)'!$B$30='取得手続連絡 (4)'!$Z$3,1,2))","v":""},{"$f":"IF('取得手続連絡 (4)'!$G$30=\"\",\"\",'取得手続連絡 (4)'!$G$30)","v":""},"",{"$f":"IF('取得手続連絡 (4)'!$B$39=\"\",\"\",'取得手続連絡 (4)'!$B$39)","v":""},{"$f":"IF('取得手続連絡 (4)'!$G$39=\"\",\"\",'取得手続連絡 (4)'!$G$39)","v":""},{"$f":"IF('取得手続連絡 (4)'!$B$37=\"\",\"\",'取得手続連絡 (4)'!$B$37)","v":""},{"$f":"IF('取得手続連絡 (4)'!$G$37=\"\",\"\",'取得手続連絡 (4)'!$G$37)","v":""},{"$f":"IF(LEN('取得手続連絡 (4)'!$Y$40)=8,'取得手続連絡 (4)'!$Y$40,\"\")","v":""},{"$f":"IF('取得手続連絡 (4)'!$B$41=\"\",\"\",IF('取得手続連絡 (4)'!$B$41='取得手続連絡 (4)'!$Z$3,1,2))","v":""},{"$f":"IF('取得手続連絡 (4)'!$G$41=\"\",\"\",'取得手続連絡 (4)'!$G$41)","v":""},"",{"$f":"IF('取得手続連絡 (4)'!$B$50=\"\",\"\",'取得手続連絡 (4)'!$B$50)","v":""},{"$f":"IF('取得手続連絡 (4)'!$G$50=\"\",\"\",'取得手続連絡 (4)'!$G$50)","v":""},{"$f":"IF('取得手続連絡 (4)'!$B$48=\"\",\"\",'取得手続連絡 (4)'!$B$48)","v":""},{"$f":"IF('取得手続連絡 (4)'!$G$48=\"\",\"\",'取得手続連絡 (4)'!$G$48)","v":""},{"$f":"IF(LEN('取得手続連絡 (4)'!$Y$51)=8,'取得手続連絡 (4)'!$Y$51,\"\")","v":""},{"$f":"IF('取得手続連絡 (4)'!$B$52=\"\",\"\",IF('取得手続連絡 (4)'!$B$52='取得手続連絡 (4)'!$Z$3,1,2))","v":""},{"$f":"IF('取得手続連絡 (4)'!$G$52=\"\",\"\",'取得手続連絡 (4)'!$G$52)","v":""},"",{"$f":"IF('取得手続連絡 (4)'!$B$61=\"\",\"\",'取得手続連絡 (4)'!$B$61)","v":""},{"$f":"IF('取得手続連絡 (4)'!$G$61=\"\",\"\",'取得手続連絡 (4)'!$G$61)","v":""},{"$f":"IF('取得手続連絡 (4)'!$B$59=\"\",\"\",'取得手続連絡 (4)'!$B$59)","v":""},{"$f":"IF('取得手続連絡 (4)'!$G$59=\"\",\"\",'取得手続連絡 (4)'!$G$59)","v":""},{"$f":"IF(LEN('取得手続連絡 (4)'!$Y$62)=8,'取得手続連絡 (4)'!$Y$62,\"\")","v":""},{"$f":"IF('取得手続連絡 (4)'!$B$63=\"\",\"\",IF('取得手続連絡 (4)'!$B$63='取得手続連絡 (4)'!$Z$3,1,2))","v":""},{"$f":"IF('取得手続連絡 (4)'!$G$63=\"\",\"\",'取得手続連絡 (4)'!$G$63)","v":""},"",{"$f":"IF('取得手続連絡 (4)'!$B$31=\"\",\"\",IF('取得手続連絡 (4)'!$B$31='取得手続連絡 (4)'!$AA$1,1,2))","v":""},{"$f":"IF('取得手続連絡 (4)'!$B$42=\"\",\"\",IF('取得手続連絡 (4)'!$B$42='取得手続連絡 (4)'!$AA$1,1,2))","v":""},{"$f":"IF('取得手続連絡 (4)'!$B$53=\"\",\"\",IF('取得手続連絡 (4)'!$B$53='取得手続連絡 (4)'!$AA$1,1,2))","v":""},{"$f":"IF('取得手続連絡 (4)'!$B$64=\"\",\"\",IF('取得手続連絡 (4)'!$B$64='取得手続連絡 (4)'!$AA$1,1,2))","v":""},{"$f":"IF('取得手続連絡 (4)'!$B$34=\"\",\"\",'取得手続連絡 (4)'!$B$34)","v":""},{"$f":"IF('取得手続連絡 (4)'!$G$34=\"\",\"\",'取得手続連絡 (4)'!$G$34)","v":""},{"$f":"IF('取得手続連絡 (4)'!$B$45=\"\",\"\",'取得手続連絡 (4)'!$B$45)","v":""},{"$f":"IF('取得手続連絡 (4)'!$G$45=\"\",\"\",'取得手続連絡 (4)'!$G$45)","v":""},{"$f":"IF('取得手続連絡 (4)'!$B$56=\"\",\"\",'取得手続連絡 (4)'!$B$56)","v":""},{"$f":"IF('取得手続連絡 (4)'!$G$56=\"\",\"\",'取得手続連絡 (4)'!$G$56)","v":""},{"$f":"IF('取得手続連絡 (4)'!$B$67=\"\",\"\",'取得手続連絡 (4)'!$B$67)","v":""},{"$f":"IF('取得手続連絡 (4)'!$G$67=\"\",\"\",'取得手続連絡 (4)'!$G$67)","v":""}]
["",null,{"$f":"IF('取得手続連絡 (5)'!$B$10=\"\",\"\",'取得手続連絡 (5)'!$B$10)","v":""},{"$f":"IF('取得手続連絡 (5)'!$G$10=\"\",\"\",'取得手続連絡 (5)'!$G$10)","v":""},{"$f":"IF('取得手続連絡 (5)'!$B$12=\"\",\"\",'取得手続連絡 (5)'!$B$12)","v":""},{"$f":"IF('取得手続連絡 (5)'!$G$12=\"\",\"\",'取得手続連絡 (5)'!$G$12)","v":""},{"$f":"IF('取得手続連絡 (5)'!$J$14=\"\",\"\",IF('取得手続連絡 (5)'!$J$14='取得手続連絡 (5)'!$Z$3,1,2))","v":""},{"$f":"IF(LEN('取得手続連絡 (5)'!$Y$13)=8,'取得手続連絡 (5)'!$Y$13,\"\")","v":""},{"$f":"IF('取得手続連絡 (5)'!$B$14=\"\",\"\",CONCATENATE('取得手続連絡 (5)'!$B$14,'取得手続連絡 (5)'!$D$14,'取得手続連絡 (5)'!$E$14))","v":""},{"$f":"IF('取得手続連絡 (5)'!$B$15=\"\",\"\",'取得手続連絡 (5)'!$B$15)","v":""},{"$f":"IF('取得手続連絡 (5)'!$B$17=\"\",\"\",'取得手続連絡 (5)'!$B$17)","v":""},{"$f":"IF('取得手続連絡 (5)'!$B$16=\"\",\"\",'取得手続連絡 (5)'!$B$16)","v":""},{"$f":"IF('取得手続連絡 (5)'!$B$18=\"\",\"\",'取得手続連絡 (5)'!$B$18)","v":""},{"$f":"IF('取得手続連絡 (5)'!$M$14=\"\",\"\",CONCATENATE('取得手続連絡 (5)'!$M$14,'取得手続連絡 (5)'!$N$14,'取得手続連絡 (5)'!$O$14,'取得手続連絡 (5)'!$Q$14,'取得手続連絡 (5)'!$R$14))","v":""},{"$f":"IF(LEN('取得手続連絡 (5)'!$Y$16)=8,'取得手続連絡 (5)'!$Y$16,\"\")","v":""},"",{"$f":"IF('取得手続連絡 (5)'!$B$20=\"\",\"\",'取得手続連絡 (5)'!$B$20)","v":""},{"$f":"IF('取得手続連絡 (5)'!$G$20=\"\",\"\",'取得手続連絡 (5)'!$G$20)","v":""},"","",{"$f":"IF('取得手続連絡 (5)'!$B$22=\"\",\"\",'取得手続連絡 (5)'!$B$22)","v":""},{"$f":"IF('取得手続連絡 (5)'!$F$22=\"\",\"\",'取得手続連絡 (5)'!$F$22)","v":""},{"$f":"IF('取得手続連絡 (5)'!$K$22=\"\",\"\",'取得手続連絡 (5)'!$K$22)","v":""},"",{"$f":"IF('取得手続連絡 (5)'!$B$28=\"\",\"\",'取得手続連絡 (5)'!$B$28)","v":""},{"$f":"IF('取得手続連絡 (5)'!$G$28=\"\",\"\",'取得手続連絡 (5)'!$G$28)","v":""},{"$f":"IF('取得手続連絡 (5)'!$B$26=\"\",\"\",'取得手続連絡 (5)'!$B$26)","v":""},{"$f":"IF('取得手続連絡 (5)'!$G$26=\"\",\"\",'取得手続連絡 (5)'!$G$26)","v":""},{"$f":"IF(LEN('取得手続連絡 (5)'!$Y$29)=8,'取得手続連絡 (5)'!$Y$29,\"\")","v":""},{"$f":"IF('取得手続連絡 (5)'!$B$30=\"\",\"\",IF('取得手続連絡 (5)'!$B$30='取得手続連絡 (5)'!$Z$3,1,2))","v":""},{"$f":"IF('取得手続連絡 (5)'!$G$30=\"\",\"\",'取得手続連絡 (5)'!$G$30)","v":""},"",{"$f":"IF('取得手続連絡 (5)'!$B$39=\"\",\"\",'取得手続連絡 (5)'!$B$39)","v":""},{"$f":"IF('取得手続連絡 (5)'!$G$39=\"\",\"\",'取得手続連絡 (5)'!$G$39)","v":""},{"$f":"IF('取得手続連絡 (5)'!$B$37=\"\",\"\",'取得手続連絡 (5)'!$B$37)","v":""},{"$f":"IF('取得手続連絡 (5)'!$G$37=\"\",\"\",'取得手続連絡 (5)'!$G$37)","v":""},{"$f":"IF(LEN('取得手続連絡 (5)'!$Y$40)=8,'取得手続連絡 (5)'!$Y$40,\"\")","v":""},{"$f":"IF('取得手続連絡 (5)'!$B$41=\"\",\"\",IF('取得手続連絡 (5)'!$B$41='取得手続連絡 (5)'!$Z$3,1,2))","v":""},{"$f":"IF('取得手続連絡 (5)'!$G$41=\"\",\"\",'取得手続連絡 (5)'!$G$41)","v":""},"",{"$f":"IF('取得手続連絡 (5)'!$B$50=\"\",\"\",'取得手続連絡 (5)'!$B$50)","v":""},{"$f":"IF('取得手続連絡 (5)'!$G$50=\"\",\"\",'取得手続連絡 (5)'!$G$50)","v":""},{"$f":"IF('取得手続連絡 (5)'!$B$48=\"\",\"\",'取得手続連絡 (5)'!$B$48)","v":""},{"$f":"IF('取得手続連絡 (5)'!$G$48=\"\",\"\",'取得手続連絡 (5)'!$G$48)","v":""},{"$f":"IF(LEN('取得手続連絡 (5)'!$Y$51)=8,'取得手続連絡 (5)'!$Y$51,\"\")","v":""},{"$f":"IF('取得手続連絡 (5)'!$B$52=\"\",\"\",IF('取得手続連絡 (5)'!$B$52='取得手続連絡 (5)'!$Z$3,1,2))","v":""},{"$f":"IF('取得手続連絡 (5)'!$G$52=\"\",\"\",'取得手続連絡 (5)'!$G$52)","v":""},"",{"$f":"IF('取得手続連絡 (5)'!$B$61=\"\",\"\",'取得手続連絡 (5)'!$B$61)","v":""},{"$f":"IF('取得手続連絡 (5)'!$G$61=\"\",\"\",'取得手続連絡 (5)'!$G$61)","v":""},{"$f":"IF('取得手続連絡 (5)'!$B$59=\"\",\"\",'取得手続連絡 (5)'!$B$59)","v":""},{"$f":"IF('取得手続連絡 (5)'!$G$59=\"\",\"\",'取得手続連絡 (5)'!$G$59)","v":""},{"$f":"IF(LEN('取得手続連絡 (5)'!$Y$62)=8,'取得手続連絡 (5)'!$Y$62,\"\")","v":""},{"$f":"IF('取得手続連絡 (5)'!$B$63=\"\",\"\",IF('取得手続連絡 (5)'!$B$63='取得手続連絡 (5)'!$Z$3,1,2))","v":""},{"$f":"IF('取得手続連絡 (5)'!$G$63=\"\",\"\",'取得手続連絡 (5)'!$G$63)","v":""},"",{"$f":"IF('取得手続連絡 (5)'!$B$31=\"\",\"\",IF('取得手続連絡 (5)'!$B$31='取得手続連絡 (5)'!$AA$1,1,2))","v":""},{"$f":"IF('取得手続連絡 (5)'!$B$42=\"\",\"\",IF('取得手続連絡 (5)'!$B$42='取得手続連絡 (5)'!$AA$1,1,2))","v":""},{"$f":"IF('取得手続連絡 (5)'!$B$53=\"\",\"\",IF('取得手続連絡 (5)'!$B$53='取得手続連絡 (5)'!$AA$1,1,2))","v":""},{"$f":"IF('取得手続連絡 (5)'!$B$64=\"\",\"\",IF('取得手続連絡 (5)'!$B$64='取得手続連絡 (5)'!$AA$1,1,2))","v":""},{"$f":"IF('取得手続連絡 (5)'!$B$34=\"\",\"\",'取得手続連絡 (5)'!$B$34)","v":""},{"$f":"IF('取得手続連絡 (5)'!$G$34=\"\",\"\",'取得手続連絡 (5)'!$G$34)","v":""},{"$f":"IF('取得手続連絡 (5)'!$B$45=\"\",\"\",'取得手続連絡 (5)'!$B$45)","v":""},{"$f":"IF('取得手続連絡 (5)'!$G$45=\"\",\"\",'取得手続連絡 (5)'!$G$45)","v":""},{"$f":"IF('取得手続連絡 (5)'!$B$56=\"\",\"\",'取得手続連絡 (5)'!$B$56)","v":""},{"$f":"IF('取得手続連絡 (5)'!$G$56=\"\",\"\",'取得手続連絡 (5)'!$G$56)","v":""},{"$f":"IF('取得手続連絡 (5)'!$B$67=\"\",\"\",'取得手続連絡 (5)'!$B$67)","v":""},{"$f":"IF('取得手続連絡 (5)'!$G$67=\"\",\"\",'取得手続連絡 (5)'!$G$67)","v":""}]
["",null,{"$f":"IF('取得手続連絡 (6)'!$B$10=\"\",\"\",'取得手続連絡 (6)'!$B$10)","v":""},{"$f":"IF('取得手続連絡 (6)'!$G$10=\"\",\"\",'取得手続連絡 (6)'!$G$10)","v":""},{"$f":"IF('取得手続連絡 (6)'!$B$12=\"\",\"\",'取得手続連絡 (6)'!$B$12)","v":""},{"$f":"IF('取得手続連絡 (6)'!$G$12=\"\",\"\",'取得手続連絡 (6)'!$G$12)","v":""},{"$f":"IF('取得手続連絡 (6)'!$J$14=\"\",\"\",IF('取得手続連絡 (6)'!$J$14='取得手続連絡 (6)'!$Z$3,1,2))","v":""},{"$f":"IF(LEN('取得手続連絡 (6)'!$Y$13)=8,'取得手続連絡 (6)'!$Y$13,\"\")","v":""},{"$f":"IF('取得手続連絡 (6)'!$B$14=\"\",\"\",CONCATENATE('取得手続連絡 (6)'!$B$14,'取得手続連絡 (6)'!$D$14,'取得手続連絡 (6)'!$E$14))","v":""},{"$f":"IF('取得手続連絡 (6)'!$B$15=\"\",\"\",'取得手続連絡 (6)'!$B$15)","v":""},{"$f":"IF('取得手続連絡 (6)'!$B$17=\"\",\"\",'取得手続連絡 (6)'!$B$17)","v":""},{"$f":"IF('取得手続連絡 (6)'!$B$16=\"\",\"\",'取得手続連絡 (6)'!$B$16)","v":""},{"$f":"IF('取得手続連絡 (6)'!$B$18=\"\",\"\",'取得手続連絡 (6)'!$B$18)","v":""},{"$f":"IF('取得手続連絡 (6)'!$M$14=\"\",\"\",CONCATENATE('取得手続連絡 (6)'!$M$14,'取得手続連絡 (6)'!$N$14,'取得手続連絡 (6)'!$O$14,'取得手続連絡 (6)'!$Q$14,'取得手続連絡 (6)'!$R$14))","v":""},{"$f":"IF(LEN('取得手続連絡 (6)'!$Y$16)=8,'取得手続連絡 (6)'!$Y$16,\"\")","v":""},"",{"$f":"IF('取得手続連絡 (6)'!$B$20=\"\",\"\",'取得手続連絡 (6)'!$B$20)","v":""},{"$f":"IF('取得手続連絡 (6)'!$G$20=\"\",\"\",'取得手続連絡 (6)'!$G$20)","v":""},"","",{"$f":"IF('取得手続連絡 (6)'!$B$22=\"\",\"\",'取得手続連絡 (6)'!$B$22)","v":""},{"$f":"IF('取得手続連絡 (6)'!$F$22=\"\",\"\",'取得手続連絡 (6)'!$F$22)","v":""},{"$f":"IF('取得手続連絡 (6)'!$K$22=\"\",\"\",'取得手続連絡 (6)'!$K$22)","v":""},"",{"$f":"IF('取得手続連絡 (6)'!$B$28=\"\",\"\",'取得手続連絡 (6)'!$B$28)","v":""},{"$f":"IF('取得手続連絡 (6)'!$G$28=\"\",\"\",'取得手続連絡 (6)'!$G$28)","v":""},{"$f":"IF('取得手続連絡 (6)'!$B$26=\"\",\"\",'取得手続連絡 (6)'!$B$26)","v":""},{"$f":"IF('取得手続連絡 (6)'!$G$26=\"\",\"\",'取得手続連絡 (6)'!$G$26)","v":""},{"$f":"IF(LEN('取得手続連絡 (6)'!$Y$29)=8,'取得手続連絡 (6)'!$Y$29,\"\")","v":""},{"$f":"IF('取得手続連絡 (6)'!$B$30=\"\",\"\",IF('取得手続連絡 (6)'!$B$30='取得手続連絡 (6)'!$Z$3,1,2))","v":""},{"$f":"IF('取得手続連絡 (6)'!$G$30=\"\",\"\",'取得手続連絡 (6)'!$G$30)","v":""},"",{"$f":"IF('取得手続連絡 (6)'!$B$39=\"\",\"\",'取得手続連絡 (6)'!$B$39)","v":""},{"$f":"IF('取得手続連絡 (6)'!$G$39=\"\",\"\",'取得手続連絡 (6)'!$G$39)","v":""},{"$f":"IF('取得手続連絡 (6)'!$B$37=\"\",\"\",'取得手続連絡 (6)'!$B$37)","v":""},{"$f":"IF('取得手続連絡 (6)'!$G$37=\"\",\"\",'取得手続連絡 (6)'!$G$37)","v":""},{"$f":"IF(LEN('取得手続連絡 (6)'!$Y$40)=8,'取得手続連絡 (6)'!$Y$40,\"\")","v":""},{"$f":"IF('取得手続連絡 (6)'!$B$41=\"\",\"\",IF('取得手続連絡 (6)'!$B$41='取得手続連絡 (6)'!$Z$3,1,2))","v":""},{"$f":"IF('取得手続連絡 (6)'!$G$41=\"\",\"\",'取得手続連絡 (6)'!$G$41)","v":""},"",{"$f":"IF('取得手続連絡 (6)'!$B$50=\"\",\"\",'取得手続連絡 (6)'!$B$50)","v":""},{"$f":"IF('取得手続連絡 (6)'!$G$50=\"\",\"\",'取得手続連絡 (6)'!$G$50)","v":""},{"$f":"IF('取得手続連絡 (6)'!$B$48=\"\",\"\",'取得手続連絡 (6)'!$B$48)","v":""},{"$f":"IF('取得手続連絡 (6)'!$G$48=\"\",\"\",'取得手続連絡 (6)'!$G$48)","v":""},{"$f":"IF(LEN('取得手続連絡 (6)'!$Y$51)=8,'取得手続連絡 (6)'!$Y$51,\"\")","v":""},{"$f":"IF('取得手続連絡 (6)'!$B$52=\"\",\"\",IF('取得手続連絡 (6)'!$B$52='取得手続連絡 (6)'!$Z$3,1,2))","v":""},{"$f":"IF('取得手続連絡 (6)'!$G$52=\"\",\"\",'取得手続連絡 (6)'!$G$52)","v":""},"",{"$f":"IF('取得手続連絡 (6)'!$B$61=\"\",\"\",'取得手続連絡 (6)'!$B$61)","v":""},{"$f":"IF('取得手続連絡 (6)'!$G$61=\"\",\"\",'取得手続連絡 (6)'!$G$61)","v":""},{"$f":"IF('取得手続連絡 (6)'!$B$59=\"\",\"\",'取得手続連絡 (6)'!$B$59)","v":""},{"$f":"IF('取得手続連絡 (6)'!$G$59=\"\",\"\",'取得手続連絡 (6)'!$G$59)","v":""},{"$f":"IF(LEN('取得手続連絡 (6)'!$Y$62)=8,'取得手続連絡 (6)'!$Y$62,\"\")","v":""},{"$f":"IF('取得手続連絡 (6)'!$B$63=\"\",\"\",IF('取得手続連絡 (6)'!$B$63='取得手続連絡 (6)'!$Z$3,1,2))","v":""},{"$f":"IF('取得手続連絡 (6)'!$G$63=\"\",\"\",'取得手続連絡 (6)'!$G$63)","v":""},"",{"$f":"IF('取得手続連絡 (6)'!$B$31=\"\",\"\",IF('取得手続連絡 (6)'!$B$31='取得手続連絡 (6)'!$AA$1,1,2))","v":""},{"$f":"IF('取得手続連絡 (6)'!$B$42=\"\",\"\",IF('取得手続連絡 (6)'!$B$42='取得手続連絡 (6)'!$AA$1,1,2))","v":""},{"$f":"IF('取得手続連絡 (6)'!$B$53=\"\",\"\",IF('取得手続連絡 (6)'!$B$53='取得手続連絡 (6)'!$AA$1,1,2))","v":""},{"$f":"IF('取得手続連絡 (6)'!$B$64=\"\",\"\",IF('取得手続連絡 (6)'!$B$64='取得手続連絡 (6)'!$AA$1,1,2))","v":""},{"$f":"IF('取得手続連絡 (6)'!$B$34=\"\",\"\",'取得手続連絡 (6)'!$B$34)","v":""},{"$f":"IF('取得手続連絡 (6)'!$G$34=\"\",\"\",'取得手続連絡 (6)'!$G$34)","v":""},{"$f":"IF('取得手続連絡 (6)'!$B$45=\"\",\"\",'取得手続連絡 (6)'!$B$45)","v":""},{"$f":"IF('取得手続連絡 (6)'!$G$45=\"\",\"\",'取得手続連絡 (6)'!$G$45)","v":""},{"$f":"IF('取得手続連絡 (6)'!$B$56=\"\",\"\",'取得手続連絡 (6)'!$B$56)","v":""},{"$f":"IF('取得手続連絡 (6)'!$G$56=\"\",\"\",'取得手続連絡 (6)'!$G$56)","v":""},{"$f":"IF('取得手続連絡 (6)'!$B$67=\"\",\"\",'取得手続連絡 (6)'!$B$67)","v":""},{"$f":"IF('取得手続連絡 (6)'!$G$67=\"\",\"\",'取得手続連絡 (6)'!$G$67)","v":""}]
["",null,{"$f":"IF('取得手続連絡 (7)'!$B$10=\"\",\"\",'取得手続連絡 (7)'!$B$10)","v":""},{"$f":"IF('取得手続連絡 (7)'!$G$10=\"\",\"\",'取得手続連絡 (7)'!$G$10)","v":""},{"$f":"IF('取得手続連絡 (7)'!$B$12=\"\",\"\",'取得手続連絡 (7)'!$B$12)","v":""},{"$f":"IF('取得手続連絡 (7)'!$G$12=\"\",\"\",'取得手続連絡 (7)'!$G$12)","v":""},{"$f":"IF('取得手続連絡 (7)'!$J$14=\"\",\"\",IF('取得手続連絡 (7)'!$J$14='取得手続連絡 (7)'!$Z$3,1,2))","v":""},{"$f":"IF(LEN('取得手続連絡 (7)'!$Y$13)=8,'取得手続連絡 (7)'!$Y$13,\"\")","v":""},{"$f":"IF('取得手続連絡 (7)'!$B$14=\"\",\"\",CONCATENATE('取得手続連絡 (7)'!$B$14,'取得手続連絡 (7)'!$D$14,'取得手続連絡 (7)'!$E$14))","v":""},{"$f":"IF('取得手続連絡 (7)'!$B$15=\"\",\"\",'取得手続連絡 (7)'!$B$15)","v":""},{"$f":"IF('取得手続連絡 (7)'!$B$17=\"\",\"\",'取得手続連絡 (7)'!$B$17)","v":""},{"$f":"IF('取得手続連絡 (7)'!$B$16=\"\",\"\",'取得手続連絡 (7)'!$B$16)","v":""},{"$f":"IF('取得手続連絡 (7)'!$B$18=\"\",\"\",'取得手続連絡 (7)'!$B$18)","v":""},{"$f":"IF('取得手続連絡 (7)'!$M$14=\"\",\"\",CONCATENATE('取得手続連絡 (7)'!$M$14,'取得手続連絡 (7)'!$N$14,'取得手続連絡 (7)'!$O$14,'取得手続連絡 (7)'!$Q$14,'取得手続連絡 (7)'!$R$14))","v":""},{"$f":"IF(LEN('取得手続連絡 (7)'!$Y$16)=8,'取得手続連絡 (7)'!$Y$16,\"\")","v":""},"",{"$f":"IF('取得手続連絡 (7)'!$B$20=\"\",\"\",'取得手続連絡 (7)'!$B$20)","v":""},{"$f":"IF('取得手続連絡 (7)'!$G$20=\"\",\"\",'取得手続連絡 (7)'!$G$20)","v":""},"","",{"$f":"IF('取得手続連絡 (7)'!$B$22=\"\",\"\",'取得手続連絡 (7)'!$B$22)","v":""},{"$f":"IF('取得手続連絡 (7)'!$F$22=\"\",\"\",'取得手続連絡 (7)'!$F$22)","v":""},{"$f":"IF('取得手続連絡 (7)'!$K$22=\"\",\"\",'取得手続連絡 (7)'!$K$22)","v":""},"",{"$f":"IF('取得手続連絡 (7)'!$B$28=\"\",\"\",'取得手続連絡 (7)'!$B$28)","v":""},{"$f":"IF('取得手続連絡 (7)'!$G$28=\"\",\"\",'取得手続連絡 (7)'!$G$28)","v":""},{"$f":"IF('取得手続連絡 (7)'!$B$26=\"\",\"\",'取得手続連絡 (7)'!$B$26)","v":""},{"$f":"IF('取得手続連絡 (7)'!$G$26=\"\",\"\",'取得手続連絡 (7)'!$G$26)","v":""},{"$f":"IF(LEN('取得手続連絡 (7)'!$Y$29)=8,'取得手続連絡 (7)'!$Y$29,\"\")","v":""},{"$f":"IF('取得手続連絡 (7)'!$B$30=\"\",\"\",IF('取得手続連絡 (7)'!$B$30='取得手続連絡 (7)'!$Z$3,1,2))","v":""},{"$f":"IF('取得手続連絡 (7)'!$G$30=\"\",\"\",'取得手続連絡 (7)'!$G$30)","v":""},"",{"$f":"IF('取得手続連絡 (7)'!$B$39=\"\",\"\",'取得手続連絡 (7)'!$B$39)","v":""},{"$f":"IF('取得手続連絡 (7)'!$G$39=\"\",\"\",'取得手続連絡 (7)'!$G$39)","v":""},{"$f":"IF('取得手続連絡 (7)'!$B$37=\"\",\"\",'取得手続連絡 (7)'!$B$37)","v":""},{"$f":"IF('取得手続連絡 (7)'!$G$37=\"\",\"\",'取得手続連絡 (7)'!$G$37)","v":""},{"$f":"IF(LEN('取得手続連絡 (7)'!$Y$40)=8,'取得手続連絡 (7)'!$Y$40,\"\")","v":""},{"$f":"IF('取得手続連絡 (7)'!$B$41=\"\",\"\",IF('取得手続連絡 (7)'!$B$41='取得手続連絡 (7)'!$Z$3,1,2))","v":""},{"$f":"IF('取得手続連絡 (7)'!$G$41=\"\",\"\",'取得手続連絡 (7)'!$G$41)","v":""},"",{"$f":"IF('取得手続連絡 (7)'!$B$50=\"\",\"\",'取得手続連絡 (7)'!$B$50)","v":""},{"$f":"IF('取得手続連絡 (7)'!$G$50=\"\",\"\",'取得手続連絡 (7)'!$G$50)","v":""},{"$f":"IF('取得手続連絡 (7)'!$B$48=\"\",\"\",'取得手続連絡 (7)'!$B$48)","v":""},{"$f":"IF('取得手続連絡 (7)'!$G$48=\"\",\"\",'取得手続連絡 (7)'!$G$48)","v":""},{"$f":"IF(LEN('取得手続連絡 (7)'!$Y$51)=8,'取得手続連絡 (7)'!$Y$51,\"\")","v":""},{"$f":"IF('取得手続連絡 (7)'!$B$52=\"\",\"\",IF('取得手続連絡 (7)'!$B$52='取得手続連絡 (7)'!$Z$3,1,2))","v":""},{"$f":"IF('取得手続連絡 (7)'!$G$52=\"\",\"\",'取得手続連絡 (7)'!$G$52)","v":""},"",{"$f":"IF('取得手続連絡 (7)'!$B$61=\"\",\"\",'取得手続連絡 (7)'!$B$61)","v":""},{"$f":"IF('取得手続連絡 (7)'!$G$61=\"\",\"\",'取得手続連絡 (7)'!$G$61)","v":""},{"$f":"IF('取得手続連絡 (7)'!$B$59=\"\",\"\",'取得手続連絡 (7)'!$B$59)","v":""},{"$f":"IF('取得手続連絡 (7)'!$G$59=\"\",\"\",'取得手続連絡 (7)'!$G$59)","v":""},{"$f":"IF(LEN('取得手続連絡 (7)'!$Y$62)=8,'取得手続連絡 (7)'!$Y$62,\"\")","v":""},{"$f":"IF('取得手続連絡 (7)'!$B$63=\"\",\"\",IF('取得手続連絡 (7)'!$B$63='取得手続連絡 (7)'!$Z$3,1,2))","v":""},{"$f":"IF('取得手続連絡 (7)'!$G$63=\"\",\"\",'取得手続連絡 (7)'!$G$63)","v":""},"",{"$f":"IF('取得手続連絡 (7)'!$B$31=\"\",\"\",IF('取得手続連絡 (7)'!$B$31='取得手続連絡 (7)'!$AA$1,1,2))","v":""},{"$f":"IF('取得手続連絡 (7)'!$B$42=\"\",\"\",IF('取得手続連絡 (7)'!$B$42='取得手続連絡 (7)'!$AA$1,1,2))","v":""},{"$f":"IF('取得手続連絡 (7)'!$B$53=\"\",\"\",IF('取得手続連絡 (7)'!$B$53='取得手続連絡 (7)'!$AA$1,1,2))","v":""},{"$f":"IF('取得手続連絡 (7)'!$B$64=\"\",\"\",IF('取得手続連絡 (7)'!$B$64='取得手続連絡 (7)'!$AA$1,1,2))","v":""},{"$f":"IF('取得手続連絡 (7)'!$B$34=\"\",\"\",'取得手続連絡 (7)'!$B$34)","v":""},{"$f":"IF('取得手続連絡 (7)'!$G$34=\"\",\"\",'取得手続連絡 (7)'!$G$34)","v":""},{"$f":"IF('取得手続連絡 (7)'!$B$45=\"\",\"\",'取得手続連絡 (7)'!$B$45)","v":""},{"$f":"IF('取得手続連絡 (7)'!$G$45=\"\",\"\",'取得手続連絡 (7)'!$G$45)","v":""},{"$f":"IF('取得手続連絡 (7)'!$B$56=\"\",\"\",'取得手続連絡 (7)'!$B$56)","v":""},{"$f":"IF('取得手続連絡 (7)'!$G$56=\"\",\"\",'取得手続連絡 (7)'!$G$56)","v":""},{"$f":"IF('取得手続連絡 (7)'!$B$67=\"\",\"\",'取得手続連絡 (7)'!$B$67)","v":""},{"$f":"IF('取得手続連絡 (7)'!$G$67=\"\",\"\",'取得手続連絡 (7)'!$G$67)","v":""}]
["",null,{"$f":"IF('取得手続連絡 (8)'!$B$10=\"\",\"\",'取得手続連絡 (8)'!$B$10)","v":""},{"$f":"IF('取得手続連絡 (8)'!$G$10=\"\",\"\",'取得手続連絡 (8)'!$G$10)","v":""},{"$f":"IF('取得手続連絡 (8)'!$B$12=\"\",\"\",'取得手続連絡 (8)'!$B$12)","v":""},{"$f":"IF('取得手続連絡 (8)'!$G$12=\"\",\"\",'取得手続連絡 (8)'!$G$12)","v":""},{"$f":"IF('取得手続連絡 (8)'!$J$14=\"\",\"\",IF('取得手続連絡 (8)'!$J$14='取得手続連絡 (8)'!$Z$3,1,2))","v":""},{"$f":"IF(LEN('取得手続連絡 (8)'!$Y$13)=8,'取得手続連絡 (8)'!$Y$13,\"\")","v":""},{"$f":"IF('取得手続連絡 (8)'!$B$14=\"\",\"\",CONCATENATE('取得手続連絡 (8)'!$B$14,'取得手続連絡 (8)'!$D$14,'取得手続連絡 (8)'!$E$14))","v":""},{"$f":"IF('取得手続連絡 (8)'!$B$15=\"\",\"\",'取得手続連絡 (8)'!$B$15)","v":""},{"$f":"IF('取得手続連絡 (8)'!$B$17=\"\",\"\",'取得手続連絡 (8)'!$B$17)","v":""},{"$f":"IF('取得手続連絡 (8)'!$B$16=\"\",\"\",'取得手続連絡 (8)'!$B$16)","v":""},{"$f":"IF('取得手続連絡 (8)'!$B$18=\"\",\"\",'取得手続連絡 (8)'!$B$18)","v":""},{"$f":"IF('取得手続連絡 (8)'!$M$14=\"\",\"\",CONCATENATE('取得手続連絡 (8)'!$M$14,'取得手続連絡 (8)'!$N$14,'取得手続連絡 (8)'!$O$14,'取得手続連絡 (8)'!$Q$14,'取得手続連絡 (8)'!$R$14))","v":""},{"$f":"IF(LEN('取得手続連絡 (8)'!$Y$16)=8,'取得手続連絡 (8)'!$Y$16,\"\")","v":""},"",{"$f":"IF('取得手続連絡 (8)'!$B$20=\"\",\"\",'取得手続連絡 (8)'!$B$20)","v":""},{"$f":"IF('取得手続連絡 (8)'!$G$20=\"\",\"\",'取得手続連絡 (8)'!$G$20)","v":""},"","",{"$f":"IF('取得手続連絡 (8)'!$B$22=\"\",\"\",'取得手続連絡 (8)'!$B$22)","v":""},{"$f":"IF('取得手続連絡 (8)'!$F$22=\"\",\"\",'取得手続連絡 (8)'!$F$22)","v":""},{"$f":"IF('取得手続連絡 (8)'!$K$22=\"\",\"\",'取得手続連絡 (8)'!$K$22)","v":""},"",{"$f":"IF('取得手続連絡 (8)'!$B$28=\"\",\"\",'取得手続連絡 (8)'!$B$28)","v":""},{"$f":"IF('取得手続連絡 (8)'!$G$28=\"\",\"\",'取得手続連絡 (8)'!$G$28)","v":""},{"$f":"IF('取得手続連絡 (8)'!$B$26=\"\",\"\",'取得手続連絡 (8)'!$B$26)","v":""},{"$f":"IF('取得手続連絡 (8)'!$G$26=\"\",\"\",'取得手続連絡 (8)'!$G$26)","v":""},{"$f":"IF(LEN('取得手続連絡 (8)'!$Y$29)=8,'取得手続連絡 (8)'!$Y$29,\"\")","v":""},{"$f":"IF('取得手続連絡 (8)'!$B$30=\"\",\"\",IF('取得手続連絡 (8)'!$B$30='取得手続連絡 (8)'!$Z$3,1,2))","v":""},{"$f":"IF('取得手続連絡 (8)'!$G$30=\"\",\"\",'取得手続連絡 (8)'!$G$30)","v":""},"",{"$f":"IF('取得手続連絡 (8)'!$B$39=\"\",\"\",'取得手続連絡 (8)'!$B$39)","v":""},{"$f":"IF('取得手続連絡 (8)'!$G$39=\"\",\"\",'取得手続連絡 (8)'!$G$39)","v":""},{"$f":"IF('取得手続連絡 (8)'!$B$37=\"\",\"\",'取得手続連絡 (8)'!$B$37)","v":""},{"$f":"IF('取得手続連絡 (8)'!$G$37=\"\",\"\",'取得手続連絡 (8)'!$G$37)","v":""},{"$f":"IF(LEN('取得手続連絡 (8)'!$Y$40)=8,'取得手続連絡 (8)'!$Y$40,\"\")","v":""},{"$f":"IF('取得手続連絡 (8)'!$B$41=\"\",\"\",IF('取得手続連絡 (8)'!$B$41='取得手続連絡 (8)'!$Z$3,1,2))","v":""},{"$f":"IF('取得手続連絡 (8)'!$G$41=\"\",\"\",'取得手続連絡 (8)'!$G$41)","v":""},"",{"$f":"IF('取得手続連絡 (8)'!$B$50=\"\",\"\",'取得手続連絡 (8)'!$B$50)","v":""},{"$f":"IF('取得手続連絡 (8)'!$G$50=\"\",\"\",'取得手続連絡 (8)'!$G$50)","v":""},{"$f":"IF('取得手続連絡 (8)'!$B$48=\"\",\"\",'取得手続連絡 (8)'!$B$48)","v":""},{"$f":"IF('取得手続連絡 (8)'!$G$48=\"\",\"\",'取得手続連絡 (8)'!$G$48)","v":""},{"$f":"IF(LEN('取得手続連絡 (8)'!$Y$51)=8,'取得手続連絡 (8)'!$Y$51,\"\")","v":""},{"$f":"IF('取得手続連絡 (8)'!$B$52=\"\",\"\",IF('取得手続連絡 (8)'!$B$52='取得手続連絡 (8)'!$Z$3,1,2))","v":""},{"$f":"IF('取得手続連絡 (8)'!$G$52=\"\",\"\",'取得手続連絡 (8)'!$G$52)","v":""},"",{"$f":"IF('取得手続連絡 (8)'!$B$61=\"\",\"\",'取得手続連絡 (8)'!$B$61)","v":""},{"$f":"IF('取得手続連絡 (8)'!$G$61=\"\",\"\",'取得手続連絡 (8)'!$G$61)","v":""},{"$f":"IF('取得手続連絡 (8)'!$B$59=\"\",\"\",'取得手続連絡 (8)'!$B$59)","v":""},{"$f":"IF('取得手続連絡 (8)'!$G$59=\"\",\"\",'取得手続連絡 (8)'!$G$59)","v":""},{"$f":"IF(LEN('取得手続連絡 (8)'!$Y$62)=8,'取得手続連絡 (8)'!$Y$62,\"\")","v":""},{"$f":"IF('取得手続連絡 (8)'!$B$63=\"\",\"\",IF('取得手続連絡 (8)'!$B$63='取得手続連絡 (8)'!$Z$3,1,2))","v":""},{"$f":"IF('取得手続連絡 (8)'!$G$63=\"\",\"\",'取得手続連絡 (8)'!$G$63)","v":""},"",{"$f":"IF('取得手続連絡 (8)'!$B$31=\"\",\"\",IF('取得手続連絡 (8)'!$B$31='取得手続連絡 (8)'!$AA$1,1,2))","v":""},{"$f":"IF('取得手続連絡 (8)'!$B$42=\"\",\"\",IF('取得手続連絡 (8)'!$B$42='取得手続連絡 (8)'!$AA$1,1,2))","v":""},{"$f":"IF('取得手続連絡 (8)'!$B$53=\"\",\"\",IF('取得手続連絡 (8)'!$B$53='取得手続連絡 (8)'!$AA$1,1,2))","v":""},{"$f":"IF('取得手続連絡 (8)'!$B$64=\"\",\"\",IF('取得手続連絡 (8)'!$B$64='取得手続連絡 (8)'!$AA$1,1,2))","v":""},{"$f":"IF('取得手続連絡 (8)'!$B$34=\"\",\"\",'取得手続連絡 (8)'!$B$34)","v":""},{"$f":"IF('取得手続連絡 (8)'!$G$34=\"\",\"\",'取得手続連絡 (8)'!$G$34)","v":""},{"$f":"IF('取得手続連絡 (8)'!$B$45=\"\",\"\",'取得手続連絡 (8)'!$B$45)","v":""},{"$f":"IF('取得手続連絡 (8)'!$G$45=\"\",\"\",'取得手続連絡 (8)'!$G$45)","v":""},{"$f":"IF('取得手続連絡 (8)'!$B$56=\"\",\"\",'取得手続連絡 (8)'!$B$56)","v":""},{"$f":"IF('取得手続連絡 (8)'!$G$56=\"\",\"\",'取得手続連絡 (8)'!$G$56)","v":""},{"$f":"IF('取得手続連絡 (8)'!$B$67=\"\",\"\",'取得手続連絡 (8)'!$B$67)","v":""},{"$f":"IF('取得手続連絡 (8)'!$G$67=\"\",\"\",'取得手続連絡 (8)'!$G$67)","v":""}]
["",null,{"$f":"IF('取得手続連絡 (9)'!$B$10=\"\",\"\",'取得手続連絡 (9)'!$B$10)","v":""},{"$f":"IF('取得手続連絡 (9)'!$G$10=\"\",\"\",'取得手続連絡 (9)'!$G$10)","v":""},{"$f":"IF('取得手続連絡 (9)'!$B$12=\"\",\"\",'取得手続連絡 (9)'!$B$12)","v":""},{"$f":"IF('取得手続連絡 (9)'!$G$12=\"\",\"\",'取得手続連絡 (9)'!$G$12)","v":""},{"$f":"IF('取得手続連絡 (9)'!$J$14=\"\",\"\",IF('取得手続連絡 (9)'!$J$14='取得手続連絡 (9)'!$Z$3,1,2))","v":""},{"$f":"IF(LEN('取得手続連絡 (9)'!$Y$13)=8,'取得手続連絡 (9)'!$Y$13,\"\")","v":""},{"$f":"IF('取得手続連絡 (9)'!$B$14=\"\",\"\",CONCATENATE('取得手続連絡 (9)'!$B$14,'取得手続連絡 (9)'!$D$14,'取得手続連絡 (9)'!$E$14))","v":""},{"$f":"IF('取得手続連絡 (9)'!$B$15=\"\",\"\",'取得手続連絡 (9)'!$B$15)","v":""},{"$f":"IF('取得手続連絡 (9)'!$B$17=\"\",\"\",'取得手続連絡 (9)'!$B$17)","v":""},{"$f":"IF('取得手続連絡 (9)'!$B$16=\"\",\"\",'取得手続連絡 (9)'!$B$16)","v":""},{"$f":"IF('取得手続連絡 (9)'!$B$18=\"\",\"\",'取得手続連絡 (9)'!$B$18)","v":""},{"$f":"IF('取得手続連絡 (9)'!$M$14=\"\",\"\",CONCATENATE('取得手続連絡 (9)'!$M$14,'取得手続連絡 (9)'!$N$14,'取得手続連絡 (9)'!$O$14,'取得手続連絡 (9)'!$Q$14,'取得手続連絡 (9)'!$R$14))","v":""},{"$f":"IF(LEN('取得手続連絡 (9)'!$Y$16)=8,'取得手続連絡 (9)'!$Y$16,\"\")","v":""},"",{"$f":"IF('取得手続連絡 (9)'!$B$20=\"\",\"\",'取得手続連絡 (9)'!$B$20)","v":""},{"$f":"IF('取得手続連絡 (9)'!$G$20=\"\",\"\",'取得手続連絡 (9)'!$G$20)","v":""},"","",{"$f":"IF('取得手続連絡 (9)'!$B$22=\"\",\"\",'取得手続連絡 (9)'!$B$22)","v":""},{"$f":"IF('取得手続連絡 (9)'!$F$22=\"\",\"\",'取得手続連絡 (9)'!$F$22)","v":""},{"$f":"IF('取得手続連絡 (9)'!$K$22=\"\",\"\",'取得手続連絡 (9)'!$K$22)","v":""},"",{"$f":"IF('取得手続連絡 (9)'!$B$28=\"\",\"\",'取得手続連絡 (9)'!$B$28)","v":""},{"$f":"IF('取得手続連絡 (9)'!$G$28=\"\",\"\",'取得手続連絡 (9)'!$G$28)","v":""},{"$f":"IF('取得手続連絡 (9)'!$B$26=\"\",\"\",'取得手続連絡 (9)'!$B$26)","v":""},{"$f":"IF('取得手続連絡 (9)'!$G$26=\"\",\"\",'取得手続連絡 (9)'!$G$26)","v":""},{"$f":"IF(LEN('取得手続連絡 (9)'!$Y$29)=8,'取得手続連絡 (9)'!$Y$29,\"\")","v":""},{"$f":"IF('取得手続連絡 (9)'!$B$30=\"\",\"\",IF('取得手続連絡 (9)'!$B$30='取得手続連絡 (9)'!$Z$3,1,2))","v":""},{"$f":"IF('取得手続連絡 (9)'!$G$30=\"\",\"\",'取得手続連絡 (9)'!$G$30)","v":""},"",{"$f":"IF('取得手続連絡 (9)'!$B$39=\"\",\"\",'取得手続連絡 (9)'!$B$39)","v":""},{"$f":"IF('取得手続連絡 (9)'!$G$39=\"\",\"\",'取得手続連絡 (9)'!$G$39)","v":""},{"$f":"IF('取得手続連絡 (9)'!$B$37=\"\",\"\",'取得手続連絡 (9)'!$B$37)","v":""},{"$f":"IF('取得手続連絡 (9)'!$G$37=\"\",\"\",'取得手続連絡 (9)'!$G$37)","v":""},{"$f":"IF(LEN('取得手続連絡 (9)'!$Y$40)=8,'取得手続連絡 (9)'!$Y$40,\"\")","v":""},{"$f":"IF('取得手続連絡 (9)'!$B$41=\"\",\"\",IF('取得手続連絡 (9)'!$B$41='取得手続連絡 (9)'!$Z$3,1,2))","v":""},{"$f":"IF('取得手続連絡 (9)'!$G$41=\"\",\"\",'取得手続連絡 (9)'!$G$41)","v":""},"",{"$f":"IF('取得手続連絡 (9)'!$B$50=\"\",\"\",'取得手続連絡 (9)'!$B$50)","v":""},{"$f":"IF('取得手続連絡 (9)'!$G$50=\"\",\"\",'取得手続連絡 (9)'!$G$50)","v":""},{"$f":"IF('取得手続連絡 (9)'!$B$48=\"\",\"\",'取得手続連絡 (9)'!$B$48)","v":""},{"$f":"IF('取得手続連絡 (9)'!$G$48=\"\",\"\",'取得手続連絡 (9)'!$G$48)","v":""},{"$f":"IF(LEN('取得手続連絡 (9)'!$Y$51)=8,'取得手続連絡 (9)'!$Y$51,\"\")","v":""},{"$f":"IF('取得手続連絡 (9)'!$B$52=\"\",\"\",IF('取得手続連絡 (9)'!$B$52='取得手続連絡 (9)'!$Z$3,1,2))","v":""},{"$f":"IF('取得手続連絡 (9)'!$G$52=\"\",\"\",'取得手続連絡 (9)'!$G$52)","v":""},"",{"$f":"IF('取得手続連絡 (9)'!$B$61=\"\",\"\",'取得手続連絡 (9)'!$B$61)","v":""},{"$f":"IF('取得手続連絡 (9)'!$G$61=\"\",\"\",'取得手続連絡 (9)'!$G$61)","v":""},{"$f":"IF('取得手続連絡 (9)'!$B$59=\"\",\"\",'取得手続連絡 (9)'!$B$59)","v":""},{"$f":"IF('取得手続連絡 (9)'!$G$59=\"\",\"\",'取得手続連絡 (9)'!$G$59)","v":""},{"$f":"IF(LEN('取得手続連絡 (9)'!$Y$62)=8,'取得手続連絡 (9)'!$Y$62,\"\")","v":""},{"$f":"IF('取得手続連絡 (9)'!$B$63=\"\",\"\",IF('取得手続連絡 (9)'!$B$63='取得手続連絡 (9)'!$Z$3,1,2))","v":""},{"$f":"IF('取得手続連絡 (9)'!$G$63=\"\",\"\",'取得手続連絡 (9)'!$G$63)","v":""},"",{"$f":"IF('取得手続連絡 (9)'!$B$31=\"\",\"\",IF('取得手続連絡 (9)'!$B$31='取得手続連絡 (9)'!$AA$1,1,2))","v":""},{"$f":"IF('取得手続連絡 (9)'!$B$42=\"\",\"\",IF('取得手続連絡 (9)'!$B$42='取得手続連絡 (9)'!$AA$1,1,2))","v":""},{"$f":"IF('取得手続連絡 (9)'!$B$53=\"\",\"\",IF('取得手続連絡 (9)'!$B$53='取得手続連絡 (9)'!$AA$1,1,2))","v":""},{"$f":"IF('取得手続連絡 (9)'!$B$64=\"\",\"\",IF('取得手続連絡 (9)'!$B$64='取得手続連絡 (9)'!$AA$1,1,2))","v":""},{"$f":"IF('取得手続連絡 (9)'!$B$34=\"\",\"\",'取得手続連絡 (9)'!$B$34)","v":""},{"$f":"IF('取得手続連絡 (9)'!$G$34=\"\",\"\",'取得手続連絡 (9)'!$G$34)","v":""},{"$f":"IF('取得手続連絡 (9)'!$B$45=\"\",\"\",'取得手続連絡 (9)'!$B$45)","v":""},{"$f":"IF('取得手続連絡 (9)'!$G$45=\"\",\"\",'取得手続連絡 (9)'!$G$45)","v":""},{"$f":"IF('取得手続連絡 (9)'!$B$56=\"\",\"\",'取得手続連絡 (9)'!$B$56)","v":""},{"$f":"IF('取得手続連絡 (9)'!$G$56=\"\",\"\",'取得手続連絡 (9)'!$G$56)","v":""},{"$f":"IF('取得手続連絡 (9)'!$B$67=\"\",\"\",'取得手続連絡 (9)'!$B$67)","v":""},{"$f":"IF('取得手続連絡 (9)'!$G$67=\"\",\"\",'取得手続連絡 (9)'!$G$67)","v":""}]
["",null,{"$f":"IF('取得手続連絡 (10)'!$B$10=\"\",\"\",'取得手続連絡 (10)'!$B$10)","v":""},{"$f":"IF('取得手続連絡 (10)'!$G$10=\"\",\"\",'取得手続連絡 (10)'!$G$10)","v":""},{"$f":"IF('取得手続連絡 (10)'!$B$12=\"\",\"\",'取得手続連絡 (10)'!$B$12)","v":""},{"$f":"IF('取得手続連絡 (10)'!$G$12=\"\",\"\",'取得手続連絡 (10)'!$G$12)","v":""},{"$f":"IF('取得手続連絡 (10)'!$J$14=\"\",\"\",IF('取得手続連絡 (10)'!$J$14='取得手続連絡 (10)'!$Z$3,1,2))","v":""},{"$f":"IF(LEN('取得手続連絡 (10)'!$Y$13)=8,'取得手続連絡 (10)'!$Y$13,\"\")","v":""},{"$f":"IF('取得手続連絡 (10)'!$B$14=\"\",\"\",CONCATENATE('取得手続連絡 (10)'!$B$14,'取得手続連絡 (10)'!$D$14,'取得手続連絡 (10)'!$E$14))","v":""},{"$f":"IF('取得手続連絡 (10)'!$B$15=\"\",\"\",'取得手続連絡 (10)'!$B$15)","v":""},{"$f":"IF('取得手続連絡 (10)'!$B$17=\"\",\"\",'取得手続連絡 (10)'!$B$17)","v":""},{"$f":"IF('取得手続連絡 (10)'!$B$16=\"\",\"\",'取得手続連絡 (10)'!$B$16)","v":""},{"$f":"IF('取得手続連絡 (10)'!$B$18=\"\",\"\",'取得手続連絡 (10)'!$B$18)","v":""},{"$f":"IF('取得手続連絡 (10)'!$M$14=\"\",\"\",CONCATENATE('取得手続連絡 (10)'!$M$14,'取得手続連絡 (10)'!$N$14,'取得手続連絡 (10)'!$O$14,'取得手続連絡 (10)'!$Q$14,'取得手続連絡 (10)'!$R$14))","v":""},{"$f":"IF(LEN('取得手続連絡 (10)'!$Y$16)=8,'取得手続連絡 (10)'!$Y$16,\"\")","v":""},"",{"$f":"IF('取得手続連絡 (10)'!$B$20=\"\",\"\",'取得手続連絡 (10)'!$B$20)","v":""},{"$f":"IF('取得手続連絡 (10)'!$G$20=\"\",\"\",'取得手続連絡 (10)'!$G$20)","v":""},"","",{"$f":"IF('取得手続連絡 (10)'!$B$22=\"\",\"\",'取得手続連絡 (10)'!$B$22)","v":""},{"$f":"IF('取得手続連絡 (10)'!$F$22=\"\",\"\",'取得手続連絡 (10)'!$F$22)","v":""},{"$f":"IF('取得手続連絡 (10)'!$K$22=\"\",\"\",'取得手続連絡 (10)'!$K$22)","v":""},"",{"$f":"IF('取得手続連絡 (10)'!$B$28=\"\",\"\",'取得手続連絡 (10)'!$B$28)","v":""},{"$f":"IF('取得手続連絡 (10)'!$G$28=\"\",\"\",'取得手続連絡 (10)'!$G$28)","v":""},{"$f":"IF('取得手続連絡 (10)'!$B$26=\"\",\"\",'取得手続連絡 (10)'!$B$26)","v":""},{"$f":"IF('取得手続連絡 (10)'!$G$26=\"\",\"\",'取得手続連絡 (10)'!$G$26)","v":""},{"$f":"IF(LEN('取得手続連絡 (10)'!$Y$29)=8,'取得手続連絡 (10)'!$Y$29,\"\")","v":""},{"$f":"IF('取得手続連絡 (10)'!$B$30=\"\",\"\",IF('取得手続連絡 (10)'!$B$30='取得手続連絡 (10)'!$Z$3,1,2))","v":""},{"$f":"IF('取得手続連絡 (10)'!$G$30=\"\",\"\",'取得手続連絡 (10)'!$G$30)","v":""},"",{"$f":"IF('取得手続連絡 (10)'!$B$39=\"\",\"\",'取得手続連絡 (10)'!$B$39)","v":""},{"$f":"IF('取得手続連絡 (10)'!$G$39=\"\",\"\",'取得手続連絡 (10)'!$G$39)","v":""},{"$f":"IF('取得手続連絡 (10)'!$B$37=\"\",\"\",'取得手続連絡 (10)'!$B$37)","v":""},{"$f":"IF('取得手続連絡 (10)'!$G$37=\"\",\"\",'取得手続連絡 (10)'!$G$37)","v":""},{"$f":"IF(LEN('取得手続連絡 (10)'!$Y$40)=8,'取得手続連絡 (10)'!$Y$40,\"\")","v":""},{"$f":"IF('取得手続連絡 (10)'!$B$41=\"\",\"\",IF('取得手続連絡 (10)'!$B$41='取得手続連絡 (10)'!$Z$3,1,2))","v":""},{"$f":"IF('取得手続連絡 (10)'!$G$41=\"\",\"\",'取得手続連絡 (10)'!$G$41)","v":""},"",{"$f":"IF('取得手続連絡 (10)'!$B$50=\"\",\"\",'取得手続連絡 (10)'!$B$50)","v":""},{"$f":"IF('取得手続連絡 (10)'!$G$50=\"\",\"\",'取得手続連絡 (10)'!$G$50)","v":""},{"$f":"IF('取得手続連絡 (10)'!$B$48=\"\",\"\",'取得手続連絡 (10)'!$B$48)","v":""},{"$f":"IF('取得手続連絡 (10)'!$G$48=\"\",\"\",'取得手続連絡 (10)'!$G$48)","v":""},{"$f":"IF(LEN('取得手続連絡 (10)'!$Y$51)=8,'取得手続連絡 (10)'!$Y$51,\"\")","v":""},{"$f":"IF('取得手続連絡 (10)'!$B$52=\"\",\"\",IF('取得手続連絡 (10)'!$B$52='取得手続連絡 (10)'!$Z$3,1,2))","v":""},{"$f":"IF('取得手続連絡 (10)'!$G$52=\"\",\"\",'取得手続連絡 (10)'!$G$52)","v":""},"",{"$f":"IF('取得手続連絡 (10)'!$B$61=\"\",\"\",'取得手続連絡 (10)'!$B$61)","v":""},{"$f":"IF('取得手続連絡 (10)'!$G$61=\"\",\"\",'取得手続連絡 (10)'!$G$61)","v":""},{"$f":"IF('取得手続連絡 (10)'!$B$59=\"\",\"\",'取得手続連絡 (10)'!$B$59)","v":""},{"$f":"IF('取得手続連絡 (10)'!$G$59=\"\",\"\",'取得手続連絡 (10)'!$G$59)","v":""},{"$f":"IF(LEN('取得手続連絡 (10)'!$Y$62)=8,'取得手続連絡 (10)'!$Y$62,\"\")","v":""},{"$f":"IF('取得手続連絡 (10)'!$B$63=\"\",\"\",IF('取得手続連絡 (10)'!$B$63='取得手続連絡 (10)'!$Z$3,1,2))","v":""},{"$f":"IF('取得手続連絡 (10)'!$G$63=\"\",\"\",'取得手続連絡 (10)'!$G$63)","v":""},"",{"$f":"IF('取得手続連絡 (10)'!$B$31=\"\",\"\",IF('取得手続連絡 (10)'!$B$31='取得手続連絡 (10)'!$AA$1,1,2))","v":""},{"$f":"IF('取得手続連絡 (10)'!$B$42=\"\",\"\",IF('取得手続連絡 (10)'!$B$42='取得手続連絡 (10)'!$AA$1,1,2))","v":""},{"$f":"IF('取得手続連絡 (10)'!$B$53=\"\",\"\",IF('取得手続連絡 (10)'!$B$53='取得手続連絡 (10)'!$AA$1,1,2))","v":""},{"$f":"IF('取得手続連絡 (10)'!$B$64=\"\",\"\",IF('取得手続連絡 (10)'!$B$64='取得手続連絡 (10)'!$AA$1,1,2))","v":""},{"$f":"IF('取得手続連絡 (10)'!$B$34=\"\",\"\",'取得手続連絡 (10)'!$B$34)","v":""},{"$f":"IF('取得手続連絡 (10)'!$G$34=\"\",\"\",'取得手続連絡 (10)'!$G$34)","v":""},{"$f":"IF('取得手続連絡 (10)'!$B$45=\"\",\"\",'取得手続連絡 (10)'!$B$45)","v":""},{"$f":"IF('取得手続連絡 (10)'!$G$45=\"\",\"\",'取得手続連絡 (10)'!$G$45)","v":""},{"$f":"IF('取得手続連絡 (10)'!$B$56=\"\",\"\",'取得手続連絡 (10)'!$B$56)","v":""},{"$f":"IF('取得手続連絡 (10)'!$G$56=\"\",\"\",'取得手続連絡 (10)'!$G$56)","v":""},{"$f":"IF('取得手続連絡 (10)'!$B$67=\"\",\"\",'取得手続連絡 (10)'!$B$67)","v":""},{"$f":"IF('取得手続連絡 (10)'!$G$67=\"\",\"\",'取得手続連絡 (10)'!$G$67)","v":""}]

{"sheet":"マクロ用","index":1,"n_rows":12,"n_cols":9,"rows_kept":12,"cut":false,"hidden":true,"merged":[]}
["吐出先フォルダ","\\\\Syserver\\syaro\\共有フォルダ\\電子申請\\取込データ"]
["保管先フォルダ","\\\\Syserver\\syaro\\共有フォルダ\\マイナンバー書式\\保管用"]
["ファイル名参照",{"$f":"IF('(吉池事務所用)取込'!$A$2=\"\",\"\",'(吉池事務所用)取込'!$A$2)","v":""},{"$f":"IF('(吉池事務所用)取込'!$B$2=\"\",\"\",'(吉池事務所用)取込'!$B$2)","v":""},{"$f":"IF('(吉池事務所用)取込'!$E$2=\"\",\"\",'(吉池事務所用)取込'!$E$2)","v":""},{"$f":"IF('(吉池事務所用)取込'!$F$2=\"\",\"\",'(吉池事務所用)取込'!$F$2)","v":""},{"$f":"$B$3&\"_(\"&$C$3&\")\"&$D$3&$E$3&\".csv\"","v":"_().csv"},null,null,{"$f":"IF(取得手続連絡!$F$5=\"\",\"\",取得手続連絡!$F$5)","v":""}]
[]
["吐出マクロ用",{"$f":"$B$1&\"\\\"&$F$3","v":"\\\\Syserver\\syaro\\共有フォルダ\\電子申請\\取込データ\\_().csv"}]
["保管マクロ用",{"$f":"$B$2&\"\\\"&$B$11","v":"\\\\Syserver\\syaro\\共有フォルダ\\マイナンバー書式\\保管用\\201604221053().csv"}]
[null,{"$f":"$B$2&\"\\\"&$B$12","v":"\\\\Syserver\\syaro\\共有フォルダ\\マイナンバー書式\\保管用\\201604221053().xlsx"}]
["今日の日付",{"$f":"NOW()","v":"2016-04-22T10:53:00.540"}]
[null,{"$f":"TEXT(B8,\"yyyymmddhhmm\")","v":"201604221053"}]
[]
["ファイル名参照",{"$f":"$B$9&\"(\"&$I$3&\").csv\"","v":"201604221053().csv"}]
[null,{"$f":"$B$9&\"(\"&$I$3&\").xlsx\"","v":"201604221053().xlsx"}]

{"sheet":"(吉池事務所用)保管","index":2,"n_rows":52,"n_cols":28,"rows_kept":52,"cut":false,"hidden":false,"merged":[[0,18,0,19],[0,20,0,21],[0,22,0,23],[6,27,8,27],[6,28,8,29]]}
["氏名","法人番号","個人コード","個人種別","マイナンバー","姓(漢字)","名(漢字)","姓(ｶﾅ)","名(ｶﾅ)","生年月日","性別","退職日","本人確認日","本人確認情報","備考","利用停止フラグ","生年月日変換用",null,"リスト受領",null,"ロッカー入力",null,"提供データの破棄"]
[{"$f":"CONCATENATE(F2,G2)","v":""},null,{"$f":"IF('(吉池事務所用)取込'!B2=\"\",\"\",'(吉池事務所用)取込'!B2)","v":""},{"$f":"IF(A2=\"\",\"\",0)","v":""},{"$f":"IF(取得手続連絡!$M$9=\"\",\"\",取得手続連絡!$M$9)","v":""},{"$f":"IF(取得手続連絡!$B$12=\"\",\"\",取得手続連絡!$B$12)","v":""},{"$f":"IF(取得手続連絡!$G$12=\"\",\"\",取得手続連絡!$G$12)","v":""},{"$f":"IF(取得手続連絡!$B$10=\"\",\"\",取得手続連絡!$B$10)","v":""},{"$f":"IF(取得手続連絡!$G$10=\"\",\"\",取得手続連絡!$G$10)","v":""},{"$f":"IF(Q2=\"\",\"\",DATEVALUE(TEXT(Q2,\"0000!/00!/00\")))","v":""},{"$f":"IF(取得手続連絡!$J$14=\"\",\"\",IF(取得手続連絡!$J$14=取得手続連絡!$Z$3,1,2))","v":""},null,null,null,null,null,{"$f":"IF(LEN(取得手続連絡!$Y$13)=8,取得手続連絡!$Y$13,\"\")","v":""},null,{"$f":"IF(A2=\"\",\"\",IF(E2=\"\",\"\",TODAY()))","v":""},{"$f":"IF(S2=TODAY(),IF($AC$7=\"\",\"\",$AC$7),\"\")","v":""}]
[{"$f":"CONCATENATE(F3,G3)","v":""},null,{"$f":"IF('(吉池事務所用)取込'!B3=\"\",\"\",'(吉池事務所用)取込'!B3)","v":""},{"$f":"IF(A3=\"\",\"\",0)","v":""},{"$f":"IF('取得手続連絡 (2)'!$M$9=\"\",\"\",'取得手続連絡 (2)'!$M$9)","v":""},{"$f":"IF('取得手続連絡 (2)'!$B$12=\"\",\"\",'取得手続連絡 (2)'!$B$12)","v":""},{"$f":"IF('取得手続連絡 (2)'!$G$12=\"\",\"\",'取得手続連絡 (2)'!$G$12)","v":""},{"$f":"IF('取得手続連絡 (2)'!$B$10=\"\",\"\",'取得手続連絡 (2)'!$B$10)","v":""},{"$f":"IF('取得手続連絡 (2)'!$G$10=\"\",\"\",'取得手続連絡 (2)'!$G$10)","v":""},{"$f":"IF(Q3=\"\",\"\",DATEVALUE(TEXT(Q3,\"0000!/00!/00\")))","v":""},{"$f":"IF('取得手続連絡 (2)'!$J$14=\"\",\"\",IF('取得手続連絡 (2)'!$J$14='取得手続連絡 (2)'!$Z$3,1,2))","v":""},null,null,null,null,null,{"$f":"IF(LEN('取得手続連絡 (2)'!$Y$13)=8,'取得手続連絡 (2)'!$Y$13,\"\")","v":""},null,{"$f":"IF(A3=\"\",\"\",IF(E3=\"\",\"\",TODAY()))","v":""},{"$f":"IF(S3=TODAY(),IF($AC$7=\"\",\"\",$AC$7),\"\")","v":""}]
["",null,{"$f":"IF('(吉池事務所用)取込'!B4=\"\",\"\",'(吉池事務所用)取込'!B4)","v":""},"",{"$f":"IF('取得手続連絡 (3)'!$M$9=\"\",\"\",'取得手続連絡 (3)'!$M$9)","v":""},{"$f":"IF('取得手続連絡 (3)'!$B$12=\"\",\"\",'取得手続連絡 (3)'!$B$12)","v":""},{"$f":"IF('取得手続連絡 (3)'!$G$12=\"\",\"\",'取得手続連絡 (3)'!$G$12)","v":""},{"$f":"IF('取得手続連絡 (3)'!$B$10=\"\",\"\",'取得手続連絡 (3)'!$B$10)","v":""},{"$f":"IF('取得手続連絡 (3)'!$G$10=\"\",\"\",'取得手続連絡 (3)'!$G$10)","v":""},"",{"$f":"IF('取得手続連絡 (3)'!$J$14=\"\",\"\",IF('取得手続連絡 (3)'!$J$14='取得手続連絡 (3)'!$Z$3,1,2))","v":""},null,null,null,null,null,{"$f":"IF(LEN('取得手続連絡 (3)'!$Y$13)=8,'取得手続連絡 (3)'!$Y$13,\"\")","v":""},null,"",""]
["",null,{"$f":"IF('(吉池事務所用)取込'!B5=\"\",\"\",'(吉池事務所用)取込'!B5)","v":""},"",{"$f":"IF('取得手続連絡 (4)'!$M$9=\"\",\"\",'取得手続連絡 (4)'!$M$9)","v":""},{"$f":"IF('取得手続連絡 (4)'!$B$12=\"\",\"\",'取得手続連絡 (4)'!$B$12)","v":""},{"$f":"IF('取得手続連絡 (4)'!$G$12=\"\",\"\",'取得手続連絡 (4)'!$G$12)","v":""},{"$f":"IF('取得手続連絡 (4)'!$B$10=\"\",\"\",'取得手続連絡 (4)'!$B$10)","v":""},{"$f":"IF('取得手続連絡 (4)'!$G$10=\"\",\"\",'取得手続連絡 (4)'!$G$10)","v":""},"",{"$f":"IF('取得手続連絡 (4)'!$J$14=\"\",\"\",IF('取得手続連絡 (4)'!$J$14='取得手続連絡 (4)'!$Z$3,1,2))","v":""},null,null,null,null,null,{"$f":"IF(LEN('取得手続連絡 (4)'!$Y$13)=8,'取得手続連絡 (4)'!$Y$13,\"\")","v":""},null,"","",null,null,null,null,null,"※上記ボタンを押す前に、あなたの名前を入力して下さい!"]
["",null,{"$f":"IF('(吉池事務所用)取込'!B6=\"\",\"\",'(吉池事務所用)取込'!B6)","v":""},"",{"$f":"IF('取得手続連絡 (5)'!$M$9=\"\",\"\",'取得手続連絡 (5)'!$M$9)","v":""},{"$f":"IF('取得手続連絡 (5)'!$B$12=\"\",\"\",'取得手続連絡 (5)'!$B$12)","v":""},{"$f":"IF('取得手続連絡 (5)'!$G$12=\"\",\"\",'取得手続連絡 (5)'!$G$12)","v":""},{"$f":"IF('取得手続連絡 (5)'!$B$10=\"\",\"\",'取得手続連絡 (5)'!$B$10)","v":""},{"$f":"IF('取得手続連絡 (5)'!$G$10=\"\",\"\",'取得手続連絡 (5)'!$G$10)","v":""},"",{"$f":"IF('取得手続連絡 (5)'!$J$14=\"\",\"\",IF('取得手続連絡 (5)'!$J$14='取得手続連絡 (5)'!$Z$3,1,2))","v":""},null,null,null,null,null,{"$f":"IF(LEN('取得手続連絡 (5)'!$Y$13)=8,'取得手続連絡 (5)'!$Y$13,\"\")","v":""},null,"",""]
["",null,{"$f":"IF('(吉池事務所用)取込'!B7=\"\",\"\",'(吉池事務所用)取込'!B7)","v":""},"",{"$f":"IF('取得手続連絡 (6)'!$M$9=\"\",\"\",'取得手続連絡 (6)'!$M$9)","v":""},{"$f":"IF('取得手続連絡 (6)'!$B$12=\"\",\"\",'取得手続連絡 (6)'!$B$12)","v":""},{"$f":"IF('取得手続連絡 (6)'!$G$12=\"\",\"\",'取得手続連絡 (6)'!$G$12)","v":""},{"$f":"IF('取得手続連絡 (6)'!$B$10=\"\",\"\",'取得手続連絡 (6)'!$B$10)","v":""},{"$f":"IF('取得手続連絡 (6)'!$G$10=\"\",\"\",'取得手続連絡 (6)'!$G$10)","v":""},"",{"$f":"IF('取得手続連絡 (6)'!$J$14=\"\",\"\",IF('取得手続連絡 (6)'!$J$14='取得手続連絡 (6)'!$Z$3,1,2))","v":""},null,null,null,null,null,{"$f":"IF(LEN('取得手続連絡 (6)'!$Y$13)=8,'取得手続連絡 (6)'!$Y$13,\"\")","v":""},null,"","",null,null,null,null,null,null,null,"名前⇒"]
["",null,{"$f":"IF('(吉池事務所用)取込'!B8=\"\",\"\",'(吉池事務所用)取込'!B8)","v":""},"",{"$f":"IF('取得手続連絡 (7)'!$M$9=\"\",\"\",'取得手続連絡 (7)'!$M$9)","v":""},{"$f":"IF('取得手続連絡 (7)'!$B$12=\"\",\"\",'取得手続連絡 (7)'!$B$12)","v":""},{"$f":"IF('取得手続連絡 (7)'!$G$12=\"\",\"\",'取得手続連絡 (7)'!$G$12)","v":""},{"$f":"IF('取得手続連絡 (7)'!$B$10=\"\",\"\",'取得手続連絡 (7)'!$B$10)","v":""},{"$f":"IF('取得手続連絡 (7)'!$G$10=\"\",\"\",'取得手続連絡 (7)'!$G$10)","v":""},"",{"$f":"IF('取得手続連絡 (7)'!$J$14=\"\",\"\",IF('取得手続連絡 (7)'!$J$14='取得手続連絡 (7)'!$Z$3,1,2))","v":""},null,null,null,null,null,{"$f":"IF(LEN('取得手続連絡 (7)'!$Y$13)=8,'取得手続連絡 (7)'!$Y$13,\"\")","v":""},null,"",""]
["",null,{"$f":"IF('(吉池事務所用)取込'!B9=\"\",\"\",'(吉池事務所用)取込'!B9)","v":""},"",{"$f":"IF('取得手続連絡 (8)'!$M$9=\"\",\"\",'取得手続連絡 (8)'!$M$9)","v":""},{"$f":"IF('取得手続連絡 (8)'!$B$12=\"\",\"\",'取得手続連絡 (8)'!$B$12)","v":""},{"$f":"IF('取得手続連絡 (8)'!$G$12=\"\",\"\",'取得手続連絡 (8)'!$G$12)","v":""},{"$f":"IF('取得手続連絡 (8)'!$B$10=\"\",\"\",'取得手続連絡 (8)'!$B$10)","v":""},{"$f":"IF('取得手続連絡 (8)'!$G$10=\"\",\"\",'取得手続連絡 (8)'!$G$10)","v":""},"",{"$f":"IF('取得手続連絡 (8)'!$J$14=\"\",\"\",IF('取得手続連絡 (8)'!$J$14='取得手続連絡 (8)'!$Z$3,1,2))","v":""},null,null,null,null,null,{"$f":"IF(LEN('取得手続連絡 (8)'!$Y$13)=8,'取得手続連絡 (8)'!$Y$13,\"\")","v":""},null,"",""]
["",null,{"$f":"IF('(吉池事務所用)取込'!B10=\"\",\"\",'(吉池事務所用)取込'!B10)","v":""},"",{"$f":"IF('取得手続連絡 (9)'!$M$9=\"\",\"\",'取得手続連絡 (9)'!$M$9)","v":""},{"$f":"IF('取得手続連絡 (9)'!$B$12=\"\",\"\",'取得手続連絡 (9)'!$B$12)","v":""},{"$f":"IF('取得手続連絡 (9)'!$G$12=\"\",\"\",'取得手続連絡 (9)'!$G$12)","v":""},{"$f":"IF('取得手続連絡 (9)'!$B$10=\"\",\"\",'取得手続連絡 (9)'!$B$10)","v":""},{"$f":"IF('取得手続連絡 (9)'!$G$10=\"\",\"\",'取得手続連絡 (9)'!$G$10)","v":""},"",{"$f":"IF('取得手続連絡 (9)'!$J$14=\"\",\"\",IF('取得手続連絡 (9)'!$J$14='取得手続連絡 (9)'!$Z$3,1,2))","v":""},null,null,null,null,null,{"$f":"IF(LEN('取得手続連絡 (9)'!$Y$13)=8,'取得手続連絡 (9)'!$Y$13,\"\")","v":""},null,"",""]
["",null,{"$f":"IF('(吉池事務所用)取込'!B11=\"\",\"\",'(吉池事務所用)取込'!B11)","v":""},"",{"$f":"IF('取得手続連絡 (10)'!$M$9=\"\",\"\",'取得手続連絡 (10)'!$M$9)","v":""},{"$f":"IF('取得手続連絡 (10)'!$B$12=\"\",\"\",'取得手続連絡 (10)'!$B$12)","v":""},{"$f":"IF('取得手続連絡 (10)'!$G$12=\"\",\"\",'取得手続連絡 (10)'!$G$12)","v":""},{"$f":"IF('取得手続連絡 (10)'!$B$10=\"\",\"\",'取得手続連絡 (10)'!$B$10)","v":""},{"$f":"IF('取得手続連絡 (10)'!$G$10=\"\",\"\",'取得手続連絡 (10)'!$G$10)","v":""},"",{"$f":"IF('取得手続連絡 (10)'!$J$14=\"\",\"\",IF('取得手続連絡 (10)'!$J$14='取得手続連絡 (10)'!$Z$3,1,2))","v":""},null,null,null,null,null,{"$f":"IF(LEN('取得手続連絡 (10)'!$Y$13)=8,'取得手続連絡 (10)'!$Y$13,\"\")","v":""},null,{"$f":"IF(A11=\"\",\"\",IF(E11=\"\",\"\",TODAY()))","v":""},""]
["（以下、扶養）",null,null,null,null,null,null,null,null,null,null,null,null,null,null,null,null,null,"（以下、扶養）"]
[{"$f":"CONCATENATE(F13,G13)","v":{"$error":"#N/A"}},null,{"$f":"VLOOKUP($A$2,検索範囲!$A$2:$AG$10,2,FALSE)","v":{"$error":"#N/A"}},{"$f":"IF(A13=\"\",\"\",1)","v":{"$error":"#N/A"}},{"$f":"VLOOKUP($A$2,検索範囲!$A$2:$AG$10,30,FALSE)","v":{"$error":"#N/A"}},{"$f":"VLOOKUP($A$2,検索範囲!$A$2:$AG$10,5,FALSE)","v":{"$error":"#N/A"}},{"$f":"VLOOKUP($A$2,検索範囲!$A$2:$AG$10,6,FALSE)","v":{"$error":"#N/A"}},{"$f":"VLOOKUP($A$2,検索範囲!$A$2:$AG$10,7,FALSE)","v":{"$error":"#N/A"}},{"$f":"VLOOKUP($A$2,検索範囲!$A$2:$AG$10,8,FALSE)","v":{"$error":"#N/A"}},{"$error":"#N/A"},{"$f":"VLOOKUP($A$2,検索範囲!$A$2:$AG$10,10,FALSE)","v":{"$error":"#N/A"}},null,null,null,null,null,{"$f":"VLOOKUP($A$2,検索範囲!$A$2:$AG$10,9,FALSE)","v":{"$error":"#N/A"}},null,{"$f":"IF(ISERROR(A13),\"\",IF(E13=\"\",\"\",TODAY()))","v":""},{"$f":"IF(S13=TODAY(),IF($AC$7=\"\",\"\",$AC$7),\"\")","v":""}]
[{"$f":"CONCATENATE(F14,G14)","v":{"$error":"#N/A"}},null,{"$f":"VLOOKUP($A$2,検索範囲!$A$2:$AG$10,2,FALSE)","v":{"$error":"#N/A"}},{"$f":"IF(A14=\"\",\"\",2)","v":{"$error":"#N/A"}},{"$f":"VLOOKUP($A$2,検索範囲!$A$2:$AG$10,31,FALSE)","v":{"$error":"#N/A"}},{"$f":"VLOOKUP($A$2,検索範囲!$A$2:$AG$10,11,FALSE)","v":{"$error":"#N/A"}},{"$f":"VLOOKUP($A$2,検索範囲!$A$2:$AG$10,12,FALSE)","v":{"$error":"#N/A"}},{"$f":"VLOOKUP($A$2,検索範囲!$A$2:$AG$10,13,FALSE)","v":{"$error":"#N/A"}},{"$f":"VLOOKUP($A$2,検索範囲!$A$2:$AG$10,14,FALSE)","v":{"$error":"#N/A"}},{"$error":"#N/A"},{"$f":"VLOOKUP($A$2,検索範囲!$A$2:$AG$10,16,FALSE)","v":{"$error":"#N/A"}},null,null,null,null,null,{"$f":"VLOOKUP($A$2,検索範囲!$A$2:$AG$10,15,FALSE)","v":{"$error":"#N/A"}},null,{"$f":"IF(ISERROR(A14),\"\",IF(E14=\"\",\"\",TODAY()))","v":""},{"$f":"IF(S14=TODAY(),IF($AC$7=\"\",\"\",$AC$7),\"\")","v":""}]
[{"$error":"#N/A"},null,{"$f":"VLOOKUP($A$2,検索範囲!$A$2:$AG$10,2,FALSE)","v":{"$error":"#N/A"}},{"$f":"IF(A15=\"\",\"\",3)","v":{"$error":"#N/A"}},{"$f":"VLOOKUP($A$2,検索範囲!$A$2:$AG$10,32,FALSE)","v":{"$error":"#N/A"}},{"$f":"VLOOKUP($A$2,検索範囲!$A$2:$AG$10,17,FALSE)","v":{"$error":"#N/A"}},{"$f":"VLOOKUP($A$2,検索範囲!$A$2:$AG$10,18,FALSE)","v":{"$error":"#N/A"}},{"$f":"VLOOKUP($A$2,検索範囲!$A$2:$AG$10,19,FALSE)","v":{"$error":"#N/A"}},{"$f":"VLOOKUP($A$2,検索範囲!$A$2:$AG$10,20,FALSE)","v":{"$error":"#N/A"}},{"$error":"#N/A"},{"$f":"VLOOKUP($A$2,検索範囲!$A$2:$AG$10,22,FALSE)","v":{"$error":"#N/A"}},null,null,null,null,null,{"$f":"VLOOKUP($A$2,検索範囲!$A$2:$AG$10,21,FALSE)","v":{"$error":"#N/A"}},null,"",""]
[{"$error":"#N/A"},null,{"$f":"VLOOKUP($A$2,検索範囲!$A$2:$AG$10,2,FALSE)","v":{"$error":"#N/A"}},{"$f":"IF(A16=\"\",\"\",4)","v":{"$error":"#N/A"}},{"$f":"VLOOKUP($A$2,検索範囲!$A$2:$AG$10,33,FALSE)","v":{"$error":"#N/A"}},{"$f":"VLOOKUP($A$2,検索範囲!$A$2:$AG$10,23,FALSE)","v":{"$error":"#N/A"}},{"$f":"VLOOKUP($A$2,検索範囲!$A$2:$AG$10,24,FALSE)","v":{"$error":"#N/A"}},{"$f":"VLOOKUP($A$2,検索範囲!$A$2:$AG$10,25,FALSE)","v":{"$error":"#N/A"}},{"$f":"VLOOKUP($A$2,検索範囲!$A$2:$AG$10,26,FALSE)","v":{"$error":"#N/A"}},{"$error":"#N/A"},{"$f":"VLOOKUP($A$2,検索範囲!$A$2:$AG$10,28,FALSE)","v":{"$error":"#N/A"}},null,null,null,null,null,{"$f":"VLOOKUP($A$2,検索範囲!$A$2:$AG$10,27,FALSE)","v":{"$error":"#N/A"}},null,"",""]
[{"$error":"#N/A"},null,{"$f":"VLOOKUP($A$3,検索範囲!$A$2:$AG$10,2,FALSE)","v":{"$error":"#N/A"}},{"$f":"IF(A17=\"\",\"\",1)","v":{"$error":"#N/A"}},{"$f":"VLOOKUP($A$3,検索範囲!$A$2:$AG$10,30,FALSE)","v":{"$error":"#N/A"}},{"$f":"VLOOKUP($A$3,検索範囲!$A$2:$AG$10,5,FALSE)","v":{"$error":"#N/A"}},{"$f":"VLOOKUP($A$3,検索範囲!$A$2:$AG$10,6,FALSE)","v":{"$error":"#N/A"}},{"$f":"VLOOKUP($A$3,検索範囲!$A$2:$AG$10,7,FALSE)","v":{"$error":"#N/A"}},{"$f":"VLOOKUP($A$3,検索範囲!$A$2:$AG$10,8,FALSE)","v":{"$error":"#N/A"}},{"$error":"#N/A"},{"$f":"VLOOKUP($A$3,検索範囲!$A$2:$AG$10,10,FALSE)","v":{"$error":"#N/A"}},null,null,null,null,null,{"$f":"VLOOKUP($A$3,検索範囲!$A$2:$AG$10,9,FALSE)","v":{"$error":"#N/A"}},null,"",""]
[{"$error":"#N/A"},null,{"$f":"VLOOKUP($A$3,検索範囲!$A$2:$AG$10,2,FALSE)","v":{"$error":"#N/A"}},{"$f":"IF(A18=\"\",\"\",2)","v":{"$error":"#N/A"}},{"$f":"VLOOKUP($A$3,検索範囲!$A$2:$AG$10,31,FALSE)","v":{"$error":"#N/A"}},{"$f":"VLOOKUP($A$3,検索範囲!$A$2:$AG$10,11,FALSE)","v":{"$error":"#N/A"}},{"$f":"VLOOKUP($A$3,検索範囲!$A$2:$AG$10,12,FALSE)","v":{"$error":"#N/A"}},{"$f":"VLOOKUP($A$3,検索範囲!$A$2:$AG$10,13,FALSE)","v":{"$error":"#N/A"}},{"$f":"VLOOKUP($A$3,検索範囲!$A$2:$AG$10,14,FALSE)","v":{"$error":"#N/A"}},{"$error":"#N/A"},{"$f":"VLOOKUP($A$3,検索範囲!$A$2:$AG$10,16,FALSE)","v":{"$error":"#N/A"}},null,null,null,null,null,{"$f":"VLOOKUP($A$3,検索範囲!$A$2:$AG$10,15,FALSE)","v":{"$error":"#N/A"}},null,"",""]
[{"$error":"#N/A"},null,{"$f":"VLOOKUP($A$3,検索範囲!$A$2:$AG$10,2,FALSE)","v":{"$error":"#N/A"}},{"$f":"IF(A19=\"\",\"\",3)","v":{"$error":"#N/A"}},{"$f":"VLOOKUP($A$3,検索範囲!$A$2:$AG$10,32,FALSE)","v":{"$error":"#N/A"}},{"$f":"VLOOKUP($A$3,検索範囲!$A$2:$AG$10,17,FALSE)","v":{"$error":"#N/A"}},{"$f":"VLOOKUP($A$3,検索範囲!$A$2:$AG$10,18,FALSE)","v":{"$error":"#N/A"}},{"$f":"VLOOKUP($A$3,検索範囲!$A$2:$AG$10,19,FALSE)","v":{"$error":"#N/A"}},{"$f":"VLOOKUP($A$3,検索範囲!$A$2:$AG$10,20,FALSE)","v":{"$error":"#N/A"}},{"$error":"#N/A"},{"$f":"VLOOKUP($A$3,検索範囲!$A$2:$AG$10,22,FALSE)","v":{"$error":"#N/A"}},null,null,null,null,null,{"$f":"VLOOKUP($A$3,検索範囲!$A$2:$AG$10,21,FALSE)","v":{"$error":"#N/A"}},null,"",""]
[{"$error":"#N/A"},null,{"$f":"VLOOKUP($A$3,検索範囲!$A$2:$AG$10,2,FALSE)","v":{"$error":"#N/A"}},{"$f":"IF(A20=\"\",\"\",4)","v":{"$error":"#N/A"}},{"$f":"VLOOKUP($A$3,検索範囲!$A$2:$AG$10,33,FALSE)","v":{"$error":"#N/A"}},{"$f":"VLOOKUP($A$3,検索範囲!$A$2:$AG$10,23,FALSE)","v":{"$error":"#N/A"}},{"$f":"VLOOKUP($A$3,検索範囲!$A$2:$AG$10,24,FALSE)","v":{"$error":"#N/A"}},{"$f":"VLOOKUP($A$3,検索範囲!$A$2:$AG$10,25,FALSE)","v":{"$error":"#N/A"}},{"$f":"VLOOKUP($A$3,検索範囲!$A$2:$AG$10,26,FALSE)","v":{"$error":"#N/A"}},{"$error":"#N/A"},{"$f":"VLOOKUP($A$3,検索範囲!$A$2:$AG$10,28,FALSE)","v":{"$error":"#N/A"}},null,null,null,null,null,{"$f":"VLOOKUP($A$3,検索範囲!$A$2:$AG$10,27,FALSE)","v":{"$error":"#N/A"}},null,"",""]
[{"$error":"#N/A"},null,{"$f":"VLOOKUP($A$4,検索範囲!$A$2:$AG$10,2,FALSE)","v":{"$error":"#N/A"}},{"$f":"IF(A21=\"\",\"\",1)","v":{"$error":"#N/A"}},{"$f":"VLOOKUP($A$4,検索範囲!$A$2:$AG$10,30,FALSE)","v":{"$error":"#N/A"}},{"$f":"VLOOKUP($A$4,検索範囲!$A$2:$AG$10,5,FALSE)","v":{"$error":"#N/A"}},{"$f":"VLOOKUP($A$4,検索範囲!$A$2:$AG$10,6,FALSE)","v":{"$error":"#N/A"}},{"$f":"VLOOKUP($A$4,検索範囲!$A$2:$AG$10,7,FALSE)","v":{"$error":"#N/A"}},{"$f":"VLOOKUP($A$4,検索範囲!$A$2:$AG$10,8,FALSE)","v":{"$error":"#N/A"}},{"$f":"IF(Q21=\"\",\"\",DATEVALUE(TEXT(Q21,\"0000!/00!/00\")))","v":{"$error":"#N/A"}},{"$f":"VLOOKUP($A$4,検索範囲!$A$2:$AG$10,10,FALSE)","v":{"$error":"#N/A"}},null,null,null,null,null,{"$f":"VLOOKUP($A$4,検索範囲!$A$2:$AG$10,9,FALSE)","v":{"$error":"#N/A"}},null,"",""]
[{"$error":"#N/A"},null,{"$f":"VLOOKUP($A$4,検索範囲!$A$2:$AG$10,2,FALSE)","v":{"$error":"#N/A"}},{"$f":"IF(A22=\"\",\"\",2)","v":{"$error":"#N/A"}},{"$f":"VLOOKUP($A$4,検索範囲!$A$2:$AG$10,31,FALSE)","v":{"$error":"#N/A"}},{"$f":"VLOOKUP($A$4,検索範囲!$A$2:$AG$10,11,FALSE)","v":{"$error":"#N/A"}},{"$f":"VLOOKUP($A$4,検索範囲!$A$2:$AG$10,12,FALSE)","v":{"$error":"#N/A"}},{"$f":"VLOOKUP($A$4,検索範囲!$A$2:$AG$10,13,FALSE)","v":{"$error":"#N/A"}},{"$f":"VLOOKUP($A$4,検索範囲!$A$2:$AG$10,14,FALSE)","v":{"$error":"#N/A"}},{"$error":"#N/A"},{"$f":"VLOOKUP($A$4,検索範囲!$A$2:$AG$10,16,FALSE)","v":{"$error":"#N/A"}},null,null,null,null,null,{"$f":"VLOOKUP($A$4,検索範囲!$A$2:$AG$10,15,FALSE)","v":{"$error":"#N/A"}},null,"",""]
[{"$error":"#N/A"},null,{"$f":"VLOOKUP($A$4,検索範囲!$A$2:$AG$10,2,FALSE)","v":{"$error":"#N/A"}},{"$f":"IF(A23=\"\",\"\",3)","v":{"$error":"#N/A"}},{"$f":"VLOOKUP($A$4,検索範囲!$A$2:$AG$10,32,FALSE)","v":{"$error":"#N/A"}},{"$f":"VLOOKUP($A$4,検索範囲!$A$2:$AG$10,17,FALSE)","v":{"$error":"#N/A"}},{"$f":"VLOOKUP($A$4,検索範囲!$A$2:$AG$10,18,FALSE)","v":{"$error":"#N/A"}},{"$f":"VLOOKUP($A$4,検索範囲!$A$2:$AG$10,19,FALSE)","v":{"$error":"#N/A"}},{"$f":"VLOOKUP($A$4,検索範囲!$A$2:$AG$10,20,FALSE)","v":{"$error":"#N/A"}},{"$error":"#N/A"},{"$f":"VLOOKUP($A$4,検索範囲!$A$2:$AG$10,22,FALSE)","v":{"$error":"#N/A"}},null,null,null,null,null,{"$f":"VLOOKUP($A$4,検索範囲!$A$2:$AG$10,21,FALSE)","v":{"$error":"#N/A"}},null,"",""]
[{"$error":"#N/A"},null,{"$f":"VLOOKUP($A$4,検索範囲!$A$2:$AG$10,2,FALSE)","v":{"$error":"#N/A"}},{"$f":"IF(A24=\"\",\"\",4)","v":{"$error":"#N/A"}},{"$f":"VLOOKUP($A$4,検索範囲!$A$2:$AG$10,33,FALSE)","v":{"$error":"#N/A"}},{"$f":"VLOOKUP($A$4,検索範囲!$A$2:$AG$10,23,FALSE)","v":{"$error":"#N/A"}},{"$f":"VLOOKUP($A$4,検索範囲!$A$2:$AG$10,24,FALSE)","v":{"$error":"#N/A"}},{"$f":"VLOOKUP($A$4,検索範囲!$A$2:$AG$10,25,FALSE)","v":{"$error":"#N/A"}},{"$f":"VLOOKUP($A$4,検索範囲!$A$2:$AG$10,26,FALSE)","v":{"$error":"#N/A"}},{"$error":"#N/A"},{"$f":"VLOOKUP($A$4,検索範囲!$A$2:$AG$10,28,FALSE)","v":{"$error":"#N/A"}},null,null,null,null,null,{"$f":"VLOOKUP($A$4,検索範囲!$A$2:$AG$10,27,FALSE)","v":{"$error":"#N/A"}},null,"",""]
[{"$error":"#N/A"},null,{"$f":"VLOOKUP($A$5,検索範囲!$A$2:$AG$10,2,FALSE)","v":{"$error":"#N/A"}},{"$f":"IF(A25=\"\",\"\",1)","v":{"$error":"#N/A"}},{"$f":"VLOOKUP($A$5,検索範囲!$A$2:$AG$10,30,FALSE)","v":{"$error":"#N/A"}},{"$f":"VLOOKUP($A$5,検索範囲!$A$2:$AG$10,5,FALSE)","v":{"$error":"#N/A"}},{"$f":"VLOOKUP($A$5,検索範囲!$A$2:$AG$10,6,FALSE)","v":{"$error":"#N/A"}},{"$f":"VLOOKUP($A$5,検索範囲!$A$2:$AG$10,7,FALSE)","v":{"$error":"#N/A"}},{"$f":"VLOOKUP($A$5,検索範囲!$A$2:$AG$10,8,FALSE)","v":{"$error":"#N/A"}},{"$f":"IF(Q25=\"\",\"\",DATEVALUE(TEXT(Q25,\"0000!/00!/00\")))","v":{"$error":"#N/A"}},{"$f":"VLOOKUP($A$5,検索範囲!$A$2:$AG$10,10,FALSE)","v":{"$error":"#N/A"}},null,null,null,null,null,{"$f":"VLOOKUP($A$5,検索範囲!$A$2:$AG$10,9,FALSE)","v":{"$error":"#N/A"}},null,"",""]
[{"$error":"#N/A"},null,{"$f":"VLOOKUP($A$5,検索範囲!$A$2:$AG$10,2,FALSE)","v":{"$error":"#N/A"}},{"$f":"IF(A26=\"\",\"\",2)","v":{"$error":"#N/A"}},{"$f":"VLOOKUP($A$5,検索範囲!$A$2:$AG$10,31,FALSE)","v":{"$error":"#N/A"}},{"$f":"VLOOKUP($A$5,検索範囲!$A$2:$AG$10,11,FALSE)","v":{"$error":"#N/A"}},{"$f":"VLOOKUP($A$5,検索範囲!$A$2:$AG$10,12,FALSE)","v":{"$error":"#N/A"}},{"$f":"VLOOKUP($A$5,検索範囲!$A$2:$AG$10,13,FALSE)","v":{"$error":"#N/A"}},{"$f":"VLOOKUP($A$5,検索範囲!$A$2:$AG$10,14,FALSE)","v":{"$error":"#N/A"}},{"$error":"#N/A"},{"$f":"VLOOKUP($A$5,検索範囲!$A$2:$AG$10,16,FALSE)","v":{"$error":"#N/A"}},null,null,null,null,null,{"$f":"VLOOKUP($A$5,検索範囲!$A$2:$AG$10,15,FALSE)","v":{"$error":"#N/A"}},null,"",""]
[{"$error":"#N/A"},null,{"$f":"VLOOKUP($A$5,検索範囲!$A$2:$AG$10,2,FALSE)","v":{"$error":"#N/A"}},{"$f":"IF(A27=\"\",\"\",3)","v":{"$error":"#N/A"}},{"$f":"VLOOKUP($A$5,検索範囲!$A$2:$AG$10,32,FALSE)","v":{"$error":"#N/A"}},{"$f":"VLOOKUP($A$5,検索範囲!$A$2:$AG$10,17,FALSE)","v":{"$error":"#N/A"}},{"$f":"VLOOKUP($A$5,検索範囲!$A$2:$AG$10,18,FALSE)","v":{"$error":"#N/A"}},{"$f":"VLOOKUP($A$5,検索範囲!$A$2:$AG$10,19,FALSE)","v":{"$error":"#N/A"}},{"$f":"VLOOKUP($A$5,検索範囲!$A$2:$AG$10,20,FALSE)","v":{"$error":"#N/A"}},{"$error":"#N/A"},{"$f":"VLOOKUP($A$5,検索範囲!$A$2:$AG$10,22,FALSE)","v":{"$error":"#N/A"}},null,null,null,null,null,{"$f":"VLOOKUP($A$5,検索範囲!$A$2:$AG$10,21,FALSE)","v":{"$error":"#N/A"}},null,"",""]
[{"$error":"#N/A"},null,{"$f":"VLOOKUP($A$5,検索範囲!$A$2:$AG$10,2,FALSE)","v":{"$error":"#N/A"}},{"$f":"IF(A28=\"\",\"\",4)","v":{"$error":"#N/A"}},{"$f":"VLOOKUP($A$5,検索範囲!$A$2:$AG$10,33,FALSE)","v":{"$error":"#N/A"}},{"$f":"VLOOKUP($A$5,検索範囲!$A$2:$AG$10,23,FALSE)","v":{"$error":"#N/A"}},{"$f":"VLOOKUP($A$5,検索範囲!$A$2:$AG$10,24,FALSE)","v":{"$error":"#N/A"}},{"$f":"VLOOKUP($A$5,検索範囲!$A$2:$AG$10,25,FALSE)","v":{"$error":"#N/A"}},{"$f":"VLOOKUP($A$5,検索範囲!$A$2:$AG$10,26,FALSE)","v":{"$error":"#N/A"}},{"$error":"#N/A"},{"$f":"VLOOKUP($A$5,検索範囲!$A$2:$AG$10,28,FALSE)","v":{"$error":"#N/A"}},null,null,null,null,null,{"$f":"VLOOKUP($A$5,検索範囲!$A$2:$AG$10,27,FALSE)","v":{"$error":"#N/A"}},null,"",""]
[{"$error":"#N/A"},null,{"$f":"VLOOKUP($A$6,検索範囲!$A$2:$AG$10,2,FALSE)","v":{"$error":"#N/A"}},{"$f":"IF(A29=\"\",\"\",1)","v":{"$error":"#N/A"}},{"$f":"VLOOKUP($A$6,検索範囲!$A$2:$AG$10,30,FALSE)","v":{"$error":"#N/A"}},{"$f":"VLOOKUP($A$6,検索範囲!$A$2:$AG$10,5,FALSE)","v":{"$error":"#N/A"}},{"$f":"VLOOKUP($A$6,検索範囲!$A$2:$AG$10,6,FALSE)","v":{"$error":"#N/A"}},{"$f":"VLOOKUP($A$6,検索範囲!$A$2:$AG$10,7,FALSE)","v":{"$error":"#N/A"}},{"$f":"VLOOKUP($A$6,検索範囲!$A$2:$AG$10,8,FALSE)","v":{"$error":"#N/A"}},{"$f":"IF(Q29=\"\",\"\",DATEVALUE(TEXT(Q29,\"0000!/00!/00\")))","v":{"$error":"#N/A"}},{"$f":"VLOOKUP($A$6,検索範囲!$A$2:$AG$10,10,FALSE)","v":{"$error":"#N/A"}},null,null,null,null,null,{"$f":"VLOOKUP($A$6,検索範囲!$A$2:$AG$10,9,FALSE)","v":{"$error":"#N/A"}},null,"",""]
[{"$error":"#N/A"},null,{"$f":"VLOOKUP($A$6,検索範囲!$A$2:$AG$10,2,FALSE)","v":{"$error":"#N/A"}},{"$f":"IF(A30=\"\",\"\",2)","v":{"$error":"#N/A"}},{"$f":"VLOOKUP($A$6,検索範囲!$A$2:$AG$10,31,FALSE)","v":{"$error":"#N/A"}},{"$f":"VLOOKUP($A$6,検索範囲!$A$2:$AG$10,11,FALSE)","v":{"$error":"#N/A"}},{"$f":"VLOOKUP($A$6,検索範囲!$A$2:$AG$10,12,FALSE)","v":{"$error":"#N/A"}},{"$f":"VLOOKUP($A$6,検索範囲!$A$2:$AG$10,13,FALSE)","v":{"$error":"#N/A"}},{"$f":"VLOOKUP($A$6,検索範囲!$A$2:$AG$10,14,FALSE)","v":{"$error":"#N/A"}},{"$error":"#N/A"},{"$f":"VLOOKUP($A$6,検索範囲!$A$2:$AG$10,16,FALSE)","v":{"$error":"#N/A"}},null,null,null,null,null,{"$f":"VLOOKUP($A$6,検索範囲!$A$2:$AG$10,15,FALSE)","v":{"$error":"#N/A"}},null,"",""]
[{"$error":"#N/A"},null,{"$f":"VLOOKUP($A$6,検索範囲!$A$2:$AG$10,2,FALSE)","v":{"$error":"#N/A"}},{"$f":"IF(A31=\"\",\"\",3)","v":{"$error":"#N/A"}},{"$f":"VLOOKUP($A$6,検索範囲!$A$2:$AG$10,32,FALSE)","v":{"$error":"#N/A"}},{"$f":"VLOOKUP($A$6,検索範囲!$A$2:$AG$10,17,FALSE)","v":{"$error":"#N/A"}},{"$f":"VLOOKUP($A$6,検索範囲!$A$2:$AG$10,18,FALSE)","v":{"$error":"#N/A"}},{"$f":"VLOOKUP($A$6,検索範囲!$A$2:$AG$10,19,FALSE)","v":{"$error":"#N/A"}},{"$f":"VLOOKUP($A$6,検索範囲!$A$2:$AG$10,20,FALSE)","v":{"$error":"#N/A"}},{"$error":"#N/A"},{"$f":"VLOOKUP($A$6,検索範囲!$A$2:$AG$10,22,FALSE)","v":{"$error":"#N/A"}},null,null,null,null,null,{"$f":"VLOOKUP($A$6,検索範囲!$A$2:$AG$10,21,FALSE)","v":{"$error":"#N/A"}},null,"",""]
[{"$error":"#N/A"},null,{"$f":"VLOOKUP($A$6,検索範囲!$A$2:$AG$10,2,FALSE)","v":{"$error":"#N/A"}},{"$f":"IF(A32=\"\",\"\",4)","v":{"$error":"#N/A"}},{"$f":"VLOOKUP($A$6,検索範囲!$A$2:$AG$10,33,FALSE)","v":{"$error":"#N/A"}},{"$f":"VLOOKUP($A$6,検索範囲!$A$2:$AG$10,23,FALSE)","v":{"$error":"#N/A"}},{"$f":"VLOOKUP($A$6,検索範囲!$A$2:$AG$10,24,FALSE)","v":{"$error":"#N/A"}},{"$f":"VLOOKUP($A$6,検索範囲!$A$2:$AG$10,25,FALSE)","v":{"$error":"#N/A"}},{"$f":"VLOOKUP($A$6,検索範囲!$A$2:$AG$10,26,FALSE)","v":{"$error":"#N/A"}},{"$error":"#N/A"},{"$f":"VLOOKUP($A$6,検索範囲!$A$2:$AG$10,28,FALSE)","v":{"$error":"#N/A"}},null,null,null,null,null,{"$f":"VLOOKUP($A$6,検索範囲!$A$2:$AG$10,27,FALSE)","v":{"$error":"#N/A"}},null,"",""]
[{"$error":"#N/A"},null,{"$f":"VLOOKUP($A$7,検索範囲!$A$2:$AG$10,2,FALSE)","v":{"$error":"#N/A"}},{"$f":"IF(A33=\"\",\"\",1)","v":{"$error":"#N/A"}},{"$f":"VLOOKUP($A$7,検索範囲!$A$2:$AG$10,30,FALSE)","v":{"$error":"#N/A"}},{"$f":"VLOOKUP($A$7,検索範囲!$A$2:$AG$10,5,FALSE)","v":{"$error":"#N/A"}},{"$f":"VLOOKUP($A$7,検索範囲!$A$2:$AG$10,6,FALSE)","v":{"$error":"#N/A"}},{"$f":"VLOOKUP($A$7,検索範囲!$A$2:$AG$10,7,FALSE)","v":{"$error":"#N/A"}},{"$f":"VLOOKUP($A$7,検索範囲!$A$2:$AG$10,8,FALSE)","v":{"$error":"#N/A"}},{"$f":"IF(Q33=\"\",\"\",DATEVALUE(TEXT(Q33,\"0000!/00!/00\")))","v":{"$error":"#N/A"}},{"$f":"VLOOKUP($A$7,検索範囲!$A$2:$AG$10,10,FALSE)","v":{"$error":"#N/A"}},null,null,null,null,null,{"$f":"VLOOKUP($A$7,検索範囲!$A$2:$AG$10,9,FALSE)","v":{"$error":"#N/A"}},null,"",""]
[{"$error":"#N/A"},null,{"$f":"VLOOKUP($A$7,検索範囲!$A$2:$AG$10,2,FALSE)","v":{"$error":"#N/A"}},{"$f":"IF(A34=\"\",\"\",2)","v":{"$error":"#N/A"}},{"$f":"VLOOKUP($A$7,検索範囲!$A$2:$AG$10,31,FALSE)","v":{"$error":"#N/A"}},{"$f":"VLOOKUP($A$7,検索範囲!$A$2:$AG$10,11,FALSE)","v":{"$error":"#N/A"}},{"$f":"VLOOKUP($A$7,検索範囲!$A$2:$AG$10,12,FALSE)","v":{"$error":"#N/A"}},{"$f":"VLOOKUP($A$7,検索範囲!$A$2:$AG$10,13,FALSE)","v":{"$error":"#N/A"}},{"$f":"VLOOKUP($A$7,検索範囲!$A$2:$AG$10,14,FALSE)","v":{"$error":"#N/A"}},{"$error":"#N/A"},{"$f":"VLOOKUP($A$7,検索範囲!$A$2:$AG$10,16,FALSE)","v":{"$error":"#N/A"}},null,null,null,null,null,{"$f":"VLOOKUP($A$7,検索範囲!$A$2:$AG$10,15,FALSE)","v":{"$error":"#N/A"}},null,"",""]
[{"$error":"#N/A"},null,{"$f":"VLOOKUP($A$7,検索範囲!$A$2:$AG$10,2,FALSE)","v":{"$error":"#N/A"}},{"$f":"IF(A35=\"\",\"\",3)","v":{"$error":"#N/A"}},{"$f":"VLOOKUP($A$7,検索範囲!$A$2:$AG$10,32,FALSE)","v":{"$error":"#N/A"}},{"$f":"VLOOKUP($A$7,検索範囲!$A$2:$AG$10,17,FALSE)","v":{"$error":"#N/A"}},{"$f":"VLOOKUP($A$7,検索範囲!$A$2:$AG$10,18,FALSE)","v":{"$error":"#N/A"}},{"$f":"VLOOKUP($A$7,検索範囲!$A$2:$AG$10,19,FALSE)","v":{"$error":"#N/A"}},{"$f":"VLOOKUP($A$7,検索範囲!$A$2:$AG$10,20,FALSE)","v":{"$error":"#N/A"}},{"$error":"#N/A"},{"$f":"VLOOKUP($A$7,検索範囲!$A$2:$AG$10,22,FALSE)","v":{"$error":"#N/A"}},null,null,null,null,null,{"$f":"VLOOKUP($A$7,検索範囲!$A$2:$AG$10,21,FALSE)","v":{"$error":"#N/A"}},null,"",""]
[{"$error":"#N/A"},null,{"$f":"VLOOKUP($A$7,検索範囲!$A$2:$AG$10,2,FALSE)","v":{"$error":"#N/A"}},{"$f":"IF(A36=\"\",\"\",4)","v":{"$error":"#N/A"}},{"$f":"VLOOKUP($A$7,検索範囲!$A$2:$AG$10,33,FALSE)","v":{"$error":"#N/A"}},{"$f":"VLOOKUP($A$7,検索範囲!$A$2:$AG$10,23,FALSE)","v":{"$error":"#N/A"}},{"$f":"VLOOKUP($A$7,検索範囲!$A$2:$AG$10,24,FALSE)","v":{"$error":"#N/A"}},{"$f":"VLOOKUP($A$7,検索範囲!$A$2:$AG$10,25,FALSE)","v":{"$error":"#N/A"}},{"$f":"VLOOKUP($A$7,検索範囲!$A$2:$AG$10,26,FALSE)","v":{"$error":"#N/A"}},{"$error":"#N/A"},{"$f":"VLOOKUP($A$7,検索範囲!$A$2:$AG$10,28,FALSE)","v":{"$error":"#N/A"}},null,null,null,null,null,{"$f":"VLOOKUP($A$7,検索範囲!$A$2:$AG$10,27,FALSE)","v":{"$error":"#N/A"}},null,"",""]
[{"$error":"#N/A"},null,{"$f":"VLOOKUP($A$8,検索範囲!$A$2:$AG$10,2,FALSE)","v":{"$error":"#N/A"}},{"$f":"IF(A37=\"\",\"\",1)","v":{"$error":"#N/A"}},{"$f":"VLOOKUP($A$8,検索範囲!$A$2:$AG$10,30,FALSE)","v":{"$error":"#N/A"}},{"$f":"VLOOKUP($A$8,検索範囲!$A$2:$AG$10,5,FALSE)","v":{"$error":"#N/A"}},{"$f":"VLOOKUP($A$8,検索範囲!$A$2:$AG$10,6,FALSE)","v":{"$error":"#N/A"}},{"$f":"VLOOKUP($A$8,検索範囲!$A$2:$AG$10,7,FALSE)","v":{"$error":"#N/A"}},{"$f":"VLOOKUP($A$8,検索範囲!$A$2:$AG$10,8,FALSE)","v":{"$error":"#N/A"}},{"$f":"IF(Q37=\"\",\"\",DATEVALUE(TEXT(Q37,\"0000!/00!/00\")))","v":{"$error":"#N/A"}},{"$f":"VLOOKUP($A$8,検索範囲!$A$2:$AG$10,10,FALSE)","v":{"$error":"#N/A"}},null,null,null,null,null,{"$f":"VLOOKUP($A$8,検索範囲!$A$2:$AG$10,9,FALSE)","v":{"$error":"#N/A"}},null,"",""]
[{"$error":"#N/A"},null,{"$f":"VLOOKUP($A$8,検索範囲!$A$2:$AG$10,2,FALSE)","v":{"$error":"#N/A"}},{"$f":"IF(A38=\"\",\"\",2)","v":{"$error":"#N/A"}},{"$f":"VLOOKUP($A$8,検索範囲!$A$2:$AG$10,31,FALSE)","v":{"$error":"#N/A"}},{"$f":"VLOOKUP($A$8,検索範囲!$A$2:$AG$10,11,FALSE)","v":{"$error":"#N/A"}},{"$f":"VLOOKUP($A$8,検索範囲!$A$2:$AG$10,12,FALSE)","v":{"$error":"#N/A"}},{"$f":"VLOOKUP($A$8,検索範囲!$A$2:$AG$10,13,FALSE)","v":{"$error":"#N/A"}},{"$f":"VLOOKUP($A$8,検索範囲!$A$2:$AG$10,14,FALSE)","v":{"$error":"#N/A"}},{"$error":"#N/A"},{"$f":"VLOOKUP($A$8,検索範囲!$A$2:$AG$10,16,FALSE)","v":{"$error":"#N/A"}},null,null,null,null,null,{"$f":"VLOOKUP($A$8,検索範囲!$A$2:$AG$10,15,FALSE)","v":{"$error":"#N/A"}},null,"",""]
[{"$error":"#N/A"},null,{"$f":"VLOOKUP($A$8,検索範囲!$A$2:$AG$10,2,FALSE)","v":{"$error":"#N/A"}},{"$f":"IF(A39=\"\",\"\",3)","v":{"$error":"#N/A"}},{"$f":"VLOOKUP($A$8,検索範囲!$A$2:$AG$10,32,FALSE)","v":{"$error":"#N/A"}},{"$f":"VLOOKUP($A$8,検索範囲!$A$2:$AG$10,17,FALSE)","v":{"$error":"#N/A"}},{"$f":"VLOOKUP($A$8,検索範囲!$A$2:$AG$10,18,FALSE)","v":{"$error":"#N/A"}},{"$f":"VLOOKUP($A$8,検索範囲!$A$2:$AG$10,19,FALSE)","v":{"$error":"#N/A"}},{"$f":"VLOOKUP($A$8,検索範囲!$A$2:$AG$10,20,FALSE)","v":{"$error":"#N/A"}},{"$error":"#N/A"},{"$f":"VLOOKUP($A$8,検索範囲!$A$2:$AG$10,22,FALSE)","v":{"$error":"#N/A"}},null,null,null,null,null,{"$f":"VLOOKUP($A$8,検索範囲!$A$2:$AG$10,21,FALSE)","v":{"$error":"#N/A"}},null,"",""]
[{"$error":"#N/A"},null,{"$f":"VLOOKUP($A$8,検索範囲!$A$2:$AG$10,2,FALSE)","v":{"$error":"#N/A"}},{"$f":"IF(A40=\"\",\"\",4)","v":{"$error":"#N/A"}},{"$f":"VLOOKUP($A$8,検索範囲!$A$2:$AG$10,33,FALSE)","v":{"$error":"#N/A"}},{"$f":"VLOOKUP($A$8,検索範囲!$A$2:$AG$10,23,FALSE)","v":{"$error":"#N/A"}},{"$f":"VLOOKUP($A$8,検索範囲!$A$2:$AG$10,24,FALSE)","v":{"$error":"#N/A"}},{"$f":"VLOOKUP($A$8,検索範囲!$A$2:$AG$10,25,FALSE)","v":{"$error":"#N/A"}},{"$f":"VLOOKUP($A$8,検索範囲!$A$2:$AG$10,26,FALSE)","v":{"$error":"#N/A"}},{"$error":"#N/A"},{"$f":"VLOOKUP($A$8,検索範囲!$A$2:$AG$10,28,FALSE)","v":{"$error":"#N/A"}},null,null,null,null,null,{"$f":"VLOOKUP($A$8,検索範囲!$A$2:$AG$10,27,FALSE)","v":{"$error":"#N/A"}},null,"",""]
[{"$error":"#N/A"},null,{"$f":"VLOOKUP($A$9,検索範囲!$A$2:$AG$10,2,FALSE)","v":{"$error":"#N/A"}},{"$f":"IF(A41=\"\",\"\",1)","v":{"$error":"#N/A"}},{"$f":"VLOOKUP($A$9,検索範囲!$A$2:$AG$10,30,FALSE)","v":{"$error":"#N/A"}},{"$f":"VLOOKUP($A$9,検索範囲!$A$2:$AG$10,5,FALSE)","v":{"$error":"#N/A"}},{"$f":"VLOOKUP($A$9,検索範囲!$A$2:$AG$10,6,FALSE)","v":{"$error":"#N/A"}},{"$f":"VLOOKUP($A$9,検索範囲!$A$2:$AG$10,7,FALSE)","v":{"$error":"#N/A"}},{"$f":"VLOOKUP($A$9,検索範囲!$A$2:$AG$10,8,FALSE)","v":{"$error":"#N/A"}},{"$f":"IF(Q41=\"\",\"\",DATEVALUE(TEXT(Q41,\"0000!/00!/00\")))","v":{"$error":"#N/A"}},{"$f":"VLOOKUP($A$9,検索範囲!$A$2:$AG$10,10,FALSE)","v":{"$error":"#N/A"}},null,null,null,null,null,{"$f":"VLOOKUP($A$9,検索範囲!$A$2:$AG$10,9,FALSE)","v":{"$error":"#N/A"}},null,"",""]
[{"$error":"#N/A"},null,{"$f":"VLOOKUP($A$9,検索範囲!$A$2:$AG$10,2,FALSE)","v":{"$error":"#N/A"}},{"$f":"IF(A42=\"\",\"\",2)","v":{"$error":"#N/A"}},{"$f":"VLOOKUP($A$9,検索範囲!$A$2:$AG$10,31,FALSE)","v":{"$error":"#N/A"}},{"$f":"VLOOKUP($A$9,検索範囲!$A$2:$AG$10,11,FALSE)","v":{"$error":"#N/A"}},{"$f":"VLOOKUP($A$9,検索範囲!$A$2:$AG$10,12,FALSE)","v":{"$error":"#N/A"}},{"$f":"VLOOKUP($A$9,検索範囲!$A$2:$AG$10,13,FALSE)","v":{"$error":"#N/A"}},{"$f":"VLOOKUP($A$9,検索範囲!$A$2:$AG$10,14,FALSE)","v":{"$error":"#N/A"}},{"$error":"#N/A"},{"$f":"VLOOKUP($A$9,検索範囲!$A$2:$AG$10,16,FALSE)","v":{"$error":"#N/A"}},null,null,null,null,null,{"$f":"VLOOKUP($A$9,検索範囲!$A$2:$AG$10,15,FALSE)","v":{"$error":"#N/A"}},null,"",""]
[{"$error":"#N/A"},null,{"$f":"VLOOKUP($A$9,検索範囲!$A$2:$AG$10,2,FALSE)","v":{"$error":"#N/A"}},{"$f":"IF(A43=\"\",\"\",3)","v":{"$error":"#N/A"}},{"$f":"VLOOKUP($A$9,検索範囲!$A$2:$AG$10,32,FALSE)","v":{"$error":"#N/A"}},{"$f":"VLOOKUP($A$9,検索範囲!$A$2:$AG$10,17,FALSE)","v":{"$error":"#N/A"}},{"$f":"VLOOKUP($A$9,検索範囲!$A$2:$AG$10,18,FALSE)","v":{"$error":"#N/A"}},{"$f":"VLOOKUP($A$9,検索範囲!$A$2:$AG$10,19,FALSE)","v":{"$error":"#N/A"}},{"$f":"VLOOKUP($A$9,検索範囲!$A$2:$AG$10,20,FALSE)","v":{"$error":"#N/A"}},{"$error":"#N/A"},{"$f":"VLOOKUP($A$9,検索範囲!$A$2:$AG$10,22,FALSE)","v":{"$error":"#N/A"}},null,null,null,null,null,{"$f":"VLOOKUP($A$9,検索範囲!$A$2:$AG$10,21,FALSE)","v":{"$error":"#N/A"}},null,"",""]
[{"$error":"#N/A"},null,{"$f":"VLOOKUP($A$9,検索範囲!$A$2:$AG$10,2,FALSE)","v":{"$error":"#N/A"}},{"$f":"IF(A44=\"\",\"\",4)","v":{"$error":"#N/A"}},{"$f":"VLOOKUP($A$9,検索範囲!$A$2:$AG$10,33,FALSE)","v":{"$error":"#N/A"}},{"$f":"VLOOKUP($A$9,検索範囲!$A$2:$AG$10,23,FALSE)","v":{"$error":"#N/A"}},{"$f":"VLOOKUP($A$9,検索範囲!$A$2:$AG$10,24,FALSE)","v":{"$error":"#N/A"}},{"$f":"VLOOKUP($A$9,検索範囲!$A$2:$AG$10,25,FALSE)","v":{"$error":"#N/A"}},{"$f":"VLOOKUP($A$9,検索範囲!$A$2:$AG$10,26,FALSE)","v":{"$error":"#N/A"}},{"$error":"#N/A"},{"$f":"VLOOKUP($A$9,検索範囲!$A$2:$AG$10,28,FALSE)","v":{"$error":"#N/A"}},null,null,null,null,null,{"$f":"VLOOKUP($A$9,検索範囲!$A$2:$AG$10,27,FALSE)","v":{"$error":"#N/A"}},null,"",""]
[{"$error":"#N/A"},null,{"$f":"VLOOKUP($A$10,検索範囲!$A$2:$AG$10,2,FALSE)","v":{"$error":"#N/A"}},{"$f":"IF(A45=\"\",\"\",1)","v":{"$error":"#N/A"}},{"$f":"VLOOKUP($A$10,検索範囲!$A$2:$AG$10,30,FALSE)","v":{"$error":"#N/A"}},{"$f":"VLOOKUP($A$10,検索範囲!$A$2:$AG$10,5,FALSE)","v":{"$error":"#N/A"}},{"$f":"VLOOKUP($A$10,検索範囲!$A$2:$AG$10,6,FALSE)","v":{"$error":"#N/A"}},{"$f":"VLOOKUP($A$10,検索範囲!$A$2:$AG$10,7,FALSE)","v":{"$error":"#N/A"}},{"$f":"VLOOKUP($A$10,検索範囲!$A$2:$AG$10,8,FALSE)","v":{"$error":"#N/A"}},{"$f":"IF(Q45=\"\",\"\",DATEVALUE(TEXT(Q45,\"0000!/00!/00\")))","v":{"$error":"#N/A"}},{"$f":"VLOOKUP($A$10,検索範囲!$A$2:$AG$10,10,FALSE)","v":{"$error":"#N/A"}},null,null,null,null,null,{"$f":"VLOOKUP($A$10,検索範囲!$A$2:$AG$10,9,FALSE)","v":{"$error":"#N/A"}},null,"",""]
[{"$error":"#N/A"},null,{"$f":"VLOOKUP($A$10,検索範囲!$A$2:$AG$10,2,FALSE)","v":{"$error":"#N/A"}},{"$f":"IF(A46=\"\",\"\",2)","v":{"$error":"#N/A"}},{"$f":"VLOOKUP($A$10,検索範囲!$A$2:$AG$10,31,FALSE)","v":{"$error":"#N/A"}},{"$f":"VLOOKUP($A$10,検索範囲!$A$2:$AG$10,11,FALSE)","v":{"$error":"#N/A"}},{"$f":"VLOOKUP($A$10,検索範囲!$A$2:$AG$10,12,FALSE)","v":{"$error":"#N/A"}},{"$f":"VLOOKUP($A$10,検索範囲!$A$2:$AG$10,13,FALSE)","v":{"$error":"#N/A"}},{"$f":"VLOOKUP($A$10,検索範囲!$A$2:$AG$10,14,FALSE)","v":{"$error":"#N/A"}},{"$error":"#N/A"},{"$f":"VLOOKUP($A$10,検索範囲!$A$2:$AG$10,16,FALSE)","v":{"$error":"#N/A"}},null,null,null,null,null,{"$f":"VLOOKUP($A$10,検索範囲!$A$2:$AG$10,15,FALSE)","v":{"$error":"#N/A"}},null,"",""]
[{"$error":"#N/A"},null,{"$f":"VLOOKUP($A$10,検索範囲!$A$2:$AG$10,2,FALSE)","v":{"$error":"#N/A"}},{"$f":"IF(A47=\"\",\"\",3)","v":{"$error":"#N/A"}},{"$f":"VLOOKUP($A$10,検索範囲!$A$2:$AG$10,32,FALSE)","v":{"$error":"#N/A"}},{"$f":"VLOOKUP($A$10,検索範囲!$A$2:$AG$10,17,FALSE)","v":{"$error":"#N/A"}},{"$f":"VLOOKUP($A$10,検索範囲!$A$2:$AG$10,18,FALSE)","v":{"$error":"#N/A"}},{"$f":"VLOOKUP($A$10,検索範囲!$A$2:$AG$10,19,FALSE)","v":{"$error":"#N/A"}},{"$f":"VLOOKUP($A$10,検索範囲!$A$2:$AG$10,20,FALSE)","v":{"$error":"#N/A"}},{"$error":"#N/A"},{"$f":"VLOOKUP($A$10,検索範囲!$A$2:$AG$10,22,FALSE)","v":{"$error":"#N/A"}},null,null,null,null,null,{"$f":"VLOOKUP($A$10,検索範囲!$A$2:$AG$10,21,FALSE)","v":{"$error":"#N/A"}},null,"",""]
[{"$error":"#N/A"},null,{"$f":"VLOOKUP($A$10,検索範囲!$A$2:$AG$10,2,FALSE)","v":{"$error":"#N/A"}},{"$f":"IF(A48=\"\",\"\",4)","v":{"$error":"#N/A"}},{"$f":"VLOOKUP($A$10,検索範囲!$A$2:$AG$10,33,FALSE)","v":{"$error":"#N/A"}},{"$f":"VLOOKUP($A$10,検索範囲!$A$2:$AG$10,23,FALSE)","v":{"$error":"#N/A"}},{"$f":"VLOOKUP($A$10,検索範囲!$A$2:$AG$10,24,FALSE)","v":{"$error":"#N/A"}},{"$f":"VLOOKUP($A$10,検索範囲!$A$2:$AG$10,25,FALSE)","v":{"$error":"#N/A"}},{"$f":"VLOOKUP($A$10,検索範囲!$A$2:$AG$10,26,FALSE)","v":{"$error":"#N/A"}},{"$error":"#N/A"},{"$f":"VLOOKUP($A$10,検索範囲!$A$2:$AG$10,28,FALSE)","v":{"$error":"#N/A"}},null,null,null,null,null,{"$f":"VLOOKUP($A$10,検索範囲!$A$2:$AG$10,27,FALSE)","v":{"$error":"#N/A"}},null,"",""]
[{"$error":"#N/A"},null,{"$f":"VLOOKUP($A$11,検索範囲!$A$2:$AG$10,2,FALSE)","v":{"$error":"#N/A"}},{"$f":"IF(A49=\"\",\"\",1)","v":{"$error":"#N/A"}},{"$f":"VLOOKUP($A$11,検索範囲!$A$2:$AG$10,30,FALSE)","v":{"$error":"#N/A"}},{"$f":"VLOOKUP($A$11,検索範囲!$A$2:$AG$10,5,FALSE)","v":{"$error":"#N/A"}},{"$f":"VLOOKUP($A$11,検索範囲!$A$2:$AG$10,6,FALSE)","v":{"$error":"#N/A"}},{"$f":"VLOOKUP($A$11,検索範囲!$A$2:$AG$10,7,FALSE)","v":{"$error":"#N/A"}},{"$f":"VLOOKUP($A$11,検索範囲!$A$2:$AG$10,8,FALSE)","v":{"$error":"#N/A"}},{"$f":"IF(Q49=\"\",\"\",DATEVALUE(TEXT(Q49,\"0000!/00!/00\")))","v":{"$error":"#N/A"}},{"$f":"VLOOKUP($A$11,検索範囲!$A$2:$AG$10,10,FALSE)","v":{"$error":"#N/A"}},null,null,null,null,null,{"$f":"VLOOKUP($A$11,検索範囲!$A$2:$AG$10,9,FALSE)","v":{"$error":"#N/A"}},null,"",""]
[{"$error":"#N/A"},null,{"$f":"VLOOKUP($A$11,検索範囲!$A$2:$AG$10,2,FALSE)","v":{"$error":"#N/A"}},{"$f":"IF(A50=\"\",\"\",2)","v":{"$error":"#N/A"}},{"$f":"VLOOKUP($A$11,検索範囲!$A$2:$AG$10,31,FALSE)","v":{"$error":"#N/A"}},{"$f":"VLOOKUP($A$11,検索範囲!$A$2:$AG$10,11,FALSE)","v":{"$error":"#N/A"}},{"$f":"VLOOKUP($A$11,検索範囲!$A$2:$AG$10,12,FALSE)","v":{"$error":"#N/A"}},{"$f":"VLOOKUP($A$11,検索範囲!$A$2:$AG$10,13,FALSE)","v":{"$error":"#N/A"}},{"$f":"VLOOKUP($A$11,検索範囲!$A$2:$AG$10,14,FALSE)","v":{"$error":"#N/A"}},{"$error":"#N/A"},{"$f":"VLOOKUP($A$11,検索範囲!$A$2:$AG$10,16,FALSE)","v":{"$error":"#N/A"}},null,null,null,null,null,{"$f":"VLOOKUP($A$11,検索範囲!$A$2:$AG$10,15,FALSE)","v":{"$error":"#N/A"}},null,"",""]
[{"$error":"#N/A"},null,{"$f":"VLOOKUP($A$11,検索範囲!$A$2:$AG$10,2,FALSE)","v":{"$error":"#N/A"}},{"$f":"IF(A51=\"\",\"\",3)","v":{"$error":"#N/A"}},{"$f":"VLOOKUP($A$11,検索範囲!$A$2:$AG$10,32,FALSE)","v":{"$error":"#N/A"}},{"$f":"VLOOKUP($A$11,検索範囲!$A$2:$AG$10,17,FALSE)","v":{"$error":"#N/A"}},{"$f":"VLOOKUP($A$11,検索範囲!$A$2:$AG$10,18,FALSE)","v":{"$error":"#N/A"}},{"$f":"VLOOKUP($A$11,検索範囲!$A$2:$AG$10,19,FALSE)","v":{"$error":"#N/A"}},{"$f":"VLOOKUP($A$11,検索範囲!$A$2:$AG$10,20,FALSE)","v":{"$error":"#N/A"}},{"$error":"#N/A"},{"$f":"VLOOKUP($A$11,検索範囲!$A$2:$AG$10,22,FALSE)","v":{"$error":"#N/A"}},null,null,null,null,null,{"$f":"VLOOKUP($A$11,検索範囲!$A$2:$AG$10,21,FALSE)","v":{"$error":"#N/A"}},null,"",""]
[{"$error":"#N/A"},null,{"$f":"VLOOKUP($A$11,検索範囲!$A$2:$AG$10,2,FALSE)","v":{"$error":"#N/A"}},{"$f":"IF(A52=\"\",\"\",4)","v":{"$error":"#N/A"}},{"$f":"VLOOKUP($A$11,検索範囲!$A$2:$AG$10,33,FALSE)","v":{"$error":"#N/A"}},{"$f":"VLOOKUP($A$11,検索範囲!$A$2:$AG$10,23,FALSE)","v":{"$error":"#N/A"}},{"$f":"VLOOKUP($A$11,検索範囲!$A$2:$AG$10,24,FALSE)","v":{"$error":"#N/A"}},{"$f":"VLOOKUP($A$11,検索範囲!$A$2:$AG$10,25,FALSE)","v":{"$error":"#N/A"}},{"$f":"VLOOKUP($A$11,検索範囲!$A$2:$AG$10,26,FALSE)","v":{"$error":"#N/A"}},{"$error":"#N/A"},{"$f":"VLOOKUP($A$11,検索範囲!$A$2:$AG$10,28,FALSE)","v":{"$error":"#N/A"}},null,null,null,null,null,{"$f":"VLOOKUP($A$11,検索範囲!$A$2:$AG$10,27,FALSE)","v":{"$error":"#N/A"}},null,{"$f":"IF(ISERROR(A52),\"\",IF(E52=\"\",\"\",TODAY()))","v":""},""]

{"sheet":"検索範囲","index":3,"n_rows":10,"n_cols":33,"rows_kept":10,"cut":false,"hidden":true,"merged":[]}
["氏名","個人ｺｰﾄﾞ","姓(漢字)","名(漢字)","扶養No1_姓(漢字)","扶養No1_名(漢字)","扶養No1_姓(ｶﾅ)","扶養No1_名(ｶﾅ)","扶養No1_生年月日","扶養No1_性別","扶養No2_姓(漢字)","扶養No2_名(漢字)","扶養No2_姓(ｶﾅ)","扶養No2_名(ｶﾅ)","扶養No2_生年月日","扶養No2_性別","扶養No3_姓(漢字)","扶養No3_名(漢字)","扶養No3_姓(ｶﾅ)","扶養No3_名(ｶﾅ)","扶養No3_生年月日","扶養No3_性別","扶養No4_姓(漢字)","扶養No4_名(漢字)","扶養No4_姓(ｶﾅ)","扶養No4_名(ｶﾅ)","扶養No4_生年月日","扶養No4_性別","本人個人番号","扶養No1個人番号","扶養No2個人番号","扶養No3個人番号","扶養No4個人番号"]
[{"$f":"IF(C2=\"\",\"エラー\",CONCATENATE(C2,D2))","v":"エラー"},{"$f":"IF('(吉池事務所用)取込'!B2=\"\",\"\",'(吉池事務所用)取込'!B2)","v":""},{"$f":"IF(取得手続連絡!$B$12=\"\",\"\",取得手続連絡!$B$12)","v":""},{"$f":"IF(取得手続連絡!$G$12=\"\",\"\",取得手続連絡!$G$12)","v":""},{"$f":"IF(取得手続連絡!$B$28=\"\",\"\",取得手続連絡!$B$28)","v":""},{"$f":"IF(取得手続連絡!$G$28=\"\",\"\",取得手続連絡!$G$28)","v":""},{"$f":"IF(取得手続連絡!$B$26=\"\",\"\",取得手続連絡!$B$26)","v":""},{"$f":"IF(取得手続連絡!$G$26=\"\",\"\",取得手続連絡!$G$26)","v":""},{"$f":"IF(LEN(取得手続連絡!$Y$29)=8,取得手続連絡!$Y$29,\"\")","v":""},{"$f":"IF(取得手続連絡!$B$30=\"\",\"\",IF(取得手続連絡!$B$30=取得手続連絡!$Z$3,1,2))","v":""},{"$f":"IF(取得手続連絡!$B$39=\"\",\"\",取得手続連絡!$B$39)","v":""},{"$f":"IF(取得手続連絡!$G$39=\"\",\"\",取得手続連絡!$G$39)","v":""},{"$f":"IF(取得手続連絡!$B$37=\"\",\"\",取得手続連絡!$B$37)","v":""},{"$f":"IF(取得手続連絡!$G$37=\"\",\"\",取得手続連絡!$G$37)","v":""},{"$f":"IF(LEN(取得手続連絡!$Y$40)=8,取得手続連絡!$Y$40,\"\")","v":""},{"$f":"IF(取得手続連絡!$B$41=\"\",\"\",IF(取得手続連絡!$B$41=取得手続連絡!$Z$3,1,2))","v":""},{"$f":"IF(取得手続連絡!$B$50=\"\",\"\",取得手続連絡!$B$50)","v":""},{"$f":"IF(取得手続連絡!$G$50=\"\",\"\",取得手続連絡!$G$50)","v":""},{"$f":"IF(取得手続連絡!$B$48=\"\",\"\",取得手続連絡!$B$48)","v":""},{"$f":"IF(取得手続連絡!$G$48=\"\",\"\",取得手続連絡!$G$48)","v":""},{"$f":"IF(LEN(取得手続連絡!$Y$51)=8,取得手続連絡!$Y$51,\"\")","v":""},{"$f":"IF(取得手続連絡!$B$52=\"\",\"\",IF(取得手続連絡!$B$52=取得手続連絡!$Z$3,1,2))","v":""},{"$f":"IF(取得手続連絡!$B$61=\"\",\"\",取得手続連絡!$B$61)","v":""},{"$f":"IF(取得手続連絡!$G$61=\"\",\"\",取得手続連絡!$G$61)","v":""},{"$f":"IF(取得手続連絡!$B$59=\"\",\"\",取得手続連絡!$B$59)","v":""},{"$f":"IF(取得手続連絡!$G$59=\"\",\"\",取得手続連絡!$G$59)","v":""},{"$f":"IF(LEN(取得手続連絡!$Y$62)=8,取得手続連絡!$Y$62,\"\")","v":""},{"$f":"IF(取得手続連絡!$B$63=\"\",\"\",IF(取得手続連絡!$B$63=取得手続連絡!$Z$3,1,2))","v":""},{"$f":"IF(取得手続連絡!$M$9=\"\",\"\",取得手続連絡!$M$9)","v":""},{"$f":"IF(取得手続連絡!$M$25=\"\",\"\",取得手続連絡!$M$25)","v":""},{"$f":"IF(取得手続連絡!$M$36=\"\",\"\",取得手続連絡!$M$36)","v":""},{"$f":"IF(取得手続連絡!$M$47=\"\",\"\",取得手続連絡!$M$47)","v":""},{"$f":"IF(取得手続連絡!$M$58=\"\",\"\",取得手続連絡!$M$58)","v":""}]
[{"$f":"IF(C3=\"\",\"エラー\",CONCATENATE(C3,D3))","v":"エラー"},{"$f":"IF('(吉池事務所用)取込'!B3=\"\",\"\",'(吉池事務所用)取込'!B3)","v":""},{"$f":"IF('取得手続連絡 (2)'!$B$12=\"\",\"\",'取得手続連絡 (2)'!$B$12)","v":""},{"$f":"IF('取得手続連絡 (2)'!$G$12=\"\",\"\",'取得手続連絡 (2)'!$G$12)","v":""},{"$f":"IF('取得手続連絡 (2)'!$B$28=\"\",\"\",'取得手続連絡 (2)'!$B$28)","v":""},{"$f":"IF('取得手続連絡 (2)'!$G$28=\"\",\"\",'取得手続連絡 (2)'!$G$28)","v":""},{"$f":"IF('取得手続連絡 (2)'!$B$26=\"\",\"\",'取得手続連絡 (2)'!$B$26)","v":""},{"$f":"IF('取得手続連絡 (2)'!$G$26=\"\",\"\",'取得手続連絡 (2)'!$G$26)","v":""},{"$f":"IF(LEN('取得手続連絡 (2)'!$Y$29)=8,'取得手続連絡 (2)'!$Y$29,\"\")","v":""},{"$f":"IF('取得手続連絡 (2)'!$B$30=\"\",\"\",IF('取得手続連絡 (2)'!$B$30='取得手続連絡 (2)'!$Z$3,1,2))","v":""},{"$f":"IF('取得手続連絡 (2)'!$B$39=\"\",\"\",'取得手続連絡 (2)'!$B$39)","v":""},{"$f":"IF('取得手続連絡 (2)'!$G$39=\"\",\"\",'取得手続連絡 (2)'!$G$39)","v":""},{"$f":"IF('取得手続連絡 (2)'!$B$37=\"\",\"\",'取得手続連絡 (2)'!$B$37)","v":""},{"$f":"IF('取得手続連絡 (2)'!$G$37=\"\",\"\",'取得手続連絡 (2)'!$G$37)","v":""},{"$f":"IF(LEN('取得手続連絡 (2)'!$Y$40)=8,'取得手続連絡 (2)'!$Y$40,\"\")","v":""},{"$f":"IF('取得手続連絡 (2)'!$B$41=\"\",\"\",IF('取得手続連絡 (2)'!$B$41='取得手続連絡 (2)'!$Z$3,1,2))","v":""},{"$f":"IF('取得手続連絡 (2)'!$B$50=\"\",\"\",'取得手続連絡 (2)'!$B$50)","v":""},{"$f":"IF('取得手続連絡 (2)'!$G$50=\"\",\"\",'取得手続連絡 (2)'!$G$50)","v":""},{"$f":"IF('取得手続連絡 (2)'!$B$48=\"\",\"\",'取得手続連絡 (2)'!$B$48)","v":""},{"$f":"IF('取得手続連絡 (2)'!$G$48=\"\",\"\",'取得手続連絡 (2)'!$G$48)","v":""},{"$f":"IF(LEN('取得手続連絡 (2)'!$Y$51)=8,'取得手続連絡 (2)'!$Y$51,\"\")","v":""},{"$f":"IF('取得手続連絡 (2)'!$B$52=\"\",\"\",IF('取得手続連絡 (2)'!$B$52='取得手続連絡 (2)'!$Z$3,1,2))","v":""},{"$f":"IF('取得手続連絡 (2)'!$B$61=\"\",\"\",'取得手続連絡 (2)'!$B$61)","v":""},{"$f":"IF('取得手続連絡 (2)'!$G$61=\"\",\"\",'取得手続連絡 (2)'!$G$61)","v":""},{"$f":"IF('取得手続連絡 (2)'!$B$59=\"\",\"\",'取得手続連絡 (2)'!$B$59)","v":""},{"$f":"IF('取得手続連絡 (2)'!$G$59=\"\",\"\",'取得手続連絡 (2)'!$G$59)","v":""},{"$f":"IF(LEN('取得手続連絡 (2)'!$Y$62)=8,'取得手続連絡 (2)'!$Y$62,\"\")","v":""},{"$f":"IF('取得手続連絡 (2)'!$B$63=\"\",\"\",IF('取得手続連絡 (2)'!$B$63='取得手続連絡 (2)'!$Z$3,1,2))","v":""},{"$f":"IF('取得手続連絡 (2)'!$M$9=\"\",\"\",'取得手続連絡 (2)'!$M$9)","v":""},{"$f":"IF('取得手続連絡 (2)'!$M$25=\"\",\"\",'取得手続連絡 (2)'!$M$25)","v":""},{"$f":"IF('取得手続連絡 (2)'!$M$36=\"\",\"\",'取得手続連絡 (2)'!$M$36)","v":""},{"$f":"IF('取得手続連絡 (2)'!$M$47=\"\",\"\",'取得手続連絡 (2)'!$M$47)","v":""},{"$f":"IF('取得手続連絡 (2)'!$M$58=\"\",\"\",'取得手続連絡 (2)'!$M$58)","v":""}]
["エラー",{"$f":"IF('(吉池事務所用)取込'!B4=\"\",\"\",'(吉池事務所用)取込'!B4)","v":""},{"$f":"IF('取得手続連絡 (3)'!$B$12=\"\",\"\",'取得手続連絡 (3)'!$B$12)","v":""},{"$f":"IF('取得手続連絡 (3)'!$G$12=\"\",\"\",'取得手続連絡 (3)'!$G$12)","v":""},{"$f":"IF('取得手続連絡 (3)'!$B$28=\"\",\"\",'取得手続連絡 (3)'!$B$28)","v":""},{"$f":"IF('取得手続連絡 (3)'!$G$28=\"\",\"\",'取得手続連絡 (3)'!$G$28)","v":""},{"$f":"IF('取得手続連絡 (3)'!$B$26=\"\",\"\",'取得手続連絡 (3)'!$B$26)","v":""},{"$f":"IF('取得手続連絡 (3)'!$G$26=\"\",\"\",'取得手続連絡 (3)'!$G$26)","v":""},{"$f":"IF(LEN('取得手続連絡 (3)'!$Y$29)=8,'取得手続連絡 (3)'!$Y$29,\"\")","v":""},{"$f":"IF('取得手続連絡 (3)'!$B$30=\"\",\"\",IF('取得手続連絡 (3)'!$B$30='取得手続連絡 (3)'!$Z$3,1,2))","v":""},{"$f":"IF('取得手続連絡 (3)'!$B$39=\"\",\"\",'取得手続連絡 (3)'!$B$39)","v":""},{"$f":"IF('取得手続連絡 (3)'!$G$39=\"\",\"\",'取得手続連絡 (3)'!$G$39)","v":""},{"$f":"IF('取得手続連絡 (3)'!$B$37=\"\",\"\",'取得手続連絡 (3)'!$B$37)","v":""},{"$f":"IF('取得手続連絡 (3)'!$G$37=\"\",\"\",'取得手続連絡 (3)'!$G$37)","v":""},{"$f":"IF(LEN('取得手続連絡 (3)'!$Y$40)=8,'取得手続連絡 (3)'!$Y$40,\"\")","v":""},{"$f":"IF('取得手続連絡 (3)'!$B$41=\"\",\"\",IF('取得手続連絡 (3)'!$B$41='取得手続連絡 (3)'!$Z$3,1,2))","v":""},{"$f":"IF('取得手続連絡 (3)'!$B$50=\"\",\"\",'取得手続連絡 (3)'!$B$50)","v":""},{"$f":"IF('取得手続連絡 (3)'!$G$50=\"\",\"\",'取得手続連絡 (3)'!$G$50)","v":""},{"$f":"IF('取得手続連絡 (3)'!$B$48=\"\",\"\",'取得手続連絡 (3)'!$B$48)","v":""},{"$f":"IF('取得手続連絡 (3)'!$G$48=\"\",\"\",'取得手続連絡 (3)'!$G$48)","v":""},{"$f":"IF(LEN('取得手続連絡 (3)'!$Y$51)=8,'取得手続連絡 (3)'!$Y$51,\"\")","v":""},{"$f":"IF('取得手続連絡 (3)'!$B$52=\"\",\"\",IF('取得手続連絡 (3)'!$B$52='取得手続連絡 (3)'!$Z$3,1,2))","v":""},{"$f":"IF('取得手続連絡 (3)'!$B$61=\"\",\"\",'取得手続連絡 (3)'!$B$61)","v":""},{"$f":"IF('取得手続連絡 (3)'!$G$61=\"\",\"\",'取得手続連絡 (3)'!$G$61)","v":""},{"$f":"IF('取得手続連絡 (3)'!$B$59=\"\",\"\",'取得手続連絡 (3)'!$B$59)","v":""},{"$f":"IF('取得手続連絡 (3)'!$G$59=\"\",\"\",'取得手続連絡 (3)'!$G$59)","v":""},{"$f":"IF(LEN('取得手続連絡 (3)'!$Y$62)=8,'取得手続連絡 (3)'!$Y$62,\"\")","v":""},{"$f":"IF('取得手続連絡 (3)'!$B$63=\"\",\"\",IF('取得手続連絡 (3)'!$B$63='取得手続連絡 (3)'!$Z$3,1,2))","v":""},{"$f":"IF('取得手続連絡 (3)'!$M$9=\"\",\"\",'取得手続連絡 (3)'!$M$9)","v":""},{"$f":"IF('取得手続連絡 (3)'!$M$25=\"\",\"\",'取得手続連絡 (3)'!$M$25)","v":""},{"$f":"IF('取得手続連絡 (3)'!$M$36=\"\",\"\",'取得手続連絡 (3)'!$M$36)","v":""},{"$f":"IF('取得手続連絡 (3)'!$M$47=\"\",\"\",'取得手続連絡 (3)'!$M$47)","v":""},{"$f":"IF('取得手続連絡 (3)'!$M$58=\"\",\"\",'取得手続連絡 (3)'!$M$58)","v":""}]
["エラー",{"$f":"IF('(吉池事務所用)取込'!B5=\"\",\"\",'(吉池事務所用)取込'!B5)","v":""},{"$f":"IF('取得手続連絡 (4)'!$B$12=\"\",\"\",'取得手続連絡 (4)'!$B$12)","v":""},{"$f":"IF('取得手続連絡 (4)'!$G$12=\"\",\"\",'取得手続連絡 (4)'!$G$12)","v":""},{"$f":"IF('取得手続連絡 (4)'!$B$28=\"\",\"\",'取得手続連絡 (4)'!$B$28)","v":""},{"$f":"IF('取得手続連絡 (4)'!$G$28=\"\",\"\",'取得手続連絡 (4)'!$G$28)","v":""},{"$f":"IF('取得手続連絡 (4)'!$B$26=\"\",\"\",'取得手続連絡 (4)'!$B$26)","v":""},{"$f":"IF('取得手続連絡 (4)'!$G$26=\"\",\"\",'取得手続連絡 (4)'!$G$26)","v":""},{"$f":"IF(LEN('取得手続連絡 (4)'!$Y$29)=8,'取得手続連絡 (4)'!$Y$29,\"\")","v":""},{"$f":"IF('取得手続連絡 (4)'!$B$30=\"\",\"\",IF('取得手続連絡 (4)'!$B$30='取得手続連絡 (4)'!$Z$3,1,2))","v":""},{"$f":"IF('取得手続連絡 (4)'!$B$39=\"\",\"\",'取得手続連絡 (4)'!$B$39)","v":""},{"$f":"IF('取得手続連絡 (4)'!$G$39=\"\",\"\",'取得手続連絡 (4)'!$G$39)","v":""},{"$f":"IF('取得手続連絡 (4)'!$B$37=\"\",\"\",'取得手続連絡 (4)'!$B$37)","v":""},{"$f":"IF('取得手続連絡 (4)'!$G$37=\"\",\"\",'取得手続連絡 (4)'!$G$37)","v":""},{"$f":"IF(LEN('取得手続連絡 (4)'!$Y$40)=8,'取得手続連絡 (4)'!$Y$40,\"\")","v":""},{"$f":"IF('取得手続連絡 (4)'!$B$41=\"\",\"\",IF('取得手続連絡 (4)'!$B$41='取得手続連絡 (4)'!$Z$3,1,2))","v":""},{"$f":"IF('取得手続連絡 (4)'!$B$50=\"\",\"\",'取得手続連絡 (4)'!$B$50)","v":""},{"$f":"IF('取得手続連絡 (4)'!$G$50=\"\",\"\",'取得手続連絡 (4)'!$G$50)","v":""},{"$f":"IF('取得手続連絡 (4)'!$B$48=\"\",\"\",'取得手続連絡 (4)'!$B$48)","v":""},{"$f":"IF('取得手続連絡 (4)'!$G$48=\"\",\"\",'取得手続連絡 (4)'!$G$48)","v":""},{"$f":"IF(LEN('取得手続連絡 (4)'!$Y$51)=8,'取得手続連絡 (4)'!$Y$51,\"\")","v":""},{"$f":"IF('取得手続連絡 (4)'!$B$52=\"\",\"\",IF('取得手続連絡 (4)'!$B$52='取得手続連絡 (4)'!$Z$3,1,2))","v":""},{"$f":"IF('取得手続連絡 (4)'!$B$61=\"\",\"\",'取得手続連絡 (4)'!$B$61)","v":""},{"$f":"IF('取得手続連絡 (4)'!$G$61=\"\",\"\",'取得手続連絡 (4)'!$G$61)","v":""},{"$f":"IF('取得手続連絡 (4)'!$B$59=\"\",\"\",'取得手続連絡 (4)'!$B$59)","v":""},{"$f":"IF('取得手続連絡 (4)'!$G$59=\"\",\"\",'取得手続連絡 (4)'!$G$59)","v":""},{"$f":"IF(LEN('取得手続連絡 (4)'!$Y$62)=8,'取得手続連絡 (4)'!$Y$62,\"\")","v":""},{"$f":"IF('取得手続連絡 (4)'!$B$63=\"\",\"\",IF('取得手続連絡 (4)'!$B$63='取得手続連絡 (4)'!$Z$3,1,2))","v":""},{"$f":"IF('取得手続連絡 (4)'!$M$9=\"\",\"\",'取得手続連絡 (4)'!$M$9)","v":""},{"$f":"IF('取得手続連絡 (4)'!$M$25=\"\",\"\",'取得手続連絡 (4)'!$M$25)","v":""},{"$f":"IF('取得手続連絡 (4)'!$M$36=\"\",\"\",'取得手続連絡 (4)'!$M$36)","v":""},{"$f":"IF('取得手続連絡 (4)'!$M$47=\"\",\"\",'取得手続連絡 (4)'!$M$47)","v":""},{"$f":"IF('取得手続連絡 (4)'!$M$58=\"\",\"\",'取得手続連絡 (4)'!$M$58)","v":""}]
["エラー",{"$f":"IF('(吉池事務所用)取込'!B6=\"\",\"\",'(吉池事務所用)取込'!B6)","v":""},{"$f":"IF('取得手続連絡 (5)'!$B$12=\"\",\"\",'取得手続連絡 (5)'!$B$12)","v":""},{"$f":"IF('取得手続連絡 (5)'!$G$12=\"\",\"\",'取得手続連絡 (5)'!$G$12)","v":""},{"$f":"IF('取得手続連絡 (5)'!$B$28=\"\",\"\",'取得手続連絡 (5)'!$B$28)","v":""},{"$f":"IF('取得手続連絡 (5)'!$G$28=\"\",\"\",'取得手続連絡 (5)'!$G$28)","v":""},{"$f":"IF('取得手続連絡 (5)'!$B$26=\"\",\"\",'取得手続連絡 (5)'!$B$26)","v":""},{"$f":"IF('取得手続連絡 (5)'!$G$26=\"\",\"\",'取得手続連絡 (5)'!$G$26)","v":""},{"$f":"IF(LEN('取得手続連絡 (5)'!$Y$29)=8,'取得手続連絡 (5)'!$Y$29,\"\")","v":""},{"$f":"IF('取得手続連絡 (5)'!$B$30=\"\",\"\",IF('取得手続連絡 (5)'!$B$30='取得手続連絡 (5)'!$Z$3,1,2))","v":""},{"$f":"IF('取得手続連絡 (5)'!$B$39=\"\",\"\",'取得手続連絡 (5)'!$B$39)","v":""},{"$f":"IF('取得手続連絡 (5)'!$G$39=\"\",\"\",'取得手続連絡 (5)'!$G$39)","v":""},{"$f":"IF('取得手続連絡 (5)'!$B$37=\"\",\"\",'取得手続連絡 (5)'!$B$37)","v":""},{"$f":"IF('取得手続連絡 (5)'!$G$37=\"\",\"\",'取得手続連絡 (5)'!$G$37)","v":""},{"$f":"IF(LEN('取得手続連絡 (5)'!$Y$40)=8,'取得手続連絡 (5)'!$Y$40,\"\")","v":""},{"$f":"IF('取得手続連絡 (5)'!$B$41=\"\",\"\",IF('取得手続連絡 (5)'!$B$41='取得手続連絡 (5)'!$Z$3,1,2))","v":""},{"$f":"IF('取得手続連絡 (5)'!$B$50=\"\",\"\",'取得手続連絡 (5)'!$B$50)","v":""},{"$f":"IF('取得手続連絡 (5)'!$G$50=\"\",\"\",'取得手続連絡 (5)'!$G$50)","v":""},{"$f":"IF('取得手続連絡 (5)'!$B$48=\"\",\"\",'取得手続連絡 (5)'!$B$48)","v":""},{"$f":"IF('取得手続連絡 (5)'!$G$48=\"\",\"\",'取得手続連絡 (5)'!$G$48)","v":""},{"$f":"IF(LEN('取得手続連絡 (5)'!$Y$51)=8,'取得手続連絡 (5)'!$Y$51,\"\")","v":""},{"$f":"IF('取得手続連絡 (5)'!$B$52=\"\",\"\",IF('取得手続連絡 (5)'!$B$52='取得手続連絡 (5)'!$Z$3,1,2))","v":""},{"$f":"IF('取得手続連絡 (5)'!$B$61=\"\",\"\",'取得手続連絡 (5)'!$B$61)","v":""},{"$f":"IF('取得手続連絡 (5)'!$G$61=\"\",\"\",'取得手続連絡 (5)'!$G$61)","v":""},{"$f":"IF('取得手続連絡 (5)'!$B$59=\"\",\"\",'取得手続連絡 (5)'!$B$59)","v":""},{"$f":"IF('取得手続連絡 (5)'!$G$59=\"\",\"\",'取得手続連絡 (5)'!$G$59)","v":""},{"$f":"IF(LEN('取得手続連絡 (5)'!$Y$62)=8,'取得手続連絡 (5)'!$Y$62,\"\")","v":""},{"$f":"IF('取得手続連絡 (5)'!$B$63=\"\",\"\",IF('取得手続連絡 (5)'!$B$63='取得手続連絡 (5)'!$Z$3,1,2))","v":""},{"$f":"IF('取得手続連絡 (5)'!$M$9=\"\",\"\",'取得手続連絡 (5)'!$M$9)","v":""},{"$f":"IF('取得手続連絡 (5)'!$M$25=\"\",\"\",'取得手続連絡 (5)'!$M$25)","v":""},{"$f":"IF('取得手続連絡 (5)'!$M$36=\"\",\"\",'取得手続連絡 (5)'!$M$36)","v":""},{"$f":"IF('取得手続連絡 (5)'!$M$47=\"\",\"\",'取得手続連絡 (5)'!$M$47)","v":""},{"$f":"IF('取得手続連絡 (5)'!$M$58=\"\",\"\",'取得手続連絡 (5)'!$M$58)","v":""}]
["エラー",{"$f":"IF('(吉池事務所用)取込'!B7=\"\",\"\",'(吉池事務所用)取込'!B7)","v":""},{"$f":"IF('取得手続連絡 (6)'!$B$12=\"\",\"\",'取得手続連絡 (6)'!$B$12)","v":""},{"$f":"IF('取得手続連絡 (6)'!$G$12=\"\",\"\",'取得手続連絡 (6)'!$G$12)","v":""},{"$f":"IF('取得手続連絡 (6)'!$B$28=\"\",\"\",'取得手続連絡 (6)'!$B$28)","v":""},{"$f":"IF('取得手続連絡 (6)'!$G$28=\"\",\"\",'取得手続連絡 (6)'!$G$28)","v":""},{"$f":"IF('取得手続連絡 (6)'!$B$26=\"\",\"\",'取得手続連絡 (6)'!$B$26)","v":""},{"$f":"IF('取得手続連絡 (6)'!$G$26=\"\",\"\",'取得手続連絡 (6)'!$G$26)","v":""},{"$f":"IF(LEN('取得手続連絡 (6)'!$Y$29)=8,'取得手続連絡 (6)'!$Y$29,\"\")","v":""},{"$f":"IF('取得手続連絡 (6)'!$B$30=\"\",\"\",IF('取得手続連絡 (6)'!$B$30='取得手続連絡 (6)'!$Z$3,1,2))","v":""},{"$f":"IF('取得手続連絡 (6)'!$B$39=\"\",\"\",'取得手続連絡 (6)'!$B$39)","v":""},{"$f":"IF('取得手続連絡 (6)'!$G$39=\"\",\"\",'取得手続連絡 (6)'!$G$39)","v":""},{"$f":"IF('取得手続連絡 (6)'!$B$37=\"\",\"\",'取得手続連絡 (6)'!$B$37)","v":""},{"$f":"IF('取得手続連絡 (6)'!$G$37=\"\",\"\",'取得手続連絡 (6)'!$G$37)","v":""},{"$f":"IF(LEN('取得手続連絡 (6)'!$Y$40)=8,'取得手続連絡 (6)'!$Y$40,\"\")","v":""},{"$f":"IF('取得手続連絡 (6)'!$B$41=\"\",\"\",IF('取得手続連絡 (6)'!$B$41='取得手続連絡 (6)'!$Z$3,1,2))","v":""},{"$f":"IF('取得手続連絡 (6)'!$B$50=\"\",\"\",'取得手続連絡 (6)'!$B$50)","v":""},{"$f":"IF('取得手続連絡 (6)'!$G$50=\"\",\"\",'取得手続連絡 (6)'!$G$50)","v":""},{"$f":"IF('取得手続連絡 (6)'!$B$48=\"\",\"\",'取得手続連絡 (6)'!$B$48)","v":""},{"$f":"IF('取得手続連絡 (6)'!$G$48=\"\",\"\",'取得手続連絡 (6)'!$G$48)","v":""},{"$f":"IF(LEN('取得手続連絡 (6)'!$Y$51)=8,'取得手続連絡 (6)'!$Y$51,\"\")","v":""},{"$f":"IF('取得手続連絡 (6)'!$B$52=\"\",\"\",IF('取得手続連絡 (6)'!$B$52='取得手続連絡 (6)'!$Z$3,1,2))","v":""},{"$f":"IF('取得手続連絡 (6)'!$B$61=\"\",\"\",'取得手続連絡 (6)'!$B$61)","v":""},{"$f":"IF('取得手続連絡 (6)'!$G$61=\"\",\"\",'取得手続連絡 (6)'!$G$61)","v":""},{"$f":"IF('取得手続連絡 (6)'!$B$59=\"\",\"\",'取得手続連絡 (6)'!$B$59)","v":""},{"$f":"IF('取得手続連絡 (6)'!$G$59=\"\",\"\",'取得手続連絡 (6)'!$G$59)","v":""},{"$f":"IF(LEN('取得手続連絡 (6)'!$Y$62)=8,'取得手続連絡 (6)'!$Y$62,\"\")","v":""},{"$f":"IF('取得手続連絡 (6)'!$B$63=\"\",\"\",IF('取得手続連絡 (6)'!$B$63='取得手続連絡 (6)'!$Z$3,1,2))","v":""},{"$f":"IF('取得手続連絡 (6)'!$M$9=\"\",\"\",'取得手続連絡 (6)'!$M$9)","v":""},{"$f":"IF('取得手続連絡 (6)'!$M$25=\"\",\"\",'取得手続連絡 (6)'!$M$25)","v":""},{"$f":"IF('取得手続連絡 (6)'!$M$36=\"\",\"\",'取得手続連絡 (6)'!$M$36)","v":""},{"$f":"IF('取得手続連絡 (6)'!$M$47=\"\",\"\",'取得手続連絡 (6)'!$M$47)","v":""},{"$f":"IF('取得手続連絡 (6)'!$M$58=\"\",\"\",'取得手続連絡 (6)'!$M$58)","v":""}]
["エラー",{"$f":"IF('(吉池事務所用)取込'!B8=\"\",\"\",'(吉池事務所用)取込'!B8)","v":""},{"$f":"IF('取得手続連絡 (7)'!$B$12=\"\",\"\",'取得手続連絡 (7)'!$B$12)","v":""},{"$f":"IF('取得手続連絡 (7)'!$G$12=\"\",\"\",'取得手続連絡 (7)'!$G$12)","v":""},{"$f":"IF('取得手続連絡 (7)'!$B$28=\"\",\"\",'取得手続連絡 (7)'!$B$28)","v":""},{"$f":"IF('取得手続連絡 (7)'!$G$28=\"\",\"\",'取得手続連絡 (7)'!$G$28)","v":""},{"$f":"IF('取得手続連絡 (7)'!$B$26=\"\",\"\",'取得手続連絡 (7)'!$B$26)","v":""},{"$f":"IF('取得手続連絡 (7)'!$G$26=\"\",\"\",'取得手続連絡 (7)'!$G$26)","v":""},{"$f":"IF(LEN('取得手続連絡 (7)'!$Y$29)=8,'取得手続連絡 (7)'!$Y$29,\"\")","v":""},{"$f":"IF('取得手続連絡 (7)'!$B$30=\"\",\"\",IF('取得手続連絡 (7)'!$B$30='取得手続連絡 (7)'!$Z$3,1,2))","v":""},{"$f":"IF('取得手続連絡 (7)'!$B$39=\"\",\"\",'取得手続連絡 (7)'!$B$39)","v":""},{"$f":"IF('取得手続連絡 (7)'!$G$39=\"\",\"\",'取得手続連絡 (7)'!$G$39)","v":""},{"$f":"IF('取得手続連絡 (7)'!$B$37=\"\",\"\",'取得手続連絡 (7)'!$B$37)","v":""},{"$f":"IF('取得手続連絡 (7)'!$G$37=\"\",\"\",'取得手続連絡 (7)'!$G$37)","v":""},{"$f":"IF(LEN('取得手続連絡 (7)'!$Y$40)=8,'取得手続連絡 (7)'!$Y$40,\"\")","v":""},{"$f":"IF('取得手続連絡 (7)'!$B$41=\"\",\"\",IF('取得手続連絡 (7)'!$B$41='取得手続連絡 (7)'!$Z$3,1,2))","v":""},{"$f":"IF('取得手続連絡 (7)'!$B$50=\"\",\"\",'取得手続連絡 (7)'!$B$50)","v":""},{"$f":"IF('取得手続連絡 (7)'!$G$50=\"\",\"\",'取得手続連絡 (7)'!$G$50)","v":""},{"$f":"IF('取得手続連絡 (7)'!$B$48=\"\",\"\",'取得手続連絡 (7)'!$B$48)","v":""},{"$f":"IF('取得手続連絡 (7)'!$G$48=\"\",\"\",'取得手続連絡 (7)'!$G$48)","v":""},{"$f":"IF(LEN('取得手続連絡 (7)'!$Y$51)=8,'取得手続連絡 (7)'!$Y$51,\"\")","v":""},{"$f":"IF('取得手続連絡 (7)'!$B$52=\"\",\"\",IF('取得手続連絡 (7)'!$B$52='取得手続連絡 (7)'!$Z$3,1,2))","v":""},{"$f":"IF('取得手続連絡 (7)'!$B$61=\"\",\"\",'取得手続連絡 (7)'!$B$61)","v":""},{"$f":"IF('取得手続連絡 (7)'!$G$61=\"\",\"\",'取得手続連絡 (7)'!$G$61)","v":""},{"$f":"IF('取得手続連絡 (7)'!$B$59=\"\",\"\",'取得手続連絡 (7)'!$B$59)","v":""},{"$f":"IF('取得手続連絡 (7)'!$G$59=\"\",\"\",'取得手続連絡 (7)'!$G$59)","v":""},{"$f":"IF(LEN('取得手続連絡 (7)'!$Y$62)=8,'取得手続連絡 (7)'!$Y$62,\"\")","v":""},{"$f":"IF('取得手続連絡 (7)'!$B$63=\"\",\"\",IF('取得手続連絡 (7)'!$B$63='取得手続連絡 (7)'!$Z$3,1,2))","v":""},{"$f":"IF('取得手続連絡 (7)'!$M$9=\"\",\"\",'取得手続連絡 (7)'!$M$9)","v":""},{"$f":"IF('取得手続連絡 (7)'!$M$25=\"\",\"\",'取得手続連絡 (7)'!$M$25)","v":""},{"$f":"IF('取得手続連絡 (7)'!$M$36=\"\",\"\",'取得手続連絡 (7)'!$M$36)","v":""},{"$f":"IF('取得手続連絡 (7)'!$M$47=\"\",\"\",'取得手続連絡 (7)'!$M$47)","v":""},{"$f":"IF('取得手続連絡 (7)'!$M$58=\"\",\"\",'取得手続連絡 (7)'!$M$58)","v":""}]
["エラー",{"$f":"IF('(吉池事務所用)取込'!B9=\"\",\"\",'(吉池事務所用)取込'!B9)","v":""},{"$f":"IF('取得手続連絡 (8)'!$B$12=\"\",\"\",'取得手続連絡 (8)'!$B$12)","v":""},{"$f":"IF('取得手続連絡 (8)'!$G$12=\"\",\"\",'取得手続連絡 (8)'!$G$12)","v":""},{"$f":"IF('取得手続連絡 (8)'!$B$28=\"\",\"\",'取得手続連絡 (8)'!$B$28)","v":""},{"$f":"IF('取得手続連絡 (8)'!$G$28=\"\",\"\",'取得手続連絡 (8)'!$G$28)","v":""},{"$f":"IF('取得手続連絡 (8)'!$B$26=\"\",\"\",'取得手続連絡 (8)'!$B$26)","v":""},{"$f":"IF('取得手続連絡 (8)'!$G$26=\"\",\"\",'取得手続連絡 (8)'!$G$26)","v":""},{"$f":"IF(LEN('取得手続連絡 (8)'!$Y$29)=8,'取得手続連絡 (8)'!$Y$29,\"\")","v":""},{"$f":"IF('取得手続連絡 (8)'!$B$30=\"\",\"\",IF('取得手続連絡 (8)'!$B$30='取得手続連絡 (8)'!$Z$3,1,2))","v":""},{"$f":"IF('取得手続連絡 (8)'!$B$39=\"\",\"\",'取得手続連絡 (8)'!$B$39)","v":""},{"$f":"IF('取得手続連絡 (8)'!$G$39=\"\",\"\",'取得手続連絡 (8)'!$G$39)","v":""},{"$f":"IF('取得手続連絡 (8)'!$B$37=\"\",\"\",'取得手続連絡 (8)'!$B$37)","v":""},{"$f":"IF('取得手続連絡 (8)'!$G$37=\"\",\"\",'取得手続連絡 (8)'!$G$37)","v":""},{"$f":"IF(LEN('取得手続連絡 (8)'!$Y$40)=8,'取得手続連絡 (8)'!$Y$40,\"\")","v":""},{"$f":"IF('取得手続連絡 (8)'!$B$41=\"\",\"\",IF('取得手続連絡 (8)'!$B$41='取得手続連絡 (8)'!$Z$3,1,2))","v":""},{"$f":"IF('取得手続連絡 (8)'!$B$50=\"\",\"\",'取得手続連絡 (8)'!$B$50)","v":""},{"$f":"IF('取得手続連絡 (8)'!$G$50=\"\",\"\",'取得手続連絡 (8)'!$G$50)","v":""},{"$f":"IF('取得手続連絡 (8)'!$B$48=\"\",\"\",'取得手続連絡 (8)'!$B$48)","v":""},{"$f":"IF('取得手続連絡 (8)'!$G$48=\"\",\"\",'取得手続連絡 (8)'!$G$48)","v":""},{"$f":"IF(LEN('取得手続連絡 (8)'!$Y$51)=8,'取得手続連絡 (8)'!$Y$51,\"\")","v":""},{"$f":"IF('取得手続連絡 (8)'!$B$52=\"\",\"\",IF('取得手続連絡 (8)'!$B$52='取得手続連絡 (8)'!$Z$3,1,2))","v":""},{"$f":"IF('取得手続連絡 (8)'!$B$61=\"\",\"\",'取得手続連絡 (8)'!$B$61)","v":""},{"$f":"IF('取得手続連絡 (8)'!$G$61=\"\",\"\",'取得手続連絡 (8)'!$G$61)","v":""},{"$f":"IF('取得手続連絡 (8)'!$B$59=\"\",\"\",'取得手続連絡 (8)'!$B$59)","v":""},{"$f":"IF('取得手続連絡 (8)'!$G$59=\"\",\"\",'取得手続連絡 (8)'!$G$59)","v":""},{"$f":"IF(LEN('取得手続連絡 (8)'!$Y$62)=8,'取得手続連絡 (8)'!$Y$62,\"\")","v":""},{"$f":"IF('取得手続連絡 (8)'!$B$63=\"\",\"\",IF('取得手続連絡 (8)'!$B$63='取得手続連絡 (8)'!$Z$3,1,2))","v":""},{"$f":"IF('取得手続連絡 (8)'!$M$9=\"\",\"\",'取得手続連絡 (8)'!$M$9)","v":""},{"$f":"IF('取得手続連絡 (8)'!$M$25=\"\",\"\",'取得手続連絡 (8)'!$M$25)","v":""},{"$f":"IF('取得手続連絡 (8)'!$M$36=\"\",\"\",'取得手続連絡 (8)'!$M$36)","v":""},{"$f":"IF('取得手続連絡 (8)'!$M$47=\"\",\"\",'取得手続連絡 (8)'!$M$47)","v":""},{"$f":"IF('取得手続連絡 (8)'!$M$58=\"\",\"\",'取得手続連絡 (8)'!$M$58)","v":""}]
["エラー",{"$f":"IF('(吉池事務所用)取込'!B10=\"\",\"\",'(吉池事務所用)取込'!B10)","v":""},{"$f":"IF('取得手続連絡 (9)'!$B$12=\"\",\"\",'取得手続連絡 (9)'!$B$12)","v":""},{"$f":"IF('取得手続連絡 (9)'!$G$12=\"\",\"\",'取得手続連絡 (9)'!$G$12)","v":""},{"$f":"IF('取得手続連絡 (9)'!$B$28=\"\",\"\",'取得手続連絡 (9)'!$B$28)","v":""},{"$f":"IF('取得手続連絡 (9)'!$G$28=\"\",\"\",'取得手続連絡 (9)'!$G$28)","v":""},{"$f":"IF('取得手続連絡 (9)'!$B$26=\"\",\"\",'取得手続連絡 (9)'!$B$26)","v":""},{"$f":"IF('取得手続連絡 (9)'!$G$26=\"\",\"\",'取得手続連絡 (9)'!$G$26)","v":""},{"$f":"IF(LEN('取得手続連絡 (9)'!$Y$29)=8,'取得手続連絡 (9)'!$Y$29,\"\")","v":""},{"$f":"IF('取得手続連絡 (9)'!$B$30=\"\",\"\",IF('取得手続連絡 (9)'!$B$30='取得手続連絡 (9)'!$Z$3,1,2))","v":""},{"$f":"IF('取得手続連絡 (9)'!$B$39=\"\",\"\",'取得手続連絡 (9)'!$B$39)","v":""},{"$f":"IF('取得手続連絡 (9)'!$G$39=\"\",\"\",'取得手続連絡 (9)'!$G$39)","v":""},{"$f":"IF('取得手続連絡 (9)'!$B$37=\"\",\"\",'取得手続連絡 (9)'!$B$37)","v":""},{"$f":"IF('取得手続連絡 (9)'!$G$37=\"\",\"\",'取得手続連絡 (9)'!$G$37)","v":""},{"$f":"IF(LEN('取得手続連絡 (9)'!$Y$40)=8,'取得手続連絡 (9)'!$Y$40,\"\")","v":""},{"$f":"IF('取得手続連絡 (9)'!$B$41=\"\",\"\",IF('取得手続連絡 (9)'!$B$41='取得手続連絡 (9)'!$Z$3,1,2))","v":""},{"$f":"IF('取得手続連絡 (9)'!$B$50=\"\",\"\",'取得手続連絡 (9)'!$B$50)","v":""},{"$f":"IF('取得手続連絡 (9)'!$G$50=\"\",\"\",'取得手続連絡 (9)'!$G$50)","v":""},{"$f":"IF('取得手続連絡 (9)'!$B$48=\"\",\"\",'取得手続連絡 (9)'!$B$48)","v":""},{"$f":"IF('取得手続連絡 (9)'!$G$48=\"\",\"\",'取得手続連絡 (9)'!$G$48)","v":""},{"$f":"IF(LEN('取得手続連絡 (9)'!$Y$51)=8,'取得手続連絡 (9)'!$Y$51,\"\")","v":""},{"$f":"IF('取得手続連絡 (9)'!$B$52=\"\",\"\",IF('取得手続連絡 (9)'!$B$52='取得手続連絡 (9)'!$Z$3,1,2))","v":""},{"$f":"IF('取得手続連絡 (9)'!$B$61=\"\",\"\",'取得手続連絡 (9)'!$B$61)","v":""},{"$f":"IF('取得手続連絡 (9)'!$G$61=\"\",\"\",'取得手続連絡 (9)'!$G$61)","v":""},{"$f":"IF('取得手続連絡 (9)'!$B$59=\"\",\"\",'取得手続連絡 (9)'!$B$59)","v":""},{"$f":"IF('取得手続連絡 (9)'!$G$59=\"\",\"\",'取得手続連絡 (9)'!$G$59)","v":""},{"$f":"IF(LEN('取得手続連絡 (9)'!$Y$62)=8,'取得手続連絡 (9)'!$Y$62,\"\")","v":""},{"$f":"IF('取得手続連絡 (9)'!$B$63=\"\",\"\",IF('取得手続連絡 (9)'!$B$63='取得手続連絡 (9)'!$Z$3,1,2))","v":""},{"$f":"IF('取得手続連絡 (9)'!$M$9=\"\",\"\",'取得手続連絡 (9)'!$M$9)","v":""},{"$f":"IF('取得手続連絡 (9)'!$M$25=\"\",\"\",'取得手続連絡 (9)'!$M$25)","v":""},{"$f":"IF('取得手続連絡 (9)'!$M$36=\"\",\"\",'取得手続連絡 (9)'!$M$36)","v":""},{"$f":"IF('取得手続連絡 (9)'!$M$47=\"\",\"\",'取得手続連絡 (9)'!$M$47)","v":""},{"$f":"IF('取得手続連絡 (9)'!$M$58=\"\",\"\",'取得手続連絡 (9)'!$M$58)","v":""}]

{"sheet":"取得手続連絡","index":4,"n_rows":67,"n_cols":66,"rows_kept":67,"cut":false,"hidden":false,"merged":[[63,11,66,11],[63,12,66,18],[24,19,24,22],[25,20,25,22],[35,19,35,22],[36,20,36,22],[46,19,46,22],[47,20,47,22],[57,19,57,22],[58,20,58,22],[30,12,33,18],[41,12,44,18],[52,12,55,18],[59,12,59,14],[60,12,61,12],[62,12,62,18],[60,13,61,13],[60,14,61,14],[57,11,58,11],[57,12,58,18],[59,11,61,11],[60,15,61,15],[60,16,61,16],[60,17,61,17],[65,0,66,0],[65,1,65,4],[65,6,65,10],[66,1,66,4],[13,6,13,8],[13,4,13,5],[13,9,13,10],[63,0,64,0],[63,1,64,10],[66,6,66,10],[60,1,61,5],[60,6,61,10],[57,0,61,0],[57,1,57,5],[62,1,62,3],[62,4,62,5],[62,6,62,10],[57,6,57,10],[58,1,58,5],[58,6,58,10],[59,1,59,5],[59,6,59,10],[43,0,44,0],[43,1,43,4],[60,18,61,18],[52,11,55,11],[54,0,55,0],[54,1,54,4],[54,6,54,10],[49,14,50,14],[49,15,50,15],[49,16,50,16],[49,17,50,17],[49,18,50,18],[52,0,53,0],[52,1,53,10],[55,1,55,4],[55,6,55,10],[46,0,50,0],[46,1,46,5],[46,6,46,10],[46,11,47,11],[46,12,47,18],[47,1,47,5],[43,6,43,10],[44,1,44,4],[44,6,44,10],[51,1,51,3],[51,4,51,5],[51,6,51,10],[51,12,51,18],[48,1,48,5],[48,6,48,10],[48,11,50,11],[48,12,48,14],[49,1,50,5],[49,6,50,10],[49,12,50,12],[49,13,50,13],[47,6,47,10],[41,11,44,11],[41,0,42,0],[41,1,42,10],[24,6,24,10],[37,12,37,14],[38,1,39,5],[38,6,39,10],[38,12,39,12],[38,13,39,13],[38,14,39,14],[35,0,39,0],[35,1,35,5],[35,6,35,10],[35,11,36,11],[35,12,36,18],[36,1,36,5],[36,6,36,10],[37,1,37,5],[37,6,37,10],[37,11,39,11],[38,15,39,15],[38,16,39,16],[38,17,39,17],[38,18,39,18],[30,0,31,0],[30,1,31,10],[27,14,28,14],[32,0,33,0],[32,1,32,4],[32,6,32,10],[33,1,33,4],[33,6,33,10],[30,11,33,11],[27,15,28,15],[24,0,28,0],[27,16,28,16],[27,17,28,17],[27,18,28,18],[27,12,28,12],[26,12,26,14],[40,1,40,3],[29,12,29,18],[24,12,25,18],[24,11,25,11],[25,1,25,5],[25,6,25,10],[26,1,26,5],[26,6,26,10],[26,11,28,11],[27,1,28,5],[27,6,28,10],[27,13,28,13],[29,4,29,5],[29,6,29,10],[29,1,29,3],[40,4,40,5],[40,6,40,10],[40,12,40,18],[24,1,24,5],[20,11,21,11],[20,12,21,18],[0,0,0,18],[2,0,2,18],[4,2,5,4],[4,5,5,14],[7,12,7,18],[18,1,18,4],[18,6,18,10],[18,11,19,11],[18,12,19,18],[20,0,21,0],[21,1,21,3],[21,5,21,8],[20,1,20,3],[20,5,20,8],[14,14,15,14],[14,15,15,15],[14,16,15,16],[14,17,15,17],[14,18,15,18],[14,12,15,12],[18,0,19,0],[14,1,14,10],[16,1,16,10],[8,0,12,0],[10,6,10,10],[8,12,9,18],[11,12,12,12],[15,1,15,10],[17,1,17,10],[19,1,19,4],[19,6,19,10],[16,11,17,11],[16,12,17,16],[16,17,17,18],[13,1,13,2],[14,11,15,11],[13,14,13,15],[13,17,13,18],[4,19,4,23],[8,19,8,22],[9,20,9,22],[14,13,15,13],[10,11,12,11],[11,1,12,5],[11,6,12,10],[11,13,12,13],[8,1,8,5],[8,6,8,10],[8,11,9,11],[9,1,9,5],[9,6,9,10],[10,1,10,5],[11,14,12,14],[11,15,12,15],[11,16,12,16],[11,17,12,17],[11,18,12,18],[10,12,10,14]]}
["【資格取得手続きに必要な事項】",null,null,null,null,null,null,null,null,null,null,null,null,null,null,null,null,null,null,null,null,null,null,null,null,"有り","同居"]
["★入社する方がいる時は、下記事項をご記入の上、ご連絡下さい。",null,null,null,null,null,null,null,null,null,null,null,null,null,null,null,null,null,null,"※上記ボタンを押すと、全てのシートの入力内容消去",null,null,null,null,null,"無し","別居"]
["※基礎年金番号をもっていない方・確認できない方\n⇒現在の住所と住民票上の住所が違う場合、必ず住民票上の住所を備考欄に記載してください。",null,null,null,null,null,null,null,null,null,null,null,null,null,null,null,null,null,null,null,null,null,null,null,null,"男"]
[null,null,null,null,null,null,null,null,null,null,null,null,null,null,null,null,null,null,null,null,null,null,null,null,null,"女"]
[null,null,"会社名"]
[null,null,null,null,null,null,null,null,null,null,null,null,null,null,null,null,null,null,null,null,null,null,null,null,null,null,"本人","扶養１","扶養２","扶養３","扶養４"]
[null,null,null,null,null,null,null,null,null,null,null,null,null,null,null,null,null,null,null,null,null,null,null,null,"昭和",1925,{"$f":"VLOOKUP(M12,$Y$7:$Z$8,2,FALSE)","v":1988},{"$f":"VLOOKUP(M28,$Y$7:$Z$8,2,FALSE)","v":1988},{"$f":"VLOOKUP(M39,$Y$7:$Z$8,2,FALSE)","v":1925},{"$f":"VLOOKUP(M50,$Y$7:$Z$8,2,FALSE)","v":1988},{"$f":"VLOOKUP(M61,$Y$7:$Z$8,2,FALSE)","v":1925}]
[null,null,null,null,null,null,null,null,null,null,null,null,"依頼日：　平成〇〇年〇〇月〇〇日",null,null,null,null,null,null,null,null,null,null,null,"平成",1988]
["取得者氏名","ﾌﾘｶﾞﾅ",null,null,null,null,null,null,null,null,null,"個人番号\n(マイナンバー)",null,null,null,null,null,null,null,"マイナンバーチェック結果",null,null,null,null,"①空白チェック","②全角半角チェック","③数値チェック","④桁数チェック","⑤重複チェック","n⇒",1,2,3,4,5,6,7,8,9,10,11,"11で割った余り","11-[AB列の値]","⑥チェックデジット","マイナンバーチェック",null,"空白文字が入っています。削除してください。","半角数字で入力してください。","半角数字で入力してください。",null,"重複があります。ご確認ください。","Q_n⇒",2,3,4,5,6,7,2,3,4,5,6,null,null,"入力ミスがあります。通知カードと見比べてください。"]
[null,null,null,null,null,null,null,null,null,null,null,null,null,null,null,null,null,null,null,{"$f":"IF(LEN($M9)=0,\"\",IF(ISERR($AS10),\"×\",$AS10))","v":""},{"$f":"IF(LEN($M9)=0,\"\",IF($Y10<>\"○\",$AU$9,IF($Z10<>\"○\",$AV$9,IF($AA10<>\"○\",$AW$9,IF($AB10<>\"○\",$AB10,IF($AC10<>\"○\",$AY$9,IF($AR10<>\"○\",$BN$9,\"\")))))))","v":""},{"$f":"IF(LEN($E10)=0,\"\",IF($U10<>\"○\",$AQ$1,IF($V10<>\"○\",$AR$1,IF($W10<>\"○\",$AS$1,IF($X10<>\"○\",$X10,IF($Y10<>\"○\",$AU$1,IF($AN10<>\"○\",$BJ$1,\"\")))))))","v":""},{"$f":"IF(LEN($E10)=0,\"\",IF($U10<>\"○\",$AQ$1,IF($V10<>\"○\",$AR$1,IF($W10<>\"○\",$AS$1,IF($X10<>\"○\",$X10,IF($Y10<>\"○\",$AU$1,IF($AN10<>\"○\",$BJ$1,\"\")))))))","v":""},null,{"$f":"IF(LEN($M9)=LEN(SUBSTITUTE(ASC($M9),\" \",\"\")),\"○\",\"×\")","v":"○"},{"$f":"IF(LEN($M9)=LENB($M9),\"○\",\"×\")","v":"○"},{"$f":"IF(ISNUMBER(VALUE($M9)),\"○\",\"×\")","v":"○"},{"$f":"IF(LEN($M9)=12,\"○\",IF(12-LEN($M9)>0,12-LEN($M9)&\"桁不足しています。調整してください。\",ABS(12-LEN($M9))&\"桁超過しています。調整してください。\"))","v":"12桁不足しています。調整してください。"},{"$f":"IF(COUNTIF($M$9:$M$100,$M9)=1,\"○\",\"×\")","v":"×"},null,{"$f":"MID($M9,12-($AE$9),1)*$BA$9","v":{"$error":"#VALUE!"}},{"$f":"MID($M9,12-($AF$9),1)*$BB$9","v":{"$error":"#VALUE!"}},{"$f":"MID($M9,12-($AG$9),1)*$BC$9","v":{"$error":"#VALUE!"}},{"$f":"MID($M9,12-($AH$9),1)*$BD$9","v":{"$error":"#VALUE!"}},{"$f":"MID($M9,12-($AI$9),1)*$BE$9","v":{"$error":"#VALUE!"}},{"$f":"MID($M9,12-($AJ$9),1)*$BF$9","v":{"$error":"#VALUE!"}},{"$f":"MID($M9,12-($AK$9),1)*$BG$9","v":{"$error":"#VALUE!"}},{"$f":"MID($M9,12-($AL$9),1)*$BH$9","v":{"$error":"#VALUE!"}},{"$f":"MID($M9,12-($AM$9),1)*$BI$9","v":{"$error":"#VALUE!"}},{"$f":"MID($M9,12-($AN$9),1)*$BJ$9","v":{"$error":"#VALUE!"}},{"$f":"MID($M9,12-($AO$9),1)*$BK$9","v":{"$error":"#VALUE!"}},{"$f":"MOD(SUM($AE10:$AO10),11)","v":{"$error":"#VALUE!"}},{"$f":"IF($AP10<=1,0,11-$AP10)","v":{"$error":"#VALUE!"}},{"$f":"IF(VALUE(RIGHT($M9,1))=$AQ10,\"○\",\"×\")","v":{"$error":"#VALUE!"}},{"$f":"IF(AND($Y10=\"○\",$Z10=\"○\",$AA10=\"○\",$AB10=\"○\",$AC10=\"○\",$AR10=\"○\"),\"○\",\"×\")","v":{"$error":"#VALUE!"}}]
[null,"（氏）",null,null,null,null,"（名）",null,null,null,null,"生年月日",{"$f":"IF(N12=\"\",\"\",\"（西暦　　\"&$N$12+$AA$7&\"　年）\")","v":""}]
[null,null,null,null,null,null,null,null,null,null,null,null,"平成",null,"年",null,"月",null,"日",null,null,null,null,null,{"$f":"IF(N12=\"\",\"\",N12+$AA$7)","v":""},{"$f":"IF(P12=\"\",\"\",TEXT(P12,\"dd\"))","v":""},{"$f":"IF(R12=\"\",\"\",TEXT(R12,\"dd\"))","v":""}]
[null,null,null,null,null,null,null,null,null,null,null,null,null,null,null,null,null,null,null,null,null,null,null,null,{"$f":"CONCATENATE(Y12,Z12,AA12)","v":""}]
["郵便番号",null,null,"-",null,null,"性別",null,null,null,null,"電話番号",null,"-",null,null,"-",null,null,"※電話番号は空欄でも可能です"]
["ﾌﾘｶﾞﾅ",null,null,null,null,null,null,null,null,null,null,"加入年月日\n(入社年月日)","平成",null,"年",null,"月",null,"日",null,null,null,null,null,{"$f":"IF(N15=\"\",\"\",N15+$Z$8)","v":""},{"$f":"IF(P15=\"\",\"\",TEXT(P15,\"dd\"))","v":""},{"$f":"IF(R15=\"\",\"\",TEXT(R15,\"dd\"))","v":""}]
["住所１\n(都道府県名から)",null,null,null,null,null,null,null,null,null,null,null,null,null,null,null,null,null,null,null,null,null,null,null,{"$f":"CONCATENATE(Y15,Z15,AA15)","v":""}]
["ﾌﾘｶﾞﾅ",null,null,null,null,null,null,null,null,null,null,"給料\n（交通費、残業代含む）",null,null,null,null,null,"円"]
["住所２\n(アパート名等)"]
["基礎年金番号","（4桁）",null,null,null,null,"（6桁）",null,null,null,null,"扶養家族の有無"]
[null,null,null,null,null,"-"]
["雇用保険番号\n（分からない場合、履歴書添付）","（4桁）",null,null,null,"（6桁）",null,null,null,null,"（1桁）","備考"]
[null,null,null,null,"-",null,null,null,null,"-"]
[]
["★扶養家族がいるときは、ご記入下さい。"]
["扶養家族氏名","フリガナ",null,null,null,null,null,null,null,null,null,"個人番号\n(マイナンバー)",null,null,null,null,null,null,null,"マイナンバーチェック結果"]
[null,null,null,null,null,null,null,null,null,null,null,null,null,null,null,null,null,null,null,{"$f":"IF(LEN($M25)=0,\"\",IF(ISERR($AS26),\"×\",$AS26))","v":""},{"$f":"IF(LEN($M25)=0,\"\",IF($Y26<>\"○\",$AU$9,IF($Z26<>\"○\",$AV$9,IF($AA26<>\"○\",$AW$9,IF($AB26<>\"○\",$AB26,IF($AC26<>\"○\",$AY$9,IF($AR26<>\"○\",$BN$9,\"\")))))))","v":""},{"$f":"IF(LEN($E26)=0,\"\",IF($U26<>\"○\",$AQ$1,IF($V26<>\"○\",$AR$1,IF($W26<>\"○\",$AS$1,IF($X26<>\"○\",$X26,IF($Y26<>\"○\",$AU$1,IF($AN26<>\"○\",$BJ$1,\"\")))))))","v":""},{"$f":"IF(LEN($E26)=0,\"\",IF($U26<>\"○\",$AQ$1,IF($V26<>\"○\",$AR$1,IF($W26<>\"○\",$AS$1,IF($X26<>\"○\",$X26,IF($Y26<>\"○\",$AU$1,IF($AN26<>\"○\",$BJ$1,\"\")))))))","v":""},null,{"$f":"IF(LEN($M25)=LEN(SUBSTITUTE(ASC($M25),\" \",\"\")),\"○\",\"×\")","v":"○"},{"$f":"IF(LEN($M25)=LENB($M25),\"○\",\"×\")","v":"○"},{"$f":"IF(ISNUMBER(VALUE($M25)),\"○\",\"×\")","v":"○"},{"$f":"IF(LEN($M25)=12,\"○\",IF(12-LEN($M25)>0,12-LEN($M25)&\"桁不足しています。調整してください。\",ABS(12-LEN($M25))&\"桁超過しています。調整してください。\"))","v":"12桁不足しています。調整してください。"},{"$f":"IF(COUNTIF($M$9:$M$100,$M25)=1,\"○\",\"×\")","v":"×"},null,{"$f":"MID($M25,12-($AE$9),1)*$BA$9","v":{"$error":"#VALUE!"}},{"$f":"MID($M25,12-($AF$9),1)*$BB$9","v":{"$error":"#VALUE!"}},{"$f":"MID($M25,12-($AG$9),1)*$BC$9","v":{"$error":"#VALUE!"}},{"$f":"MID($M25,12-($AH$9),1)*$BD$9","v":{"$error":"#VALUE!"}},{"$f":"MID($M25,12-($AI$9),1)*$BE$9","v":{"$error":"#VALUE!"}},{"$f":"MID($M25,12-($AJ$9),1)*$BF$9","v":{"$error":"#VALUE!"}},{"$f":"MID($M25,12-($AK$9),1)*$BG$9","v":{"$error":"#VALUE!"}},{"$f":"MID($M25,12-($AL$9),1)*$BH$9","v":{"$error":"#VALUE!"}},{"$f":"MID($M25,12-($AM$9),1)*$BI$9","v":{"$error":"#VALUE!"}},{"$f":"MID($M25,12-($AN$9),1)*$BJ$9","v":{"$error":"#VALUE!"}},{"$f":"MID($M25,12-($AO$9),1)*$BK$9","v":{"$error":"#VALUE!"}},{"$f":"MOD(SUM($AE26:$AO26),11)","v":{"$error":"#VALUE!"}},{"$f":"IF($AP26<=1,0,11-$AP26)","v":{"$error":"#VALUE!"}},{"$f":"IF(VALUE(RIGHT($M25,1))=$AQ26,\"○\",\"×\")","v":{"$error":"#VALUE!"}},{"$f":"IF(AND($Y26=\"○\",$Z26=\"○\",$AA26=\"○\",$AB26=\"○\",$AC26=\"○\",$AR26=\"○\"),\"○\",\"×\")","v":{"$error":"#VALUE!"}}]
[null,"（氏）",null,null,null,null,"（名）",null,null,null,null,"生年月日",{"$f":"IF(N28=\"\",\"\",\"（西暦　　\"&N28+$AB$7&\"　年）\")","v":""}]
[null,null,null,null,null,null,null,null,null,null,null,null,"平成",null,"年",null,"月",null,"日",null,null,null,null,null,{"$f":"IF(N28=\"\",\"\",N28+$AB$7)","v":""},{"$f":"IF(P28=\"\",\"\",TEXT(P28,\"dd\"))","v":""},{"$f":"IF(R28=\"\",\"\",TEXT(R28,\"dd\"))","v":""}]
[null,null,null,null,null,null,null,null,null,null,null,null,null,null,null,null,null,null,null,null,null,null,null,null,{"$f":"CONCATENATE(Y28,Z28,AA28)","v":""}]
["性別",null,null,null,"続柄",null,null,null,null,null,null,"収入の有無"]
["同居・別居",null,null,null,null,null,null,null,null,null,null,"備考",null,null,null,null,null,null,null,null,null,null,null,null,{"$f":"IF(N31=\"\",\"\",N31+$Z$8)","v":""},{"$f":"IF(P31=\"\",\"\",TEXT(P31,\"dd\"))","v":""},{"$f":"IF(R31=\"\",\"\",TEXT(R31,\"dd\"))","v":""}]
[null,null,null,null,null,null,null,null,null,null,null,null,null,null,null,null,null,null,null,null,null,null,null,null,{"$f":"CONCATENATE(Y31,Z31,AA31)","v":""}]
["※基礎年金番号\n（配偶者の場合）","（4桁）",null,null,null,null,"（6桁）"]
[null,null,null,null,null,"-"]
[]
["扶養家族氏名","フリガナ",null,null,null,null,null,null,null,null,null,"個人番号\n(マイナンバー)",null,null,null,null,null,null,null,"マイナンバーチェック結果"]
[null,null,null,null,null,null,null,null,null,null,null,null,null,null,null,null,null,null,null,{"$f":"IF(LEN($M36)=0,\"\",IF(ISERR($AS37),\"×\",$AS37))","v":""},{"$f":"IF(LEN($M36)=0,\"\",IF($Y37<>\"○\",$AU$9,IF($Z37<>\"○\",$AV$9,IF($AA37<>\"○\",$AW$9,IF($AB37<>\"○\",$AB37,IF($AC37<>\"○\",$AY$9,IF($AR37<>\"○\",$BN$9,\"\")))))))","v":""},{"$f":"IF(LEN($E37)=0,\"\",IF($U37<>\"○\",$AQ$1,IF($V37<>\"○\",$AR$1,IF($W37<>\"○\",$AS$1,IF($X37<>\"○\",$X37,IF($Y37<>\"○\",$AU$1,IF($AN37<>\"○\",$BJ$1,\"\")))))))","v":""},{"$f":"IF(LEN($E37)=0,\"\",IF($U37<>\"○\",$AQ$1,IF($V37<>\"○\",$AR$1,IF($W37<>\"○\",$AS$1,IF($X37<>\"○\",$X37,IF($Y37<>\"○\",$AU$1,IF($AN37<>\"○\",$BJ$1,\"\")))))))","v":""},null,{"$f":"IF(LEN($M36)=LEN(SUBSTITUTE(ASC($M36),\" \",\"\")),\"○\",\"×\")","v":"○"},{"$f":"IF(LEN($M36)=LENB($M36),\"○\",\"×\")","v":"○"},{"$f":"IF(ISNUMBER(VALUE($M36)),\"○\",\"×\")","v":"○"},{"$f":"IF(LEN($M36)=12,\"○\",IF(12-LEN($M36)>0,12-LEN($M36)&\"桁不足しています。調整してください。\",ABS(12-LEN($M36))&\"桁超過しています。調整してください。\"))","v":"12桁不足しています。調整してください。"},{"$f":"IF(COUNTIF($M$9:$M$100,$M36)=1,\"○\",\"×\")","v":"×"},null,{"$f":"MID($M36,12-($AE$9),1)*$BA$9","v":{"$error":"#VALUE!"}},{"$f":"MID($M36,12-($AF$9),1)*$BB$9","v":{"$error":"#VALUE!"}},{"$f":"MID($M36,12-($AG$9),1)*$BC$9","v":{"$error":"#VALUE!"}},{"$f":"MID($M36,12-($AH$9),1)*$BD$9","v":{"$error":"#VALUE!"}},{"$f":"MID($M36,12-($AI$9),1)*$BE$9","v":{"$error":"#VALUE!"}},{"$f":"MID($M36,12-($AJ$9),1)*$BF$9","v":{"$error":"#VALUE!"}},{"$f":"MID($M36,12-($AK$9),1)*$BG$9","v":{"$error":"#VALUE!"}},{"$f":"MID($M36,12-($AL$9),1)*$BH$9","v":{"$error":"#VALUE!"}},{"$f":"MID($M36,12-($AM$9),1)*$BI$9","v":{"$error":"#VALUE!"}},{"$f":"MID($M36,12-($AN$9),1)*$BJ$9","v":{"$error":"#VALUE!"}},{"$f":"MID($M36,12-($AO$9),1)*$BK$9","v":{"$error":"#VALUE!"}},{"$f":"MOD(SUM($AE37:$AO37),11)","v":{"$error":"#VALUE!"}},{"$f":"IF($AP37<=1,0,11-$AP37)","v":{"$error":"#VALUE!"}},{"$f":"IF(VALUE(RIGHT($M36,1))=$AQ37,\"○\",\"×\")","v":{"$error":"#VALUE!"}},{"$f":"IF(AND($Y37=\"○\",$Z37=\"○\",$AA37=\"○\",$AB37=\"○\",$AC37=\"○\",$AR37=\"○\"),\"○\",\"×\")","v":{"$error":"#VALUE!"}}]
[null,"（氏）",null,null,null,null,"（名）",null,null,null,null,"生年月日",{"$f":"IF(N39=\"\",\"\",\"（西暦　　\"&N39+$AC$7&\"　年）\")","v":""}]
[null,null,null,null,null,null,null,null,null,null,null,null,"昭和",null,"年",null,"月",null,"日",null,null,null,null,null,{"$f":"IF(N39=\"\",\"\",N39+$AC$7)","v":""},{"$f":"IF(P39=\"\",\"\",TEXT(P39,\"dd\"))","v":""},{"$f":"IF(R39=\"\",\"\",TEXT(R39,\"dd\"))","v":""}]
[null,null,null,null,null,null,null,null,null,null,null,null,null,null,null,null,null,null,null,null,null,null,null,null,{"$f":"CONCATENATE(Y39,Z39,AA39)","v":""}]
["性別",null,null,null,"続柄",null,null,null,null,null,null,"収入の有無"]
["同居・別居",null,null,null,null,null,null,null,null,null,null,"備考",null,null,null,null,null,null,null,null,null,null,null,null,{"$f":"IF(N42=\"\",\"\",N42+$Z$8)","v":""},{"$f":"IF(P42=\"\",\"\",TEXT(P42,\"dd\"))","v":""},{"$f":"IF(R42=\"\",\"\",TEXT(R42,\"dd\"))","v":""}]
[null,null,null,null,null,null,null,null,null,null,null,null,null,null,null,null,null,null,null,null,null,null,null,null,{"$f":"CONCATENATE(Y42,Z42,AA42)","v":""}]
["※基礎年金番号\n（配偶者の場合）","（4桁）",null,null,null,null,"（6桁）"]
[null,null,null,null,null,"-"]
[]
["扶養家族氏名","フリガナ",null,null,null,null,null,null,null,null,null,"個人番号\n(マイナンバー)",null,null,null,null,null,null,null,"マイナンバーチェック結果"]
[null,null,null,null,null,null,null,null,null,null,null,null,null,null,null,null,null,null,null,{"$f":"IF(LEN($M47)=0,\"\",IF(ISERR($AS48),\"×\",$AS48))","v":""},{"$f":"IF(LEN($M47)=0,\"\",IF($Y48<>\"○\",$AU$9,IF($Z48<>\"○\",$AV$9,IF($AA48<>\"○\",$AW$9,IF($AB48<>\"○\",$AB48,IF($AC48<>\"○\",$AY$9,IF($AR48<>\"○\",$BN$9,\"\")))))))","v":""},{"$f":"IF(LEN($E48)=0,\"\",IF($U48<>\"○\",$AQ$1,IF($V48<>\"○\",$AR$1,IF($W48<>\"○\",$AS$1,IF($X48<>\"○\",$X48,IF($Y48<>\"○\",$AU$1,IF($AN48<>\"○\",$BJ$1,\"\")))))))","v":""},{"$f":"IF(LEN($E48)=0,\"\",IF($U48<>\"○\",$AQ$1,IF($V48<>\"○\",$AR$1,IF($W48<>\"○\",$AS$1,IF($X48<>\"○\",$X48,IF($Y48<>\"○\",$AU$1,IF($AN48<>\"○\",$BJ$1,\"\")))))))","v":""},null,{"$f":"IF(LEN($M47)=LEN(SUBSTITUTE(ASC($M47),\" \",\"\")),\"○\",\"×\")","v":"○"},{"$f":"IF(LEN($M47)=LENB($M47),\"○\",\"×\")","v":"○"},{"$f":"IF(ISNUMBER(VALUE($M47)),\"○\",\"×\")","v":"○"},{"$f":"IF(LEN($M47)=12,\"○\",IF(12-LEN($M47)>0,12-LEN($M47)&\"桁不足しています。調整してください。\",ABS(12-LEN($M47))&\"桁超過しています。調整してください。\"))","v":"12桁不足しています。調整してください。"},{"$f":"IF(COUNTIF($M$9:$M$100,$M47)=1,\"○\",\"×\")","v":"×"},null,{"$f":"MID($M47,12-($AE$9),1)*$BA$9","v":{"$error":"#VALUE!"}},{"$f":"MID($M47,12-($AF$9),1)*$BB$9","v":{"$error":"#VALUE!"}},{"$f":"MID($M47,12-($AG$9),1)*$BC$9","v":{"$error":"#VALUE!"}},{"$f":"MID($M47,12-($AH$9),1)*$BD$9","v":{"$error":"#VALUE!"}},{"$f":"MID($M47,12-($AI$9),1)*$BE$9","v":{"$error":"#VALUE!"}},{"$f":"MID($M47,12-($AJ$9),1)*$BF$9","v":{"$error":"#VALUE!"}},{"$f":"MID($M47,12-($AK$9),1)*$BG$9","v":{"$error":"#VALUE!"}},{"$f":"MID($M47,12-($AL$9),1)*$BH$9","v":{"$error":"#VALUE!"}},{"$f":"MID($M47,12-($AM$9),1)*$BI$9","v":{"$error":"#VALUE!"}},{"$f":"MID($M47,12-($AN$9),1)*$BJ$9","v":{"$error":"#VALUE!"}},{"$f":"MID($M47,12-($AO$9),1)*$BK$9","v":{"$error":"#VALUE!"}},{"$f":"MOD(SUM($AE48:$AO48),11)","v":{"$error":"#VALUE!"}},{"$f":"IF($AP48<=1,0,11-$AP48)","v":{"$error":"#VALUE!"}},{"$f":"IF(VALUE(RIGHT($M47,1))=$AQ48,\"○\",\"×\")","v":{"$error":"#VALUE!"}},{"$f":"IF(AND($Y48=\"○\",$Z48=\"○\",$AA48=\"○\",$AB48=\"○\",$AC48=\"○\",$AR48=\"○\"),\"○\",\"×\")","v":{"$error":"#VALUE!"}}]
[null,"（氏）",null,null,null,null,"（名）",null,null,null,null,"生年月日",{"$f":"IF(N50=\"\",\"\",\"（西暦　　\"&N50+$AD$7&\"　年）\")","v":""}]
[null,null,null,null,null,null,null,null,null,null,null,null,"平成",null,"年",null,"月",null,"日",null,null,null,null,null,{"$f":"IF(N50=\"\",\"\",N50+$AD$7)","v":""},{"$f":"IF(P50=\"\",\"\",TEXT(P50,\"dd\"))","v":""},{"$f":"IF(R50=\"\",\"\",TEXT(R50,\"dd\"))","v":""}]
[null,null,null,null,null,null,null,null,null,null,null,null,null,null,null,null,null,null,null,null,null,null,null,null,{"$f":"CONCATENATE(Y50,Z50,AA50)","v":""}]
["性別",null,null,null,"続柄",null,null,null,null,null,null,"収入の有無"]
["同居・別居",null,null,null,null,null,null,null,null,null,null,"備考",null,null,null,null,null,null,null,null,null,null,null,null,{"$f":"IF(N53=\"\",\"\",N53+$Z$8)","v":""},{"$f":"IF(P53=\"\",\"\",TEXT(P53,\"dd\"))","v":""},{"$f":"IF(R53=\"\",\"\",TEXT(R53,\"dd\"))","v":""}]
[null,null,null,null,null,null,null,null,null,null,null,null,null,null,null,null,null,null,null,null,null,null,null,null,{"$f":"CONCATENATE(Y53,Z53,AA53)","v":""}]
["※基礎年金番号\n（配偶者の場合）","（4桁）",null,null,null,null,"（6桁）"]
[null,null,null,null,null,"-"]
[]
["扶養家族氏名","フリガナ",null,null,null,null,null,null,null,null,null,"個人番号\n(マイナンバー)",null,null,null,null,null,null,null,"マイナンバーチェック結果"]
[null,null,null,null,null,null,null,null,null,null,null,null,null,null,null,null,null,null,null,{"$f":"IF(LEN($M58)=0,\"\",IF(ISERR($AS59),\"×\",$AS59))","v":""},{"$f":"IF(LEN($M58)=0,\"\",IF($Y59<>\"○\",$AU$9,IF($Z59<>\"○\",$AV$9,IF($AA59<>\"○\",$AW$9,IF($AB59<>\"○\",$AB59,IF($AC59<>\"○\",$AY$9,IF($AR59<>\"○\",$BN$9,\"\")))))))","v":""},{"$f":"IF(LEN($E59)=0,\"\",IF($U59<>\"○\",$AQ$1,IF($V59<>\"○\",$AR$1,IF($W59<>\"○\",$AS$1,IF($X59<>\"○\",$X59,IF($Y59<>\"○\",$AU$1,IF($AN59<>\"○\",$BJ$1,\"\")))))))","v":""},{"$f":"IF(LEN($E59)=0,\"\",IF($U59<>\"○\",$AQ$1,IF($V59<>\"○\",$AR$1,IF($W59<>\"○\",$AS$1,IF($X59<>\"○\",$X59,IF($Y59<>\"○\",$AU$1,IF($AN59<>\"○\",$BJ$1,\"\")))))))","v":""},null,{"$f":"IF(LEN($M58)=LEN(SUBSTITUTE(ASC($M58),\" \",\"\")),\"○\",\"×\")","v":"○"},{"$f":"IF(LEN($M58)=LENB($M58),\"○\",\"×\")","v":"○"},{"$f":"IF(ISNUMBER(VALUE($M58)),\"○\",\"×\")","v":"○"},{"$f":"IF(LEN($M58)=12,\"○\",IF(12-LEN($M58)>0,12-LEN($M58)&\"桁不足しています。調整してください。\",ABS(12-LEN($M58))&\"桁超過しています。調整してください。\"))","v":"12桁不足しています。調整してください。"},{"$f":"IF(COUNTIF($M$9:$M$100,$M58)=1,\"○\",\"×\")","v":"×"},null,{"$f":"MID($M58,12-($AE$9),1)*$BA$9","v":{"$error":"#VALUE!"}},{"$f":"MID($M58,12-($AF$9),1)*$BB$9","v":{"$error":"#VALUE!"}},{"$f":"MID($M58,12-($AG$9),1)*$BC$9","v":{"$error":"#VALUE!"}},{"$f":"MID($M58,12-($AH$9),1)*$BD$9","v":{"$error":"#VALUE!"}},{"$f":"MID($M58,12-($AI$9),1)*$BE$9","v":{"$error":"#VALUE!"}},{"$f":"MID($M58,12-($AJ$9),1)*$BF$9","v":{"$error":"#VALUE!"}},{"$f":"MID($M58,12-($AK$9),1)*$BG$9","v":{"$error":"#VALUE!"}},{"$f":"MID($M58,12-($AL$9),1)*$BH$9","v":{"$error":"#VALUE!"}},{"$f":"MID($M58,12-($AM$9),1)*$BI$9","v":{"$error":"#VALUE!"}},{"$f":"MID($M58,12-($AN$9),1)*$BJ$9","v":{"$error":"#VALUE!"}},{"$f":"MID($M58,12-($AO$9),1)*$BK$9","v":{"$error":"#VALUE!"}},{"$f":"MOD(SUM($AE59:$AO59),11)","v":{"$error":"#VALUE!"}},{"$f":"IF($AP59<=1,0,11-$AP59)","v":{"$error":"#VALUE!"}},{"$f":"IF(VALUE(RIGHT($M58,1))=$AQ59,\"○\",\"×\")","v":{"$error":"#VALUE!"}},{"$f":"IF(AND($Y59=\"○\",$Z59=\"○\",$AA59=\"○\",$AB59=\"○\",$AC59=\"○\",$AR59=\"○\"),\"○\",\"×\")","v":{"$error":"#VALUE!"}}]
[null,"（氏）",null,null,null,null,"（名）",null,null,null,null,"生年月日",{"$f":"IF(N61=\"\",\"\",\"（西暦　　\"&N61+$AE$7&\"　年）\")","v":""}]
[null,null,null,null,null,null,null,null,null,null,null,null,"昭和",null,"年",null,"月",null,"日",null,null,null,null,null,{"$f":"IF(N61=\"\",\"\",N61+$AE$7)","v":""},{"$f":"IF(P61=\"\",\"\",TEXT(P61,\"dd\"))","v":""},{"$f":"IF(R61=\"\",\"\",TEXT(R61,\"dd\"))","v":""}]
[null,null,null,null,null,null,null,null,null,null,null,null,null,null,null,null,null,null,null,null,null,null,null,null,{"$f":"CONCATENATE(Y61,Z61,AA61)","v":""}]
["性別",null,null,null,"続柄",null,null,null,null,null,null,"収入の有無"]
["同居・別居",null,null,null,null,null,null,null,null,null,null,"備考",null,null,null,null,null,null,null,null,null,null,null,null,{"$f":"IF(N64=\"\",\"\",N64+$Z$8)","v":""},{"$f":"IF(P64=\"\",\"\",TEXT(P64,\"dd\"))","v":""},{"$f":"IF(R64=\"\",\"\",TEXT(R64,\"dd\"))","v":""}]
[null,null,null,null,null,null,null,null,null,null,null,null,null,null,null,null,null,null,null,null,null,null,null,null,{"$f":"CONCATENATE(Y64,Z64,AA64)","v":""}]
["※基礎年金番号\n（配偶者の場合）","（4桁）",null,null,null,null,"（6桁）"]
[null,null,null,null,null,"-"]

{"sheet":"取得手続連絡 (2)","index":5,"n_rows":67,"n_cols":66,"rows_kept":67,"cut":false,"hidden":false,"merged":[[0,0,0,18],[2,0,2,18],[4,2,5,4],[4,5,5,14],[7,12,7,18],[8,0,12,0],[8,1,8,5],[8,6,8,10],[8,11,9,11],[8,12,9,18],[8,19,8,22],[9,1,9,5],[9,6,9,10],[9,20,9,22],[10,1,10,5],[10,6,10,10],[10,11,12,11],[10,12,10,14],[11,1,12,5],[11,6,12,10],[11,18,12,18],[13,1,13,2],[13,4,13,5],[13,6,13,8],[13,9,13,10],[13,14,13,15],[13,17,13,18],[11,12,12,12],[11,13,12,13],[11,14,12,14],[11,15,12,15],[11,16,12,16],[11,17,12,17],[14,16,15,16],[14,17,15,17],[14,18,15,18],[15,1,15,10],[16,1,16,10],[16,11,17,11],[16,12,17,16],[16,17,17,18],[17,1,17,10],[14,1,14,10],[14,11,15,11],[14,12,15,12],[14,13,15,13],[14,14,15,14],[14,15,15,15],[20,0,21,0],[20,1,20,3],[20,5,20,8],[20,11,21,11],[20,12,21,18],[21,1,21,3],[21,5,21,8],[18,0,19,0],[18,1,18,4],[18,6,18,10],[18,11,19,11],[18,12,19,18],[19,1,19,4],[19,6,19,10],[24,0,28,0],[24,1,24,5],[24,6,24,10],[24,11,25,11],[24,12,25,18],[24,19,24,22],[25,1,25,5],[25,6,25,10],[25,20,25,22],[26,1,26,5],[27,15,28,15],[27,16,28,16],[27,17,28,17],[27,18,28,18],[29,1,29,3],[29,4,29,5],[29,6,29,10],[29,12,29,18],[26,6,26,10],[26,11,28,11],[26,12,26,14],[27,1,28,5],[27,6,28,10],[27,12,28,12],[27,13,28,13],[27,14,28,14],[32,0,33,0],[32,1,32,4],[32,6,32,10],[33,1,33,4],[30,0,31,0],[30,1,31,10],[33,6,33,10],[30,11,33,11],[30,12,33,18],[35,0,39,0],[35,1,35,5],[35,6,35,10],[35,11,36,11],[35,12,36,18],[38,12,39,12],[38,13,39,13],[38,14,39,14],[38,15,39,15],[38,16,39,16],[38,17,39,17],[38,18,39,18],[40,1,40,3],[40,4,40,5],[40,6,40,10],[40,12,40,18],[35,19,35,22],[36,1,36,5],[36,6,36,10],[36,20,36,22],[37,1,37,5],[37,6,37,10],[37,11,39,11],[37,12,37,14],[38,1,39,5],[38,6,39,10],[43,0,44,0],[43,1,43,4],[43,6,43,10],[44,1,44,4],[41,0,42,0],[41,1,42,10],[44,6,44,10],[41,11,44,11],[41,12,44,18],[46,0,50,0],[46,1,46,5],[46,6,46,10],[46,11,47,11],[46,12,47,18],[49,12,50,12],[49,13,50,13],[49,14,50,14],[49,15,50,15],[49,16,50,16],[49,17,50,17],[49,18,50,18],[51,1,51,3],[51,4,51,5],[51,6,51,10],[51,12,51,18],[46,19,46,22],[47,1,47,5],[47,6,47,10],[47,20,47,22],[48,1,48,5],[48,6,48,10],[48,11,50,11],[48,12,48,14],[49,1,50,5],[49,6,50,10],[54,0,55,0],[54,1,54,4],[54,6,54,10],[55,1,55,4],[52,0,53,0],[52,1,53,10],[55,6,55,10],[52,11,55,11],[52,12,55,18],[57,0,61,0],[57,1,57,5],[57,6,57,10],[57,11,58,11],[57,12,58,18],[60,12,61,12],[60,13,61,13],[60,14,61,14],[60,15,61,15],[60,16,61,16],[60,17,61,17],[60,18,61,18],[62,1,62,3],[62,4,62,5],[62,6,62,10],[62,12,62,18],[57,19,57,22],[58,1,58,5],[58,6,58,10],[58,20,58,22],[59,1,59,5],[59,6,59,10],[59,11,61,11],[59,12,59,14],[60,1,61,5],[60,6,61,10],[66,6,66,10],[65,0,66,0],[65,1,65,4],[65,6,65,10],[66,1,66,4],[63,0,64,0],[63,1,64,10],[63,11,66,11],[63,12,66,18]]}
["【資格取得手続きに必要な事項】",null,null,null,null,null,null,null,null,null,null,null,null,null,null,null,null,null,null,null,null,null,null,null,null,"有り","同居"]
["★入社する方がいる時は、下記事項をご記入の上、ご連絡下さい。",null,null,null,null,null,null,null,null,null,null,null,null,null,null,null,null,null,null,null,null,null,null,null,null,"無し","別居"]
["※基礎年金番号をもっていない方・確認できない方\n⇒現在の住所と住民票上の住所が違う場合、必ず住民票上の住所を備考欄に記載してください。",null,null,null,null,null,null,null,null,null,null,null,null,null,null,null,null,null,null,null,null,null,null,null,null,"男"]
[null,null,null,null,null,null,null,null,null,null,null,null,null,null,null,null,null,null,null,null,null,null,null,null,null,"女"]
[null,null,"会社名",null,null,{"$f":"IF(取得手続連絡!$F$5=\"\",\"\",取得手続連絡!$F$5)","v":""}]
[null,null,null,null,null,null,null,null,null,null,null,null,null,null,null,null,null,null,null,null,null,null,null,null,null,null,"本人","扶養１","扶養２","扶養３","扶養４"]
[null,null,null,null,null,null,null,null,null,null,null,null,null,null,null,null,null,null,null,null,null,null,null,null,"昭和",1925,{"$f":"VLOOKUP(M12,$Y$7:$Z$8,2,FALSE)","v":1988},{"$f":"VLOOKUP(M28,$Y$7:$Z$8,2,FALSE)","v":1988},{"$f":"VLOOKUP(M39,$Y$7:$Z$8,2,FALSE)","v":1988},{"$f":"VLOOKUP(M50,$Y$7:$Z$8,2,FALSE)","v":1988},{"$f":"VLOOKUP(M61,$Y$7:$Z$8,2,FALSE)","v":1925}]
[null,null,null,null,null,null,null,null,null,null,null,null,"依頼日：平成○○年○○月○○日",null,null,null,null,null,null,null,null,null,null,null,"平成",1988]
["取得者氏名","ﾌﾘｶﾞﾅ",null,null,null,null,null,null,null,null,null,"個人番号\n(マイナンバー)",null,null,null,null,null,null,null,"マイナンバーチェック結果",null,null,null,null,"①空白チェック","②全角半角チェック","③数値チェック","④桁数チェック","⑤重複チェック","n⇒",1,2,3,4,5,6,7,8,9,10,11,"11で割った余り","11-[AB列の値]","⑥チェックデジット","マイナンバーチェック",null,"空白文字が入っています。削除してください。","半角数字で入力してください。","半角数字で入力してください。",null,"重複があります。ご確認ください。","Q_n⇒",2,3,4,5,6,7,2,3,4,5,6,null,null,"入力ミスがあります。通知カードと見比べてください。"]
[null,null,null,null,null,null,null,null,null,null,null,null,null,null,null,null,null,null,null,{"$f":"IF(LEN($M9)=0,\"\",IF(ISERR($AS10),\"×\",$AS10))","v":""},{"$f":"IF(LEN($M9)=0,\"\",IF($Y10<>\"○\",$AU$9,IF($Z10<>\"○\",$AV$9,IF($AA10<>\"○\",$AW$9,IF($AB10<>\"○\",$AB10,IF($AC10<>\"○\",$AY$9,IF($AR10<>\"○\",$BN$9,\"\")))))))","v":""},{"$f":"IF(LEN($E10)=0,\"\",IF($U10<>\"○\",$AQ$1,IF($V10<>\"○\",$AR$1,IF($W10<>\"○\",$AS$1,IF($X10<>\"○\",$X10,IF($Y10<>\"○\",$AU$1,IF($AN10<>\"○\",$BJ$1,\"\")))))))","v":""},{"$f":"IF(LEN($E10)=0,\"\",IF($U10<>\"○\",$AQ$1,IF($V10<>\"○\",$AR$1,IF($W10<>\"○\",$AS$1,IF($X10<>\"○\",$X10,IF($Y10<>\"○\",$AU$1,IF($AN10<>\"○\",$BJ$1,\"\")))))))","v":""},null,{"$f":"IF(LEN($M9)=LEN(SUBSTITUTE(ASC($M9),\" \",\"\")),\"○\",\"×\")","v":"○"},{"$f":"IF(LEN($M9)=LENB($M9),\"○\",\"×\")","v":"○"},{"$f":"IF(ISNUMBER(VALUE($M9)),\"○\",\"×\")","v":"○"},{"$f":"IF(LEN($M9)=12,\"○\",IF(12-LEN($M9)>0,12-LEN($M9)&\"桁不足しています。調整してください。\",ABS(12-LEN($M9))&\"桁超過しています。調整してください。\"))","v":"12桁不足しています。調整してください。"},{"$f":"IF(COUNTIF($M$9:$M$100,$M9)=1,\"○\",\"×\")","v":"×"},null,{"$f":"MID($M9,12-($AE$9),1)*$BA$9","v":{"$error":"#VALUE!"}},{"$f":"MID($M9,12-($AF$9),1)*$BB$9","v":{"$error":"#VALUE!"}},{"$f":"MID($M9,12-($AG$9),1)*$BC$9","v":{"$error":"#VALUE!"}},{"$f":"MID($M9,12-($AH$9),1)*$BD$9","v":{"$error":"#VALUE!"}},{"$f":"MID($M9,12-($AI$9),1)*$BE$9","v":{"$error":"#VALUE!"}},{"$f":"MID($M9,12-($AJ$9),1)*$BF$9","v":{"$error":"#VALUE!"}},{"$f":"MID($M9,12-($AK$9),1)*$BG$9","v":{"$error":"#VALUE!"}},{"$f":"MID($M9,12-($AL$9),1)*$BH$9","v":{"$error":"#VALUE!"}},{"$f":"MID($M9,12-($AM$9),1)*$BI$9","v":{"$error":"#VALUE!"}},{"$f":"MID($M9,12-($AN$9),1)*$BJ$9","v":{"$error":"#VALUE!"}},{"$f":"MID($M9,12-($AO$9),1)*$BK$9","v":{"$error":"#VALUE!"}},{"$f":"MOD(SUM($AE10:$AO10),11)","v":{"$error":"#VALUE!"}},{"$f":"IF($AP10<=1,0,11-$AP10)","v":{"$error":"#VALUE!"}},{"$f":"IF(VALUE(RIGHT($M9,1))=$AQ10,\"○\",\"×\")","v":{"$error":"#VALUE!"}},{"$f":"IF(AND($Y10=\"○\",$Z10=\"○\",$AA10=\"○\",$AB10=\"○\",$AC10=\"○\",$AR10=\"○\"),\"○\",\"×\")","v":{"$error":"#VALUE!"}}]
[null,"（氏）",null,null,null,null,"（名）",null,null,null,null,"生年月日",{"$f":"IF(N12=\"\",\"\",\"（西暦　　\"&$N$12+$AA$7&\"　年）\")","v":""}]
[null,null,null,null,null,null,null,null,null,null,null,null,"平成",null,"年",null,"月",null,"日",null,null,null,null,null,{"$f":"IF(N12=\"\",\"\",N12+$AA$7)","v":""},{"$f":"IF(P12=\"\",\"\",TEXT(P12,\"dd\"))","v":""},{"$f":"IF(R12=\"\",\"\",TEXT(R12,\"dd\"))","v":""}]
[null,null,null,null,null,null,null,null,null,null,null,null,null,null,null,null,null,null,null,null,null,null,null,null,{"$f":"CONCATENATE(Y12,Z12,AA12)","v":""}]
["郵便番号",null,null,"-",null,null,"性別",null,null,null,null,"電話番号",null,"-",null,null,"-",null,null,"※電話番号は空欄でも可能です"]
["ﾌﾘｶﾞﾅ",null,null,null,null,null,null,null,null,null,null,"加入年月日\n(入社年月日)","平成",null,"年",null,"月",null,"日",null,null,null,null,null,{"$f":"IF(N15=\"\",\"\",N15+$Z$8)","v":""},{"$f":"IF(P15=\"\",\"\",TEXT(P15,\"dd\"))","v":""},{"$f":"IF(R15=\"\",\"\",TEXT(R15,\"dd\"))","v":""}]
["住所１\n(都道府県名から)",null,null,null,null,null,null,null,null,null,null,null,null,null,null,null,null,null,null,null,null,null,null,null,{"$f":"CONCATENATE(Y15,Z15,AA15)","v":""}]
["ﾌﾘｶﾞﾅ",null,null,null,null,null,null,null,null,null,null,"給料\n（交通費、残業代含む）",null,null,null,null,null,"円"]
["住所２\n(アパート名等)"]
["基礎年金番号","（4桁）",null,null,null,null,"（6桁）",null,null,null,null,"扶養家族の有無"]
[null,null,null,null,null,"-"]
["雇用保険番号\n（分からない場合、履歴書添付）","（4桁）",null,null,null,"（6桁）",null,null,null,null,"（1桁）","備考"]
[null,null,null,null,"-",null,null,null,null,"-"]
[]
["★扶養家族がいるときは、ご記入下さい。"]
["扶養家族氏名","フリガナ",null,null,null,null,null,null,null,null,null,"個人番号\n(マイナンバー)",null,null,null,null,null,null,null,"マイナンバーチェック結果"]
[null,null,null,null,null,null,null,null,null,null,null,null,null,null,null,null,null,null,null,{"$f":"IF(LEN($M25)=0,\"\",IF(ISERR($AS26),\"×\",$AS26))","v":""},{"$f":"IF(LEN($M25)=0,\"\",IF($Y26<>\"○\",$AU$9,IF($Z26<>\"○\",$AV$9,IF($AA26<>\"○\",$AW$9,IF($AB26<>\"○\",$AB26,IF($AC26<>\"○\",$AY$9,IF($AR26<>\"○\",$BN$9,\"\")))))))","v":""},{"$f":"IF(LEN($E26)=0,\"\",IF($U26<>\"○\",$AQ$1,IF($V26<>\"○\",$AR$1,IF($W26<>\"○\",$AS$1,IF($X26<>\"○\",$X26,IF($Y26<>\"○\",$AU$1,IF($AN26<>\"○\",$BJ$1,\"\")))))))","v":""},{"$f":"IF(LEN($E26)=0,\"\",IF($U26<>\"○\",$AQ$1,IF($V26<>\"○\",$AR$1,IF($W26<>\"○\",$AS$1,IF($X26<>\"○\",$X26,IF($Y26<>\"○\",$AU$1,IF($AN26<>\"○\",$BJ$1,\"\")))))))","v":""},null,{"$f":"IF(LEN($M25)=LEN(SUBSTITUTE(ASC($M25),\" \",\"\")),\"○\",\"×\")","v":"○"},{"$f":"IF(LEN($M25)=LENB($M25),\"○\",\"×\")","v":"○"},{"$f":"IF(ISNUMBER(VALUE($M25)),\"○\",\"×\")","v":"○"},{"$f":"IF(LEN($M25)=12,\"○\",IF(12-LEN($M25)>0,12-LEN($M25)&\"桁不足しています。調整してください。\",ABS(12-LEN($M25))&\"桁超過しています。調整してください。\"))","v":"12桁不足しています。調整してください。"},{"$f":"IF(COUNTIF($M$9:$M$100,$M25)=1,\"○\",\"×\")","v":"×"},null,{"$f":"MID($M25,12-($AE$9),1)*$BA$9","v":{"$error":"#VALUE!"}},{"$f":"MID($M25,12-($AF$9),1)*$BB$9","v":{"$error":"#VALUE!"}},{"$f":"MID($M25,12-($AG$9),1)*$BC$9","v":{"$error":"#VALUE!"}},{"$f":"MID($M25,12-($AH$9),1)*$BD$9","v":{"$error":"#VALUE!"}},{"$f":"MID($M25,12-($AI$9),1)*$BE$9","v":{"$error":"#VALUE!"}},{"$f":"MID($M25,12-($AJ$9),1)*$BF$9","v":{"$error":"#VALUE!"}},{"$f":"MID($M25,12-($AK$9),1)*$BG$9","v":{"$error":"#VALUE!"}},{"$f":"MID($M25,12-($AL$9),1)*$BH$9","v":{"$error":"#VALUE!"}},{"$f":"MID($M25,12-($AM$9),1)*$BI$9","v":{"$error":"#VALUE!"}},{"$f":"MID($M25,12-($AN$9),1)*$BJ$9","v":{"$error":"#VALUE!"}},{"$f":"MID($M25,12-($AO$9),1)*$BK$9","v":{"$error":"#VALUE!"}},{"$f":"MOD(SUM($AE26:$AO26),11)","v":{"$error":"#VALUE!"}},{"$f":"IF($AP26<=1,0,11-$AP26)","v":{"$error":"#VALUE!"}},{"$f":"IF(VALUE(RIGHT($M25,1))=$AQ26,\"○\",\"×\")","v":{"$error":"#VALUE!"}},{"$f":"IF(AND($Y26=\"○\",$Z26=\"○\",$AA26=\"○\",$AB26=\"○\",$AC26=\"○\",$AR26=\"○\"),\"○\",\"×\")","v":{"$error":"#VALUE!"}}]
[null,"（氏）",null,null,null,null,"（名）",null,null,null,null,"生年月日",{"$f":"IF(N28=\"\",\"\",\"（西暦　　\"&N28+$AB$7&\"　年）\")","v":""}]
[null,null,null,null,null,null,null,null,null,null,null,null,"平成",null,"年",null,"月",null,"日",null,null,null,null,null,{"$f":"IF(N28=\"\",\"\",N28+$AB$7)","v":""},{"$f":"IF(P28=\"\",\"\",TEXT(P28,\"dd\"))","v":""},{"$f":"IF(R28=\"\",\"\",TEXT(R28,\"dd\"))","v":""}]
[null,null,null,null,null,null,null,null,null,null,null,null,null,null,null,null,null,null,null,null,null,null,null,null,{"$f":"CONCATENATE(Y28,Z28,AA28)","v":""}]
["性別",null,null,null,"続柄",null,null,null,null,null,null,"収入の有無"]
["同居・別居",null,null,null,null,null,null,null,null,null,null,"備考",null,null,null,null,null,null,null,null,null,null,null,null,{"$f":"IF(N31=\"\",\"\",N31+$Z$8)","v":""},{"$f":"IF(P31=\"\",\"\",TEXT(P31,\"dd\"))","v":""},{"$f":"IF(R31=\"\",\"\",TEXT(R31,\"dd\"))","v":""}]
[null,null,null,null,null,null,null,null,null,null,null,null,null,null,null,null,null,null,null,null,null,null,null,null,{"$f":"CONCATENATE(Y31,Z31,AA31)","v":""}]
["※基礎年金番号\n（配偶者の場合）","（4桁）",null,null,null,null,"（6桁）"]
[null,null,null,null,null,"-"]
[]
["扶養家族氏名","フリガナ",null,null,null,null,null,null,null,null,null,"個人番号\n(マイナンバー)",null,null,null,null,null,null,null,"マイナンバーチェック結果"]
[null,null,null,null,null,null,null,null,null,null,null,null,null,null,null,null,null,null,null,{"$f":"IF(LEN($M36)=0,\"\",IF(ISERR($AS37),\"×\",$AS37))","v":""},{"$f":"IF(LEN($M36)=0,\"\",IF($Y37<>\"○\",$AU$9,IF($Z37<>\"○\",$AV$9,IF($AA37<>\"○\",$AW$9,IF($AB37<>\"○\",$AB37,IF($AC37<>\"○\",$AY$9,IF($AR37<>\"○\",$BN$9,\"\")))))))","v":""},{"$f":"IF(LEN($E37)=0,\"\",IF($U37<>\"○\",$AQ$1,IF($V37<>\"○\",$AR$1,IF($W37<>\"○\",$AS$1,IF($X37<>\"○\",$X37,IF($Y37<>\"○\",$AU$1,IF($AN37<>\"○\",$BJ$1,\"\")))))))","v":""},{"$f":"IF(LEN($E37)=0,\"\",IF($U37<>\"○\",$AQ$1,IF($V37<>\"○\",$AR$1,IF($W37<>\"○\",$AS$1,IF($X37<>\"○\",$X37,IF($Y37<>\"○\",$AU$1,IF($AN37<>\"○\",$BJ$1,\"\")))))))","v":""},null,{"$f":"IF(LEN($M36)=LEN(SUBSTITUTE(ASC($M36),\" \",\"\")),\"○\",\"×\")","v":"○"},{"$f":"IF(LEN($M36)=LENB($M36),\"○\",\"×\")","v":"○"},{"$f":"IF(ISNUMBER(VALUE($M36)),\"○\",\"×\")","v":"○"},{"$f":"IF(LEN($M36)=12,\"○\",IF(12-LEN($M36)>0,12-LEN($M36)&\"桁不足しています。調整してください。\",ABS(12-LEN($M36))&\"桁超過しています。調整してください。\"))","v":"12桁不足しています。調整してください。"},{"$f":"IF(COUNTIF($M$9:$M$100,$M36)=1,\"○\",\"×\")","v":"×"},null,{"$f":"MID($M36,12-($AE$9),1)*$BA$9","v":{"$error":"#VALUE!"}},{"$f":"MID($M36,12-($AF$9),1)*$BB$9","v":{"$error":"#VALUE!"}},{"$f":"MID($M36,12-($AG$9),1)*$BC$9","v":{"$error":"#VALUE!"}},{"$f":"MID($M36,12-($AH$9),1)*$BD$9","v":{"$error":"#VALUE!"}},{"$f":"MID($M36,12-($AI$9),1)*$BE$9","v":{"$error":"#VALUE!"}},{"$f":"MID($M36,12-($AJ$9),1)*$BF$9","v":{"$error":"#VALUE!"}},{"$f":"MID($M36,12-($AK$9),1)*$BG$9","v":{"$error":"#VALUE!"}},{"$f":"MID($M36,12-($AL$9),1)*$BH$9","v":{"$error":"#VALUE!"}},{"$f":"MID($M36,12-($AM$9),1)*$BI$9","v":{"$error":"#VALUE!"}},{"$f":"MID($M36,12-($AN$9),1)*$BJ$9","v":{"$error":"#VALUE!"}},{"$f":"MID($M36,12-($AO$9),1)*$BK$9","v":{"$error":"#VALUE!"}},{"$f":"MOD(SUM($AE37:$AO37),11)","v":{"$error":"#VALUE!"}},{"$f":"IF($AP37<=1,0,11-$AP37)","v":{"$error":"#VALUE!"}},{"$f":"IF(VALUE(RIGHT($M36,1))=$AQ37,\"○\",\"×\")","v":{"$error":"#VALUE!"}},{"$f":"IF(AND($Y37=\"○\",$Z37=\"○\",$AA37=\"○\",$AB37=\"○\",$AC37=\"○\",$AR37=\"○\"),\"○\",\"×\")","v":{"$error":"#VALUE!"}}]
[null,"（氏）",null,null,null,null,"（名）",null,null,null,null,"生年月日",{"$f":"IF(N39=\"\",\"\",\"（西暦　　\"&N39+$AC$7&\"　年）\")","v":""}]
[null,null,null,null,null,null,null,null,null,null,null,null,"平成",null,"年",null,"月",null,"日",null,null,null,null,null,{"$f":"IF(N39=\"\",\"\",N39+$AC$7)","v":""},{"$f":"IF(P39=\"\",\"\",TEXT(P39,\"dd\"))","v":""},{"$f":"IF(R39=\"\",\"\",TEXT(R39,\"dd\"))","v":""}]
[null,null,null,null,null,null,null,null,null,null,null,null,null,null,null,null,null,null,null,null,null,null,null,null,{"$f":"CONCATENATE(Y39,Z39,AA39)","v":""}]
["性別",null,null,null,"続柄",null,null,null,null,null,null,"収入の有無"]
["同居・別居",null,null,null,null,null,null,null,null,null,null,"備考",null,null,null,null,null,null,null,null,null,null,null,null,{"$f":"IF(N42=\"\",\"\",N42+$Z$8)","v":""},{"$f":"IF(P42=\"\",\"\",TEXT(P42,\"dd\"))","v":""},{"$f":"IF(R42=\"\",\"\",TEXT(R42,\"dd\"))","v":""}]
[null,null,null,null,null,null,null,null,null,null,null,null,null,null,null,null,null,null,null,null,null,null,null,null,{"$f":"CONCATENATE(Y42,Z42,AA42)","v":""}]
["※基礎年金番号\n（配偶者の場合）","（4桁）",null,null,null,null,"（6桁）"]
[null,null,null,null,null,"-"]
[]
["扶養家族氏名","フリガナ",null,null,null,null,null,null,null,null,null,"個人番号\n(マイナンバー)",null,null,null,null,null,null,null,"マイナンバーチェック結果"]
[null,null,null,null,null,null,null,null,null,null,null,null,null,null,null,null,null,null,null,{"$f":"IF(LEN($M47)=0,\"\",IF(ISERR($AS48),\"×\",$AS48))","v":""},{"$f":"IF(LEN($M47)=0,\"\",IF($Y48<>\"○\",$AU$9,IF($Z48<>\"○\",$AV$9,IF($AA48<>\"○\",$AW$9,IF($AB48<>\"○\",$AB48,IF($AC48<>\"○\",$AY$9,IF($AR48<>\"○\",$BN$9,\"\")))))))","v":""},{"$f":"IF(LEN($E48)=0,\"\",IF($U48<>\"○\",$AQ$1,IF($V48<>\"○\",$AR$1,IF($W48<>\"○\",$AS$1,IF($X48<>\"○\",$X48,IF($Y48<>\"○\",$AU$1,IF($AN48<>\"○\",$BJ$1,\"\")))))))","v":""},{"$f":"IF(LEN($E48)=0,\"\",IF($U48<>\"○\",$AQ$1,IF($V48<>\"○\",$AR$1,IF($W48<>\"○\",$AS$1,IF($X48<>\"○\",$X48,IF($Y48<>\"○\",$AU$1,IF($AN48<>\"○\",$BJ$1,\"\")))))))","v":""},null,{"$f":"IF(LEN($M47)=LEN(SUBSTITUTE(ASC($M47),\" \",\"\")),\"○\",\"×\")","v":"○"},{"$f":"IF(LEN($M47)=LENB($M47),\"○\",\"×\")","v":"○"},{"$f":"IF(ISNUMBER(VALUE($M47)),\"○\",\"×\")","v":"○"},{"$f":"IF(LEN($M47)=12,\"○\",IF(12-LEN($M47)>0,12-LEN($M47)&\"桁不足しています。調整してください。\",ABS(12-LEN($M47))&\"桁超過しています。調整してください。\"))","v":"12桁不足しています。調整してください。"},{"$f":"IF(COUNTIF($M$9:$M$100,$M47)=1,\"○\",\"×\")","v":"×"},null,{"$f":"MID($M47,12-($AE$9),1)*$BA$9","v":{"$error":"#VALUE!"}},{"$f":"MID($M47,12-($AF$9),1)*$BB$9","v":{"$error":"#VALUE!"}},{"$f":"MID($M47,12-($AG$9),1)*$BC$9","v":{"$error":"#VALUE!"}},{"$f":"MID($M47,12-($AH$9),1)*$BD$9","v":{"$error":"#VALUE!"}},{"$f":"MID($M47,12-($AI$9),1)*$BE$9","v":{"$error":"#VALUE!"}},{"$f":"MID($M47,12-($AJ$9),1)*$BF$9","v":{"$error":"#VALUE!"}},{"$f":"MID($M47,12-($AK$9),1)*$BG$9","v":{"$error":"#VALUE!"}},{"$f":"MID($M47,12-($AL$9),1)*$BH$9","v":{"$error":"#VALUE!"}},{"$f":"MID($M47,12-($AM$9),1)*$BI$9","v":{"$error":"#VALUE!"}},{"$f":"MID($M47,12-($AN$9),1)*$BJ$9","v":{"$error":"#VALUE!"}},{"$f":"MID($M47,12-($AO$9),1)*$BK$9","v":{"$error":"#VALUE!"}},{"$f":"MOD(SUM($AE48:$AO48),11)","v":{"$error":"#VALUE!"}},{"$f":"IF($AP48<=1,0,11-$AP48)","v":{"$error":"#VALUE!"}},{"$f":"IF(VALUE(RIGHT($M47,1))=$AQ48,\"○\",\"×\")","v":{"$error":"#VALUE!"}},{"$f":"IF(AND($Y48=\"○\",$Z48=\"○\",$AA48=\"○\",$AB48=\"○\",$AC48=\"○\",$AR48=\"○\"),\"○\",\"×\")","v":{"$error":"#VALUE!"}}]
[null,"（氏）",null,null,null,null,"（名）",null,null,null,null,"生年月日",{"$f":"IF(N50=\"\",\"\",\"（西暦　　\"&N50+$AD$7&\"　年）\")","v":""}]
[null,null,null,null,null,null,null,null,null,null,null,null,"平成",null,"年",null,"月",null,"日",null,null,null,null,null,{"$f":"IF(N50=\"\",\"\",N50+$AD$7)","v":""},{"$f":"IF(P50=\"\",\"\",TEXT(P50,\"dd\"))","v":""},{"$f":"IF(R50=\"\",\"\",TEXT(R50,\"dd\"))","v":""}]
[null,null,null,null,null,null,null,null,null,null,null,null,null,null,null,null,null,null,null,null,null,null,null,null,{"$f":"CONCATENATE(Y50,Z50,AA50)","v":""}]
["性別",null,null,null,"続柄",null,null,null,null,null,null,"収入の有無"]
["同居・別居",null,null,null,null,null,null,null,null,null,null,"備考",null,null,null,null,null,null,null,null,null,null,null,null,{"$f":"IF(N53=\"\",\"\",N53+$Z$8)","v":""},{"$f":"IF(P53=\"\",\"\",TEXT(P53,\"dd\"))","v":""},{"$f":"IF(R53=\"\",\"\",TEXT(R53,\"dd\"))","v":""}]
[null,null,null,null,null,null,null,null,null,null,null,null,null,null,null,null,null,null,null,null,null,null,null,null,{"$f":"CONCATENATE(Y53,Z53,AA53)","v":""}]
["※基礎年金番号\n（配偶者の場合）","（4桁）",null,null,null,null,"（6桁）"]
[null,null,null,null,null,"-"]
[]
["扶養家族氏名","フリガナ",null,null,null,null,null,null,null,null,null,"個人番号\n(マイナンバー)",null,null,null,null,null,null,null,"マイナンバーチェック結果"]
[null,null,null,null,null,null,null,null,null,null,null,null,null,null,null,null,null,null,null,{"$f":"IF(LEN($M58)=0,\"\",IF(ISERR($AS59),\"×\",$AS59))","v":""},{"$f":"IF(LEN($M58)=0,\"\",IF($Y59<>\"○\",$AU$9,IF($Z59<>\"○\",$AV$9,IF($AA59<>\"○\",$AW$9,IF($AB59<>\"○\",$AB59,IF($AC59<>\"○\",$AY$9,IF($AR59<>\"○\",$BN$9,\"\")))))))","v":""},{"$f":"IF(LEN($E59)=0,\"\",IF($U59<>\"○\",$AQ$1,IF($V59<>\"○\",$AR$1,IF($W59<>\"○\",$AS$1,IF($X59<>\"○\",$X59,IF($Y59<>\"○\",$AU$1,IF($AN59<>\"○\",$BJ$1,\"\")))))))","v":""},{"$f":"IF(LEN($E59)=0,\"\",IF($U59<>\"○\",$AQ$1,IF($V59<>\"○\",$AR$1,IF($W59<>\"○\",$AS$1,IF($X59<>\"○\",$X59,IF($Y59<>\"○\",$AU$1,IF($AN59<>\"○\",$BJ$1,\"\")))))))","v":""},null,{"$f":"IF(LEN($M58)=LEN(SUBSTITUTE(ASC($M58),\" \",\"\")),\"○\",\"×\")","v":"○"},{"$f":"IF(LEN($M58)=LENB($M58),\"○\",\"×\")","v":"○"},{"$f":"IF(ISNUMBER(VALUE($M58)),\"○\",\"×\")","v":"○"},{"$f":"IF(LEN($M58)=12,\"○\",IF(12-LEN($M58)>0,12-LEN($M58)&\"桁不足しています。調整してください。\",ABS(12-LEN($M58))&\"桁超過しています。調整してください。\"))","v":"12桁不足しています。調整してください。"},{"$f":"IF(COUNTIF($M$9:$M$100,$M58)=1,\"○\",\"×\")","v":"×"},null,{"$f":"MID($M58,12-($AE$9),1)*$BA$9","v":{"$error":"#VALUE!"}},{"$f":"MID($M58,12-($AF$9),1)*$BB$9","v":{"$error":"#VALUE!"}},{"$f":"MID($M58,12-($AG$9),1)*$BC$9","v":{"$error":"#VALUE!"}},{"$f":"MID($M58,12-($AH$9),1)*$BD$9","v":{"$error":"#VALUE!"}},{"$f":"MID($M58,12-($AI$9),1)*$BE$9","v":{"$error":"#VALUE!"}},{"$f":"MID($M58,12-($AJ$9),1)*$BF$9","v":{"$error":"#VALUE!"}},{"$f":"MID($M58,12-($AK$9),1)*$BG$9","v":{"$error":"#VALUE!"}},{"$f":"MID($M58,12-($AL$9),1)*$BH$9","v":{"$error":"#VALUE!"}},{"$f":"MID($M58,12-($AM$9),1)*$BI$9","v":{"$error":"#VALUE!"}},{"$f":"MID($M58,12-($AN$9),1)*$BJ$9","v":{"$error":"#VALUE!"}},{"$f":"MID($M58,12-($AO$9),1)*$BK$9","v":{"$error":"#VALUE!"}},{"$f":"MOD(SUM($AE59:$AO59),11)","v":{"$error":"#VALUE!"}},{"$f":"IF($AP59<=1,0,11-$AP59)","v":{"$error":"#VALUE!"}},{"$f":"IF(VALUE(RIGHT($M58,1))=$AQ59,\"○\",\"×\")","v":{"$error":"#VALUE!"}},{"$f":"IF(AND($Y59=\"○\",$Z59=\"○\",$AA59=\"○\",$AB59=\"○\",$AC59=\"○\",$AR59=\"○\"),\"○\",\"×\")","v":{"$error":"#VALUE!"}}]
[null,"（氏）",null,null,null,null,"（名）",null,null,null,null,"生年月日",{"$f":"IF(N61=\"\",\"\",\"（西暦　　\"&N61+$AE$7&\"　年）\")","v":""}]
[null,null,null,null,null,null,null,null,null,null,null,null,"昭和",null,"年",null,"月",null,"日",null,null,null,null,null,{"$f":"IF(N61=\"\",\"\",N61+$AE$7)","v":""},{"$f":"IF(P61=\"\",\"\",TEXT(P61,\"dd\"))","v":""},{"$f":"IF(R61=\"\",\"\",TEXT(R61,\"dd\"))","v":""}]
[null,null,null,null,null,null,null,null,null,null,null,null,null,null,null,null,null,null,null,null,null,null,null,null,{"$f":"CONCATENATE(Y61,Z61,AA61)","v":""}]
["性別",null,null,null,"続柄",null,null,null,null,null,null,"収入の有無"]
["同居・別居",null,null,null,null,null,null,null,null,null,null,"備考",null,null,null,null,null,null,null,null,null,null,null,null,{"$f":"IF(N64=\"\",\"\",N64+$Z$8)","v":""},{"$f":"IF(P64=\"\",\"\",TEXT(P64,\"dd\"))","v":""},{"$f":"IF(R64=\"\",\"\",TEXT(R64,\"dd\"))","v":""}]
[null,null,null,null,null,null,null,null,null,null,null,null,null,null,null,null,null,null,null,null,null,null,null,null,{"$f":"CONCATENATE(Y64,Z64,AA64)","v":""}]
["※基礎年金番号\n（配偶者の場合）","（4桁）",null,null,null,null,"（6桁）"]
[null,null,null,null,null,"-"]

{"sheet":"取得手続連絡 (3)","index":6,"n_rows":67,"n_cols":66,"rows_kept":67,"cut":false,"hidden":false,"merged":[[0,0,0,18],[2,0,2,18],[4,2,5,4],[4,5,5,14],[7,12,7,18],[8,0,12,0],[8,1,8,5],[8,6,8,10],[8,11,9,11],[8,12,9,18],[8,19,8,22],[9,1,9,5],[9,6,9,10],[9,20,9,22],[10,1,10,5],[10,6,10,10],[10,11,12,11],[10,12,10,14],[11,1,12,5],[11,6,12,10],[11,18,12,18],[13,1,13,2],[13,4,13,5],[13,6,13,8],[13,9,13,10],[13,14,13,15],[13,17,13,18],[11,12,12,12],[11,13,12,13],[11,14,12,14],[11,15,12,15],[11,16,12,16],[11,17,12,17],[14,16,15,16],[14,17,15,17],[14,18,15,18],[15,1,15,10],[16,1,16,10],[16,11,17,11],[16,12,17,16],[16,17,17,18],[17,1,17,10],[14,1,14,10],[14,11,15,11],[14,12,15,12],[14,13,15,13],[14,14,15,14],[14,15,15,15],[20,0,21,0],[20,1,20,3],[20,5,20,8],[20,11,21,11],[20,12,21,18],[21,1,21,3],[21,5,21,8],[18,0,19,0],[18,1,18,4],[18,6,18,10],[18,11,19,11],[18,12,19,18],[19,1,19,4],[19,6,19,10],[24,0,28,0],[24,1,24,5],[24,6,24,10],[24,11,25,11],[24,12,25,18],[24,19,24,22],[25,1,25,5],[25,6,25,10],[25,20,25,22],[26,1,26,5],[27,15,28,15],[27,16,28,16],[27,17,28,17],[27,18,28,18],[29,1,29,3],[29,4,29,5],[29,6,29,10],[29,12,29,18],[26,6,26,10],[26,11,28,11],[26,12,26,14],[27,1,28,5],[27,6,28,10],[27,12,28,12],[27,13,28,13],[27,14,28,14],[32,0,33,0],[32,1,32,4],[32,6,32,10],[33,1,33,4],[30,0,31,0],[30,1,31,10],[33,6,33,10],[30,11,33,11],[30,12,33,18],[35,0,39,0],[35,1,35,5],[35,6,35,10],[35,11,36,11],[35,12,36,18],[38,12,39,12],[38,13,39,13],[38,14,39,14],[38,15,39,15],[38,16,39,16],[38,17,39,17],[38,18,39,18],[40,1,40,3],[40,4,40,5],[40,6,40,10],[40,12,40,18],[35,19,35,22],[36,1,36,5],[36,6,36,10],[36,20,36,22],[37,1,37,5],[37,6,37,10],[37,11,39,11],[37,12,37,14],[38,1,39,5],[38,6,39,10],[43,0,44,0],[43,1,43,4],[43,6,43,10],[44,1,44,4],[41,0,42,0],[41,1,42,10],[44,6,44,10],[41,11,44,11],[41,12,44,18],[46,0,50,0],[46,1,46,5],[46,6,46,10],[46,11,47,11],[46,12,47,18],[49,12,50,12],[49,13,50,13],[49,14,50,14],[49,15,50,15],[49,16,50,16],[49,17,50,17],[49,18,50,18],[51,1,51,3],[51,4,51,5],[51,6,51,10],[51,12,51,18],[46,19,46,22],[47,1,47,5],[47,6,47,10],[47,20,47,22],[48,1,48,5],[48,6,48,10],[48,11,50,11],[48,12,48,14],[49,1,50,5],[49,6,50,10],[54,0,55,0],[54,1,54,4],[54,6,54,10],[55,1,55,4],[52,0,53,0],[52,1,53,10],[55,6,55,10],[52,11,55,11],[52,12,55,18],[57,0,61,0],[57,1,57,5],[57,6,57,10],[57,11,58,11],[57,12,58,18],[60,12,61,12],[60,13,61,13],[60,14,61,14],[60,15,61,15],[60,16,61,16],[60,17,61,17],[60,18,61,18],[62,1,62,3],[62,4,62,5],[62,6,62,10],[62,12,62,18],[57,19,57,22],[58,1,58,5],[58,6,58,10],[58,20,58,22],[59,1,59,5],[59,6,59,10],[59,11,61,11],[59,12,59,14],[60,1,61,5],[60,6,61,10],[66,6,66,10],[65,0,66,0],[65,1,65,4],[65,6,65,10],[66,1,66,4],[63,0,64,0],[63,1,64,10],[63,11,66,11],[63,12,66,18]]}
["【資格取得手続きに必要な事項】",null,null,null,null,null,null,null,null,null,null,null,null,null,null,null,null,null,null,null,null,null,null,null,null,"有り","同居"]
["★入社する方がいる時は、下記事項をご記入の上、ご連絡下さい。",null,null,null,null,null,null,null,null,null,null,null,null,null,null,null,null,null,null,null,null,null,null,null,null,"無し","別居"]
["※基礎年金番号をもっていない方・確認できない方\n⇒現在の住所と住民票上の住所が違う場合、必ず住民票上の住所を備考欄に記載してください。",null,null,null,null,null,null,null,null,null,null,null,null,null,null,null,null,null,null,null,null,null,null,null,null,"男"]
[null,null,null,null,null,null,null,null,null,null,null,null,null,null,null,null,null,null,null,null,null,null,null,null,null,"女"]
[null,null,"会社名",null,null,{"$f":"IF(取得手続連絡!$F$5=\"\",\"\",取得手続連絡!$F$5)","v":""}]
[null,null,null,null,null,null,null,null,null,null,null,null,null,null,null,null,null,null,null,null,null,null,null,null,null,null,"本人","扶養１","扶養２","扶養３","扶養４"]
[null,null,null,null,null,null,null,null,null,null,null,null,null,null,null,null,null,null,null,null,null,null,null,null,"昭和",1925,{"$f":"VLOOKUP(M12,$Y$7:$Z$8,2,FALSE)","v":1988},{"$f":"VLOOKUP(M28,$Y$7:$Z$8,2,FALSE)","v":1988},{"$f":"VLOOKUP(M39,$Y$7:$Z$8,2,FALSE)","v":1988},{"$f":"VLOOKUP(M50,$Y$7:$Z$8,2,FALSE)","v":1988},{"$f":"VLOOKUP(M61,$Y$7:$Z$8,2,FALSE)","v":1925}]
[null,null,null,null,null,null,null,null,null,null,null,null,"依頼日：平成○○年○○月○○日",null,null,null,null,null,null,null,null,null,null,null,"平成",1988]
["取得者氏名","ﾌﾘｶﾞﾅ",null,null,null,null,null,null,null,null,null,"個人番号\n(マイナンバー)",null,null,null,null,null,null,null,"マイナンバーチェック結果",null,null,null,null,"①空白チェック","②全角半角チェック","③数値チェック","④桁数チェック","⑤重複チェック","n⇒",1,2,3,4,5,6,7,8,9,10,11,"11で割った余り","11-[AB列の値]","⑥チェックデジット","マイナンバーチェック",null,"空白文字が入っています。削除してください。","半角数字で入力してください。","半角数字で入力してください。",null,"重複があります。ご確認ください。","Q_n⇒",2,3,4,5,6,7,2,3,4,5,6,null,null,"入力ミスがあります。通知カードと見比べてください。"]
[null,null,null,null,null,null,null,null,null,null,null,null,null,null,null,null,null,null,null,{"$f":"IF(LEN($M9)=0,\"\",IF(ISERR($AS10),\"×\",$AS10))","v":""},{"$f":"IF(LEN($M9)=0,\"\",IF($Y10<>\"○\",$AU$9,IF($Z10<>\"○\",$AV$9,IF($AA10<>\"○\",$AW$9,IF($AB10<>\"○\",$AB10,IF($AC10<>\"○\",$AY$9,IF($AR10<>\"○\",$BN$9,\"\")))))))","v":""},{"$f":"IF(LEN($E10)=0,\"\",IF($U10<>\"○\",$AQ$1,IF($V10<>\"○\",$AR$1,IF($W10<>\"○\",$AS$1,IF($X10<>\"○\",$X10,IF($Y10<>\"○\",$AU$1,IF($AN10<>\"○\",$BJ$1,\"\")))))))","v":""},{"$f":"IF(LEN($E10)=0,\"\",IF($U10<>\"○\",$AQ$1,IF($V10<>\"○\",$AR$1,IF($W10<>\"○\",$AS$1,IF($X10<>\"○\",$X10,IF($Y10<>\"○\",$AU$1,IF($AN10<>\"○\",$BJ$1,\"\")))))))","v":""},null,{"$f":"IF(LEN($M9)=LEN(SUBSTITUTE(ASC($M9),\" \",\"\")),\"○\",\"×\")","v":"○"},{"$f":"IF(LEN($M9)=LENB($M9),\"○\",\"×\")","v":"○"},{"$f":"IF(ISNUMBER(VALUE($M9)),\"○\",\"×\")","v":"○"},{"$f":"IF(LEN($M9)=12,\"○\",IF(12-LEN($M9)>0,12-LEN($M9)&\"桁不足しています。調整してください。\",ABS(12-LEN($M9))&\"桁超過しています。調整してください。\"))","v":"12桁不足しています。調整してください。"},{"$f":"IF(COUNTIF($M$9:$M$100,$M9)=1,\"○\",\"×\")","v":"×"},null,{"$f":"MID($M9,12-($AE$9),1)*$BA$9","v":{"$error":"#VALUE!"}},{"$f":"MID($M9,12-($AF$9),1)*$BB$9","v":{"$error":"#VALUE!"}},{"$f":"MID($M9,12-($AG$9),1)*$BC$9","v":{"$error":"#VALUE!"}},{"$f":"MID($M9,12-($AH$9),1)*$BD$9","v":{"$error":"#VALUE!"}},{"$f":"MID($M9,12-($AI$9),1)*$BE$9","v":{"$error":"#VALUE!"}},{"$f":"MID($M9,12-($AJ$9),1)*$BF$9","v":{"$error":"#VALUE!"}},{"$f":"MID($M9,12-($AK$9),1)*$BG$9","v":{"$error":"#VALUE!"}},{"$f":"MID($M9,12-($AL$9),1)*$BH$9","v":{"$error":"#VALUE!"}},{"$f":"MID($M9,12-($AM$9),1)*$BI$9","v":{"$error":"#VALUE!"}},{"$f":"MID($M9,12-($AN$9),1)*$BJ$9","v":{"$error":"#VALUE!"}},{"$f":"MID($M9,12-($AO$9),1)*$BK$9","v":{"$error":"#VALUE!"}},{"$f":"MOD(SUM($AE10:$AO10),11)","v":{"$error":"#VALUE!"}},{"$f":"IF($AP10<=1,0,11-$AP10)","v":{"$error":"#VALUE!"}},{"$f":"IF(VALUE(RIGHT($M9,1))=$AQ10,\"○\",\"×\")","v":{"$error":"#VALUE!"}},{"$f":"IF(AND($Y10=\"○\",$Z10=\"○\",$AA10=\"○\",$AB10=\"○\",$AC10=\"○\",$AR10=\"○\"),\"○\",\"×\")","v":{"$error":"#VALUE!"}}]
[null,"（氏）",null,null,null,null,"（名）",null,null,null,null,"生年月日",{"$f":"IF(N12=\"\",\"\",\"（西暦　　\"&$N$12+$AA$7&\"　年）\")","v":""}]
[null,null,null,null,null,null,null,null,null,null,null,null,"平成",null,"年",null,"月",null,"日",null,null,null,null,null,{"$f":"IF(N12=\"\",\"\",N12+$AA$7)","v":""},{"$f":"IF(P12=\"\",\"\",TEXT(P12,\"dd\"))","v":""},{"$f":"IF(R12=\"\",\"\",TEXT(R12,\"dd\"))","v":""}]
[null,null,null,null,null,null,null,null,null,null,null,null,null,null,null,null,null,null,null,null,null,null,null,null,{"$f":"CONCATENATE(Y12,Z12,AA12)","v":""}]
["郵便番号",null,null,"-",null,null,"性別",null,null,null,null,"電話番号",null,"-",null,null,"-",null,null,"※電話番号は空欄でも可能です"]
["ﾌﾘｶﾞﾅ",null,null,null,null,null,null,null,null,null,null,"加入年月日\n(入社年月日)","平成",null,"年",null,"月",null,"日",null,null,null,null,null,{"$f":"IF(N15=\"\",\"\",N15+$Z$8)","v":""},{"$f":"IF(P15=\"\",\"\",TEXT(P15,\"dd\"))","v":""},{"$f":"IF(R15=\"\",\"\",TEXT(R15,\"dd\"))","v":""}]
["住所１\n(都道府県名から)",null,null,null,null,null,null,null,null,null,null,null,null,null,null,null,null,null,null,null,null,null,null,null,{"$f":"CONCATENATE(Y15,Z15,AA15)","v":""}]
["ﾌﾘｶﾞﾅ",null,null,null,null,null,null,null,null,null,null,"給料\n（交通費、残業代含む）",null,null,null,null,null,"円"]
["住所２\n(アパート名等)"]
["基礎年金番号","（4桁）",null,null,null,null,"（6桁）",null,null,null,null,"扶養家族の有無"]
[null,null,null,null,null,"-"]
["雇用保険番号\n（分からない場合、履歴書添付）","（4桁）",null,null,null,"（6桁）",null,null,null,null,"（1桁）","備考"]
[null,null,null,null,"-",null,null,null,null,"-"]
[]
["★扶養家族がいるときは、ご記入下さい。"]
["扶養家族氏名","フリガナ",null,null,null,null,null,null,null,null,null,"個人番号\n(マイナンバー)",null,null,null,null,null,null,null,"マイナンバーチェック結果"]
[null,null,null,null,null,null,null,null,null,null,null,null,null,null,null,null,null,null,null,{"$f":"IF(LEN($M25)=0,\"\",IF(ISERR($AS26),\"×\",$AS26))","v":""},{"$f":"IF(LEN($M25)=0,\"\",IF($Y26<>\"○\",$AU$9,IF($Z26<>\"○\",$AV$9,IF($AA26<>\"○\",$AW$9,IF($AB26<>\"○\",$AB26,IF($AC26<>\"○\",$AY$9,IF($AR26<>\"○\",$BN$9,\"\")))))))","v":""},{"$f":"IF(LEN($E26)=0,\"\",IF($U26<>\"○\",$AQ$1,IF($V26<>\"○\",$AR$1,IF($W26<>\"○\",$AS$1,IF($X26<>\"○\",$X26,IF($Y26<>\"○\",$AU$1,IF($AN26<>\"○\",$BJ$1,\"\")))))))","v":""},{"$f":"IF(LEN($E26)=0,\"\",IF($U26<>\"○\",$AQ$1,IF($V26<>\"○\",$AR$1,IF($W26<>\"○\",$AS$1,IF($X26<>\"○\",$X26,IF($Y26<>\"○\",$AU$1,IF($AN26<>\"○\",$BJ$1,\"\")))))))","v":""},null,{"$f":"IF(LEN($M25)=LEN(SUBSTITUTE(ASC($M25),\" \",\"\")),\"○\",\"×\")","v":"○"},{"$f":"IF(LEN($M25)=LENB($M25),\"○\",\"×\")","v":"○"},{"$f":"IF(ISNUMBER(VALUE($M25)),\"○\",\"×\")","v":"○"},{"$f":"IF(LEN($M25)=12,\"○\",IF(12-LEN($M25)>0,12-LEN($M25)&\"桁不足しています。調整してください。\",ABS(12-LEN($M25))&\"桁超過しています。調整してください。\"))","v":"12桁不足しています。調整してください。"},{"$f":"IF(COUNTIF($M$9:$M$100,$M25)=1,\"○\",\"×\")","v":"×"},null,{"$f":"MID($M25,12-($AE$9),1)*$BA$9","v":{"$error":"#VALUE!"}},{"$f":"MID($M25,12-($AF$9),1)*$BB$9","v":{"$error":"#VALUE!"}},{"$f":"MID($M25,12-($AG$9),1)*$BC$9","v":{"$error":"#VALUE!"}},{"$f":"MID($M25,12-($AH$9),1)*$BD$9","v":{"$error":"#VALUE!"}},{"$f":"MID($M25,12-($AI$9),1)*$BE$9","v":{"$error":"#VALUE!"}},{"$f":"MID($M25,12-($AJ$9),1)*$BF$9","v":{"$error":"#VALUE!"}},{"$f":"MID($M25,12-($AK$9),1)*$BG$9","v":{"$error":"#VALUE!"}},{"$f":"MID($M25,12-($AL$9),1)*$BH$9","v":{"$error":"#VALUE!"}},{"$f":"MID($M25,12-($AM$9),1)*$BI$9","v":{"$error":"#VALUE!"}},{"$f":"MID($M25,12-($AN$9),1)*$BJ$9","v":{"$error":"#VALUE!"}},{"$f":"MID($M25,12-($AO$9),1)*$BK$9","v":{"$error":"#VALUE!"}},{"$f":"MOD(SUM($AE26:$AO26),11)","v":{"$error":"#VALUE!"}},{"$f":"IF($AP26<=1,0,11-$AP26)","v":{"$error":"#VALUE!"}},{"$f":"IF(VALUE(RIGHT($M25,1))=$AQ26,\"○\",\"×\")","v":{"$error":"#VALUE!"}},{"$f":"IF(AND($Y26=\"○\",$Z26=\"○\",$AA26=\"○\",$AB26=\"○\",$AC26=\"○\",$AR26=\"○\"),\"○\",\"×\")","v":{"$error":"#VALUE!"}}]
[null,"（氏）",null,null,null,null,"（名）",null,null,null,null,"生年月日",{"$f":"IF(N28=\"\",\"\",\"（西暦　　\"&N28+$AB$7&\"　年）\")","v":""}]
[null,null,null,null,null,null,null,null,null,null,null,null,"平成",null,"年",null,"月",null,"日",null,null,null,null,null,{"$f":"IF(N28=\"\",\"\",N28+$AB$7)","v":""},{"$f":"IF(P28=\"\",\"\",TEXT(P28,\"dd\"))","v":""},{"$f":"IF(R28=\"\",\"\",TEXT(R28,\"dd\"))","v":""}]
[null,null,null,null,null,null,null,null,null,null,null,null,null,null,null,null,null,null,null,null,null,null,null,null,{"$f":"CONCATENATE(Y28,Z28,AA28)","v":""}]
["性別",null,null,null,"続柄",null,null,null,null,null,null,"収入の有無"]
["同居・別居",null,null,null,null,null,null,null,null,null,null,"備考",null,null,null,null,null,null,null,null,null,null,null,null,{"$f":"IF(N31=\"\",\"\",N31+$Z$8)","v":""},{"$f":"IF(P31=\"\",\"\",TEXT(P31,\"dd\"))","v":""},{"$f":"IF(R31=\"\",\"\",TEXT(R31,\"dd\"))","v":""}]
[null,null,null,null,null,null,null,null,null,null,null,null,null,null,null,null,null,null,null,null,null,null,null,null,{"$f":"CONCATENATE(Y31,Z31,AA31)","v":""}]
["※基礎年金番号\n（配偶者の場合）","（4桁）",null,null,null,null,"（6桁）"]
[null,null,null,null,null,"-"]
[]
["扶養家族氏名","フリガナ",null,null,null,null,null,null,null,null,null,"個人番号\n(マイナンバー)",null,null,null,null,null,null,null,"マイナンバーチェック結果"]
[null,null,null,null,null,null,null,null,null,null,null,null,null,null,null,null,null,null,null,{"$f":"IF(LEN($M36)=0,\"\",IF(ISERR($AS37),\"×\",$AS37))","v":""},{"$f":"IF(LEN($M36)=0,\"\",IF($Y37<>\"○\",$AU$9,IF($Z37<>\"○\",$AV$9,IF($AA37<>\"○\",$AW$9,IF($AB37<>\"○\",$AB37,IF($AC37<>\"○\",$AY$9,IF($AR37<>\"○\",$BN$9,\"\")))))))","v":""},{"$f":"IF(LEN($E37)=0,\"\",IF($U37<>\"○\",$AQ$1,IF($V37<>\"○\",$AR$1,IF($W37<>\"○\",$AS$1,IF($X37<>\"○\",$X37,IF($Y37<>\"○\",$AU$1,IF($AN37<>\"○\",$BJ$1,\"\")))))))","v":""},{"$f":"IF(LEN($E37)=0,\"\",IF($U37<>\"○\",$AQ$1,IF($V37<>\"○\",$AR$1,IF($W37<>\"○\",$AS$1,IF($X37<>\"○\",$X37,IF($Y37<>\"○\",$AU$1,IF($AN37<>\"○\",$BJ$1,\"\")))))))","v":""},null,{"$f":"IF(LEN($M36)=LEN(SUBSTITUTE(ASC($M36),\" \",\"\")),\"○\",\"×\")","v":"○"},{"$f":"IF(LEN($M36)=LENB($M36),\"○\",\"×\")","v":"○"},{"$f":"IF(ISNUMBER(VALUE($M36)),\"○\",\"×\")","v":"○"},{"$f":"IF(LEN($M36)=12,\"○\",IF(12-LEN($M36)>0,12-LEN($M36)&\"桁不足しています。調整してください。\",ABS(12-LEN($M36))&\"桁超過しています。調整してください。\"))","v":"12桁不足しています。調整してください。"},{"$f":"IF(COUNTIF($M$9:$M$100,$M36)=1,\"○\",\"×\")","v":"×"},null,{"$f":"MID($M36,12-($AE$9),1)*$BA$9","v":{"$error":"#VALUE!"}},{"$f":"MID($M36,12-($AF$9),1)*$BB$9","v":{"$error":"#VALUE!"}},{"$f":"MID($M36,12-($AG$9),1)*$BC$9","v":{"$error":"#VALUE!"}},{"$f":"MID($M36,12-($AH$9),1)*$BD$9","v":{"$error":"#VALUE!"}},{"$f":"MID($M36,12-($AI$9),1)*$BE$9","v":{"$error":"#VALUE!"}},{"$f":"MID($M36,12-($AJ$9),1)*$BF$9","v":{"$error":"#VALUE!"}},{"$f":"MID($M36,12-($AK$9),1)*$BG$9","v":{"$error":"#VALUE!"}},{"$f":"MID($M36,12-($AL$9),1)*$BH$9","v":{"$error":"#VALUE!"}},{"$f":"MID($M36,12-($AM$9),1)*$BI$9","v":{"$error":"#VALUE!"}},{"$f":"MID($M36,12-($AN$9),1)*$BJ$9","v":{"$error":"#VALUE!"}},{"$f":"MID($M36,12-($AO$9),1)*$BK$9","v":{"$error":"#VALUE!"}},{"$f":"MOD(SUM($AE37:$AO37),11)","v":{"$error":"#VALUE!"}},{"$f":"IF($AP37<=1,0,11-$AP37)","v":{"$error":"#VALUE!"}},{"$f":"IF(VALUE(RIGHT($M36,1))=$AQ37,\"○\",\"×\")","v":{"$error":"#VALUE!"}},{"$f":"IF(AND($Y37=\"○\",$Z37=\"○\",$AA37=\"○\",$AB37=\"○\",$AC37=\"○\",$AR37=\"○\"),\"○\",\"×\")","v":{"$error":"#VALUE!"}}]
[null,"（氏）",null,null,null,null,"（名）",null,null,null,null,"生年月日",{"$f":"IF(N39=\"\",\"\",\"（西暦　　\"&N39+$AC$7&\"　年）\")","v":""}]
[null,null,null,null,null,null,null,null,null,null,null,null,"平成",null,"年",null,"月",null,"日",null,null,null,null,null,{"$f":"IF(N39=\"\",\"\",N39+$AC$7)","v":""},{"$f":"IF(P39=\"\",\"\",TEXT(P39,\"dd\"))","v":""},{"$f":"IF(R39=\"\",\"\",TEXT(R39,\"dd\"))","v":""}]
[null,null,null,null,null,null,null,null,null,null,null,null,null,null,null,null,null,null,null,null,null,null,null,null,{"$f":"CONCATENATE(Y39,Z39,AA39)","v":""}]
["性別",null,null,null,"続柄",null,null,null,null,null,null,"収入の有無"]
["同居・別居",null,null,null,null,null,null,null,null,null,null,"備考",null,null,null,null,null,null,null,null,null,null,null,null,{"$f":"IF(N42=\"\",\"\",N42+$Z$8)","v":""},{"$f":"IF(P42=\"\",\"\",TEXT(P42,\"dd\"))","v":""},{"$f":"IF(R42=\"\",\"\",TEXT(R42,\"dd\"))","v":""}]
[null,null,null,null,null,null,null,null,null,null,null,null,null,null,null,null,null,null,null,null,null,null,null,null,{"$f":"CONCATENATE(Y42,Z42,AA42)","v":""}]
["※基礎年金番号\n（配偶者の場合）","（4桁）",null,null,null,null,"（6桁）"]
[null,null,null,null,null,"-"]
[]
["扶養家族氏名","フリガナ",null,null,null,null,null,null,null,null,null,"個人番号\n(マイナンバー)",null,null,null,null,null,null,null,"マイナンバーチェック結果"]
[null,null,null,null,null,null,null,null,null,null,null,null,null,null,null,null,null,null,null,{"$f":"IF(LEN($M47)=0,\"\",IF(ISERR($AS48),\"×\",$AS48))","v":""},{"$f":"IF(LEN($M47)=0,\"\",IF($Y48<>\"○\",$AU$9,IF($Z48<>\"○\",$AV$9,IF($AA48<>\"○\",$AW$9,IF($AB48<>\"○\",$AB48,IF($AC48<>\"○\",$AY$9,IF($AR48<>\"○\",$BN$9,\"\")))))))","v":""},{"$f":"IF(LEN($E48)=0,\"\",IF($U48<>\"○\",$AQ$1,IF($V48<>\"○\",$AR$1,IF($W48<>\"○\",$AS$1,IF($X48<>\"○\",$X48,IF($Y48<>\"○\",$AU$1,IF($AN48<>\"○\",$BJ$1,\"\")))))))","v":""},{"$f":"IF(LEN($E48)=0,\"\",IF($U48<>\"○\",$AQ$1,IF($V48<>\"○\",$AR$1,IF($W48<>\"○\",$AS$1,IF($X48<>\"○\",$X48,IF($Y48<>\"○\",$AU$1,IF($AN48<>\"○\",$BJ$1,\"\")))))))","v":""},null,{"$f":"IF(LEN($M47)=LEN(SUBSTITUTE(ASC($M47),\" \",\"\")),\"○\",\"×\")","v":"○"},{"$f":"IF(LEN($M47)=LENB($M47),\"○\",\"×\")","v":"○"},{"$f":"IF(ISNUMBER(VALUE($M47)),\"○\",\"×\")","v":"○"},{"$f":"IF(LEN($M47)=12,\"○\",IF(12-LEN($M47)>0,12-LEN($M47)&\"桁不足しています。調整してください。\",ABS(12-LEN($M47))&\"桁超過しています。調整してください。\"))","v":"12桁不足しています。調整してください。"},{"$f":"IF(COUNTIF($M$9:$M$100,$M47)=1,\"○\",\"×\")","v":"×"},null,{"$f":"MID($M47,12-($AE$9),1)*$BA$9","v":{"$error":"#VALUE!"}},{"$f":"MID($M47,12-($AF$9),1)*$BB$9","v":{"$error":"#VALUE!"}},{"$f":"MID($M47,12-($AG$9),1)*$BC$9","v":{"$error":"#VALUE!"}},{"$f":"MID($M47,12-($AH$9),1)*$BD$9","v":{"$error":"#VALUE!"}},{"$f":"MID($M47,12-($AI$9),1)*$BE$9","v":{"$error":"#VALUE!"}},{"$f":"MID($M47,12-($AJ$9),1)*$BF$9","v":{"$error":"#VALUE!"}},{"$f":"MID($M47,12-($AK$9),1)*$BG$9","v":{"$error":"#VALUE!"}},{"$f":"MID($M47,12-($AL$9),1)*$BH$9","v":{"$error":"#VALUE!"}},{"$f":"MID($M47,12-($AM$9),1)*$BI$9","v":{"$error":"#VALUE!"}},{"$f":"MID($M47,12-($AN$9),1)*$BJ$9","v":{"$error":"#VALUE!"}},{"$f":"MID($M47,12-($AO$9),1)*$BK$9","v":{"$error":"#VALUE!"}},{"$f":"MOD(SUM($AE48:$AO48),11)","v":{"$error":"#VALUE!"}},{"$f":"IF($AP48<=1,0,11-$AP48)","v":{"$error":"#VALUE!"}},{"$f":"IF(VALUE(RIGHT($M47,1))=$AQ48,\"○\",\"×\")","v":{"$error":"#VALUE!"}},{"$f":"IF(AND($Y48=\"○\",$Z48=\"○\",$AA48=\"○\",$AB48=\"○\",$AC48=\"○\",$AR48=\"○\"),\"○\",\"×\")","v":{"$error":"#VALUE!"}}]
[null,"（氏）",null,null,null,null,"（名）",null,null,null,null,"生年月日",{"$f":"IF(N50=\"\",\"\",\"（西暦　　\"&N50+$AD$7&\"　年）\")","v":""}]
[null,null,null,null,null,null,null,null,null,null,null,null,"平成",null,"年",null,"月",null,"日",null,null,null,null,null,{"$f":"IF(N50=\"\",\"\",N50+$AD$7)","v":""},{"$f":"IF(P50=\"\",\"\",TEXT(P50,\"dd\"))","v":""},{"$f":"IF(R50=\"\",\"\",TEXT(R50,\"dd\"))","v":""}]
[null,null,null,null,null,null,null,null,null,null,null,null,null,null,null,null,null,null,null,null,null,null,null,null,{"$f":"CONCATENATE(Y50,Z50,AA50)","v":""}]
["性別",null,null,null,"続柄",null,null,null,null,null,null,"収入の有無"]
["同居・別居",null,null,null,null,null,null,null,null,null,null,"備考",null,null,null,null,null,null,null,null,null,null,null,null,{"$f":"IF(N53=\"\",\"\",N53+$Z$8)","v":""},{"$f":"IF(P53=\"\",\"\",TEXT(P53,\"dd\"))","v":""},{"$f":"IF(R53=\"\",\"\",TEXT(R53,\"dd\"))","v":""}]
[null,null,null,null,null,null,null,null,null,null,null,null,null,null,null,null,null,null,null,null,null,null,null,null,{"$f":"CONCATENATE(Y53,Z53,AA53)","v":""}]
["※基礎年金番号\n（配偶者の場合）","（4桁）",null,null,null,null,"（6桁）"]
[null,null,null,null,null,"-"]
[]
["扶養家族氏名","フリガナ",null,null,null,null,null,null,null,null,null,"個人番号\n(マイナンバー)",null,null,null,null,null,null,null,"マイナンバーチェック結果"]
[null,null,null,null,null,null,null,null,null,null,null,null,null,null,null,null,null,null,null,{"$f":"IF(LEN($M58)=0,\"\",IF(ISERR($AS59),\"×\",$AS59))","v":""},{"$f":"IF(LEN($M58)=0,\"\",IF($Y59<>\"○\",$AU$9,IF($Z59<>\"○\",$AV$9,IF($AA59<>\"○\",$AW$9,IF($AB59<>\"○\",$AB59,IF($AC59<>\"○\",$AY$9,IF($AR59<>\"○\",$BN$9,\"\")))))))","v":""},{"$f":"IF(LEN($E59)=0,\"\",IF($U59<>\"○\",$AQ$1,IF($V59<>\"○\",$AR$1,IF($W59<>\"○\",$AS$1,IF($X59<>\"○\",$X59,IF($Y59<>\"○\",$AU$1,IF($AN59<>\"○\",$BJ$1,\"\")))))))","v":""},{"$f":"IF(LEN($E59)=0,\"\",IF($U59<>\"○\",$AQ$1,IF($V59<>\"○\",$AR$1,IF($W59<>\"○\",$AS$1,IF($X59<>\"○\",$X59,IF($Y59<>\"○\",$AU$1,IF($AN59<>\"○\",$BJ$1,\"\")))))))","v":""},null,{"$f":"IF(LEN($M58)=LEN(SUBSTITUTE(ASC($M58),\" \",\"\")),\"○\",\"×\")","v":"○"},{"$f":"IF(LEN($M58)=LENB($M58),\"○\",\"×\")","v":"○"},{"$f":"IF(ISNUMBER(VALUE($M58)),\"○\",\"×\")","v":"○"},{"$f":"IF(LEN($M58)=12,\"○\",IF(12-LEN($M58)>0,12-LEN($M58)&\"桁不足しています。調整してください。\",ABS(12-LEN($M58))&\"桁超過しています。調整してください。\"))","v":"12桁不足しています。調整してください。"},{"$f":"IF(COUNTIF($M$9:$M$100,$M58)=1,\"○\",\"×\")","v":"×"},null,{"$f":"MID($M58,12-($AE$9),1)*$BA$9","v":{"$error":"#VALUE!"}},{"$f":"MID($M58,12-($AF$9),1)*$BB$9","v":{"$error":"#VALUE!"}},{"$f":"MID($M58,12-($AG$9),1)*$BC$9","v":{"$error":"#VALUE!"}},{"$f":"MID($M58,12-($AH$9),1)*$BD$9","v":{"$error":"#VALUE!"}},{"$f":"MID($M58,12-($AI$9),1)*$BE$9","v":{"$error":"#VALUE!"}},{"$f":"MID($M58,12-($AJ$9),1)*$BF$9","v":{"$error":"#VALUE!"}},{"$f":"MID($M58,12-($AK$9),1)*$BG$9","v":{"$error":"#VALUE!"}},{"$f":"MID($M58,12-($AL$9),1)*$BH$9","v":{"$error":"#VALUE!"}},{"$f":"MID($M58,12-($AM$9),1)*$BI$9","v":{"$error":"#VALUE!"}},{"$f":"MID($M58,12-($AN$9),1)*$BJ$9","v":{"$error":"#VALUE!"}},{"$f":"MID($M58,12-($AO$9),1)*$BK$9","v":{"$error":"#VALUE!"}},{"$f":"MOD(SUM($AE59:$AO59),11)","v":{"$error":"#VALUE!"}},{"$f":"IF($AP59<=1,0,11-$AP59)","v":{"$error":"#VALUE!"}},{"$f":"IF(VALUE(RIGHT($M58,1))=$AQ59,\"○\",\"×\")","v":{"$error":"#VALUE!"}},{"$f":"IF(AND($Y59=\"○\",$Z59=\"○\",$AA59=\"○\",$AB59=\"○\",$AC59=\"○\",$AR59=\"○\"),\"○\",\"×\")","v":{"$error":"#VALUE!"}}]
[null,"（氏）",null,null,null,null,"（名）",null,null,null,null,"生年月日",{"$f":"IF(N61=\"\",\"\",\"（西暦　　\"&N61+$AE$7&\"　年）\")","v":""}]
[null,null,null,null,null,null,null,null,null,null,null,null,"昭和",null,"年",null,"月",null,"日",null,null,null,null,null,{"$f":"IF(N61=\"\",\"\",N61+$AE$7)","v":""},{"$f":"IF(P61=\"\",\"\",TEXT(P61,\"dd\"))","v":""},{"$f":"IF(R61=\"\",\"\",TEXT(R61,\"dd\"))","v":""}]
[null,null,null,null,null,null,null,null,null,null,null,null,null,null,null,null,null,null,null,null,null,null,null,null,{"$f":"CONCATENATE(Y61,Z61,AA61)","v":""}]
["性別",null,null,null,"続柄",null,null,null,null,null,null,"収入の有無"]
["同居・別居",null,null,null,null,null,null,null,null,null,null,"備考",null,null,null,null,null,null,null,null,null,null,null,null,{"$f":"IF(N64=\"\",\"\",N64+$Z$8)","v":""},{"$f":"IF(P64=\"\",\"\",TEXT(P64,\"dd\"))","v":""},{"$f":"IF(R64=\"\",\"\",TEXT(R64,\"dd\"))","v":""}]
[null,null,null,null,null,null,null,null,null,null,null,null,null,null,null,null,null,null,null,null,null,null,null,null,{"$f":"CONCATENATE(Y64,Z64,AA64)","v":""}]
["※基礎年金番号\n（配偶者の場合）","（4桁）",null,null,null,null,"（6桁）"]
[null,null,null,null,null,"-"]

{"sheet":"取得手続連絡 (4)","index":7,"n_rows":67,"n_cols":66,"rows_kept":67,"cut":false,"hidden":false,"merged":[[0,0,0,18],[2,0,2,18],[4,2,5,4],[4,5,5,14],[7,12,7,18],[8,0,12,0],[8,1,8,5],[8,6,8,10],[8,11,9,11],[8,12,9,18],[8,19,8,22],[9,1,9,5],[9,6,9,10],[9,20,9,22],[10,1,10,5],[10,6,10,10],[10,11,12,11],[10,12,10,14],[11,1,12,5],[11,6,12,10],[11,18,12,18],[13,1,13,2],[13,4,13,5],[13,6,13,8],[13,9,13,10],[13,14,13,15],[13,17,13,18],[11,12,12,12],[11,13,12,13],[11,14,12,14],[11,15,12,15],[11,16,12,16],[11,17,12,17],[14,16,15,16],[14,17,15,17],[14,18,15,18],[15,1,15,10],[16,1,16,10],[16,11,17,11],[16,12,17,16],[16,17,17,18],[17,1,17,10],[14,1,14,10],[14,11,15,11],[14,12,15,12],[14,13,15,13],[14,14,15,14],[14,15,15,15],[20,0,21,0],[20,1,20,3],[20,5,20,8],[20,11,21,11],[20,12,21,18],[21,1,21,3],[21,5,21,8],[18,0,19,0],[18,1,18,4],[18,6,18,10],[18,11,19,11],[18,12,19,18],[19,1,19,4],[19,6,19,10],[24,0,28,0],[24,1,24,5],[24,6,24,10],[24,11,25,11],[24,12,25,18],[24,19,24,22],[25,1,25,5],[25,6,25,10],[25,20,25,22],[26,1,26,5],[27,15,28,15],[27,16,28,16],[27,17,28,17],[27,18,28,18],[29,1,29,3],[29,4,29,5],[29,6,29,10],[29,12,29,18],[26,6,26,10],[26,11,28,11],[26,12,26,14],[27,1,28,5],[27,6,28,10],[27,12,28,12],[27,13,28,13],[27,14,28,14],[32,0,33,0],[32,1,32,4],[32,6,32,10],[33,1,33,4],[30,0,31,0],[30,1,31,10],[33,6,33,10],[30,11,33,11],[30,12,33,18],[35,0,39,0],[35,1,35,5],[35,6,35,10],[35,11,36,11],[35,12,36,18],[38,12,39,12],[38,13,39,13],[38,14,39,14],[38,15,39,15],[38,16,39,16],[38,17,39,17],[38,18,39,18],[40,1,40,3],[40,4,40,5],[40,6,40,10],[40,12,40,18],[35,19,35,22],[36,1,36,5],[36,6,36,10],[36,20,36,22],[37,1,37,5],[37,6,37,10],[37,11,39,11],[37,12,37,14],[38,1,39,5],[38,6,39,10],[43,0,44,0],[43,1,43,4],[43,6,43,10],[44,1,44,4],[41,0,42,0],[41,1,42,10],[44,6,44,10],[41,11,44,11],[41,12,44,18],[46,0,50,0],[46,1,46,5],[46,6,46,10],[46,11,47,11],[46,12,47,18],[49,12,50,12],[49,13,50,13],[49,14,50,14],[49,15,50,15],[49,16,50,16],[49,17,50,17],[49,18,50,18],[51,1,51,3],[51,4,51,5],[51,6,51,10],[51,12,51,18],[46,19,46,22],[47,1,47,5],[47,6,47,10],[47,20,47,22],[48,1,48,5],[48,6,48,10],[48,11,50,11],[48,12,48,14],[49,1,50,5],[49,6,50,10],[54,0,55,0],[54,1,54,4],[54,6,54,10],[55,1,55,4],[52,0,53,0],[52,1,53,10],[55,6,55,10],[52,11,55,11],[52,12,55,18],[57,0,61,0],[57,1,57,5],[57,6,57,10],[57,11,58,11],[57,12,58,18],[60,12,61,12],[60,13,61,13],[60,14,61,14],[60,15,61,15],[60,16,61,16],[60,17,61,17],[60,18,61,18],[62,1,62,3],[62,4,62,5],[62,6,62,10],[62,12,62,18],[57,19,57,22],[58,1,58,5],[58,6,58,10],[58,20,58,22],[59,1,59,5],[59,6,59,10],[59,11,61,11],[59,12,59,14],[60,1,61,5],[60,6,61,10],[66,6,66,10],[65,0,66,0],[65,1,65,4],[65,6,65,10],[66,1,66,4],[63,0,64,0],[63,1,64,10],[63,11,66,11],[63,12,66,18]]}
["【資格取得手続きに必要な事項】",null,null,null,null,null,null,null,null,null,null,null,null,null,null,null,null,null,null,null,null,null,null,null,null,"有り","同居"]
["★入社する方がいる時は、下記事項をご記入の上、ご連絡下さい。",null,null,null,null,null,null,null,null,null,null,null,null,null,null,null,null,null,null,null,null,null,null,null,null,"無し","別居"]
["※基礎年金番号をもっていない方・確認できない方\n⇒現在の住所と住民票上の住所が違う場合、必ず住民票上の住所を備考欄に記載してください。",null,null,null,null,null,null,null,null,null,null,null,null,null,null,null,null,null,null,null,null,null,null,null,null,"男"]
[null,null,null,null,null,null,null,null,null,null,null,null,null,null,null,null,null,null,null,null,null,null,null,null,null,"女"]
[null,null,"会社名",null,null,{"$f":"IF(取得手続連絡!$F$5=\"\",\"\",取得手続連絡!$F$5)","v":""}]
[null,null,null,null,null,null,null,null,null,null,null,null,null,null,null,null,null,null,null,null,null,null,null,null,null,null,"本人","扶養１","扶養２","扶養３","扶養４"]
[null,null,null,null,null,null,null,null,null,null,null,null,null,null,null,null,null,null,null,null,null,null,null,null,"昭和",1925,{"$f":"VLOOKUP(M12,$Y$7:$Z$8,2,FALSE)","v":1988},{"$f":"VLOOKUP(M28,$Y$7:$Z$8,2,FALSE)","v":1988},{"$f":"VLOOKUP(M39,$Y$7:$Z$8,2,FALSE)","v":1988},{"$f":"VLOOKUP(M50,$Y$7:$Z$8,2,FALSE)","v":1988},{"$f":"VLOOKUP(M61,$Y$7:$Z$8,2,FALSE)","v":1925}]
[null,null,null,null,null,null,null,null,null,null,null,null,"依頼日：平成○○年○○月○○日",null,null,null,null,null,null,null,null,null,null,null,"平成",1988]
["取得者氏名","ﾌﾘｶﾞﾅ",null,null,null,null,null,null,null,null,null,"個人番号\n(マイナンバー)",null,null,null,null,null,null,null,"マイナンバーチェック結果",null,null,null,null,"①空白チェック","②全角半角チェック","③数値チェック","④桁数チェック","⑤重複チェック","n⇒",1,2,3,4,5,6,7,8,9,10,11,"11で割った余り","11-[AB列の値]","⑥チェックデジット","マイナンバーチェック",null,"空白文字が入っています。削除してください。","半角数字で入力してください。","半角数字で入力してください。",null,"重複があります。ご確認ください。","Q_n⇒",2,3,4,5,6,7,2,3,4,5,6,null,null,"入力ミスがあります。通知カードと見比べてください。"]
[null,null,null,null,null,null,null,null,null,null,null,null,null,null,null,null,null,null,null,{"$f":"IF(LEN($M9)=0,\"\",IF(ISERR($AS10),\"×\",$AS10))","v":""},{"$f":"IF(LEN($M9)=0,\"\",IF($Y10<>\"○\",$AU$9,IF($Z10<>\"○\",$AV$9,IF($AA10<>\"○\",$AW$9,IF($AB10<>\"○\",$AB10,IF($AC10<>\"○\",$AY$9,IF($AR10<>\"○\",$BN$9,\"\")))))))","v":""},{"$f":"IF(LEN($E10)=0,\"\",IF($U10<>\"○\",$AQ$1,IF($V10<>\"○\",$AR$1,IF($W10<>\"○\",$AS$1,IF($X10<>\"○\",$X10,IF($Y10<>\"○\",$AU$1,IF($AN10<>\"○\",$BJ$1,\"\")))))))","v":""},{"$f":"IF(LEN($E10)=0,\"\",IF($U10<>\"○\",$AQ$1,IF($V10<>\"○\",$AR$1,IF($W10<>\"○\",$AS$1,IF($X10<>\"○\",$X10,IF($Y10<>\"○\",$AU$1,IF($AN10<>\"○\",$BJ$1,\"\")))))))","v":""},null,{"$f":"IF(LEN($M9)=LEN(SUBSTITUTE(ASC($M9),\" \",\"\")),\"○\",\"×\")","v":"○"},{"$f":"IF(LEN($M9)=LENB($M9),\"○\",\"×\")","v":"○"},{"$f":"IF(ISNUMBER(VALUE($M9)),\"○\",\"×\")","v":"○"},{"$f":"IF(LEN($M9)=12,\"○\",IF(12-LEN($M9)>0,12-LEN($M9)&\"桁不足しています。調整してください。\",ABS(12-LEN($M9))&\"桁超過しています。調整してください。\"))","v":"12桁不足しています。調整してください。"},{"$f":"IF(COUNTIF($M$9:$M$100,$M9)=1,\"○\",\"×\")","v":"×"},null,{"$f":"MID($M9,12-($AE$9),1)*$BA$9","v":{"$error":"#VALUE!"}},{"$f":"MID($M9,12-($AF$9),1)*$BB$9","v":{"$error":"#VALUE!"}},{"$f":"MID($M9,12-($AG$9),1)*$BC$9","v":{"$error":"#VALUE!"}},{"$f":"MID($M9,12-($AH$9),1)*$BD$9","v":{"$error":"#VALUE!"}},{"$f":"MID($M9,12-($AI$9),1)*$BE$9","v":{"$error":"#VALUE!"}},{"$f":"MID($M9,12-($AJ$9),1)*$BF$9","v":{"$error":"#VALUE!"}},{"$f":"MID($M9,12-($AK$9),1)*$BG$9","v":{"$error":"#VALUE!"}},{"$f":"MID($M9,12-($AL$9),1)*$BH$9","v":{"$error":"#VALUE!"}},{"$f":"MID($M9,12-($AM$9),1)*$BI$9","v":{"$error":"#VALUE!"}},{"$f":"MID($M9,12-($AN$9),1)*$BJ$9","v":{"$error":"#VALUE!"}},{"$f":"MID($M9,12-($AO$9),1)*$BK$9","v":{"$error":"#VALUE!"}},{"$f":"MOD(SUM($AE10:$AO10),11)","v":{"$error":"#VALUE!"}},{"$f":"IF($AP10<=1,0,11-$AP10)","v":{"$error":"#VALUE!"}},{"$f":"IF(VALUE(RIGHT($M9,1))=$AQ10,\"○\",\"×\")","v":{"$error":"#VALUE!"}},{"$f":"IF(AND($Y10=\"○\",$Z10=\"○\",$AA10=\"○\",$AB10=\"○\",$AC10=\"○\",$AR10=\"○\"),\"○\",\"×\")","v":{"$error":"#VALUE!"}}]
[null,"（氏）",null,null,null,null,"（名）",null,null,null,null,"生年月日",{"$f":"IF(N12=\"\",\"\",\"（西暦　　\"&$N$12+$AA$7&\"　年）\")","v":""}]
[null,null,null,null,null,null,null,null,null,null,null,null,"平成",null,"年",null,"月",null,"日",null,null,null,null,null,{"$f":"IF(N12=\"\",\"\",N12+$AA$7)","v":""},{"$f":"IF(P12=\"\",\"\",TEXT(P12,\"dd\"))","v":""},{"$f":"IF(R12=\"\",\"\",TEXT(R12,\"dd\"))","v":""}]
[null,null,null,null,null,null,null,null,null,null,null,null,null,null,null,null,null,null,null,null,null,null,null,null,{"$f":"CONCATENATE(Y12,Z12,AA12)","v":""}]
["郵便番号",null,null,"-",null,null,"性別",null,null,null,null,"電話番号",null,"-",null,null,"-",null,null,"※電話番号は空欄でも可能です"]
["ﾌﾘｶﾞﾅ",null,null,null,null,null,null,null,null,null,null,"加入年月日\n(入社年月日)","平成",null,"年",null,"月",null,"日",null,null,null,null,null,{"$f":"IF(N15=\"\",\"\",N15+$Z$8)","v":""},{"$f":"IF(P15=\"\",\"\",TEXT(P15,\"dd\"))","v":""},{"$f":"IF(R15=\"\",\"\",TEXT(R15,\"dd\"))","v":""}]
["住所１\n(都道府県名から)",null,null,null,null,null,null,null,null,null,null,null,null,null,null,null,null,null,null,null,null,null,null,null,{"$f":"CONCATENATE(Y15,Z15,AA15)","v":""}]
["ﾌﾘｶﾞﾅ",null,null,null,null,null,null,null,null,null,null,"給料\n（交通費、残業代含む）",null,null,null,null,null,"円"]
["住所２\n(アパート名等)"]
["基礎年金番号","（4桁）",null,null,null,null,"（6桁）",null,null,null,null,"扶養家族の有無"]
[null,null,null,null,null,"-"]
["雇用保険番号\n（分からない場合、履歴書添付）","（4桁）",null,null,null,"（6桁）",null,null,null,null,"（1桁）","備考"]
[null,null,null,null,"-",null,null,null,null,"-"]
[]
["★扶養家族がいるときは、ご記入下さい。"]
["扶養家族氏名","フリガナ",null,null,null,null,null,null,null,null,null,"個人番号\n(マイナンバー)",null,null,null,null,null,null,null,"マイナンバーチェック結果"]
[null,null,null,null,null,null,null,null,null,null,null,null,null,null,null,null,null,null,null,{"$f":"IF(LEN($M25)=0,\"\",IF(ISERR($AS26),\"×\",$AS26))","v":""},{"$f":"IF(LEN($M25)=0,\"\",IF($Y26<>\"○\",$AU$9,IF($Z26<>\"○\",$AV$9,IF($AA26<>\"○\",$AW$9,IF($AB26<>\"○\",$AB26,IF($AC26<>\"○\",$AY$9,IF($AR26<>\"○\",$BN$9,\"\")))))))","v":""},{"$f":"IF(LEN($E26)=0,\"\",IF($U26<>\"○\",$AQ$1,IF($V26<>\"○\",$AR$1,IF($W26<>\"○\",$AS$1,IF($X26<>\"○\",$X26,IF($Y26<>\"○\",$AU$1,IF($AN26<>\"○\",$BJ$1,\"\")))))))","v":""},{"$f":"IF(LEN($E26)=0,\"\",IF($U26<>\"○\",$AQ$1,IF($V26<>\"○\",$AR$1,IF($W26<>\"○\",$AS$1,IF($X26<>\"○\",$X26,IF($Y26<>\"○\",$AU$1,IF($AN26<>\"○\",$BJ$1,\"\")))))))","v":""},null,{"$f":"IF(LEN($M25)=LEN(SUBSTITUTE(ASC($M25),\" \",\"\")),\"○\",\"×\")","v":"○"},{"$f":"IF(LEN($M25)=LENB($M25),\"○\",\"×\")","v":"○"},{"$f":"IF(ISNUMBER(VALUE($M25)),\"○\",\"×\")","v":"○"},{"$f":"IF(LEN($M25)=12,\"○\",IF(12-LEN($M25)>0,12-LEN($M25)&\"桁不足しています。調整してください。\",ABS(12-LEN($M25))&\"桁超過しています。調整してください。\"))","v":"12桁不足しています。調整してください。"},{"$f":"IF(COUNTIF($M$9:$M$100,$M25)=1,\"○\",\"×\")","v":"×"},null,{"$f":"MID($M25,12-($AE$9),1)*$BA$9","v":{"$error":"#VALUE!"}},{"$f":"MID($M25,12-($AF$9),1)*$BB$9","v":{"$error":"#VALUE!"}},{"$f":"MID($M25,12-($AG$9),1)*$BC$9","v":{"$error":"#VALUE!"}},{"$f":"MID($M25,12-($AH$9),1)*$BD$9","v":{"$error":"#VALUE!"}},{"$f":"MID($M25,12-($AI$9),1)*$BE$9","v":{"$error":"#VALUE!"}},{"$f":"MID($M25,12-($AJ$9),1)*$BF$9","v":{"$error":"#VALUE!"}},{"$f":"MID($M25,12-($AK$9),1)*$BG$9","v":{"$error":"#VALUE!"}},{"$f":"MID($M25,12-($AL$9),1)*$BH$9","v":{"$error":"#VALUE!"}},{"$f":"MID($M25,12-($AM$9),1)*$BI$9","v":{"$error":"#VALUE!"}},{"$f":"MID($M25,12-($AN$9),1)*$BJ$9","v":{"$error":"#VALUE!"}},{"$f":"MID($M25,12-($AO$9),1)*$BK$9","v":{"$error":"#VALUE!"}},{"$f":"MOD(SUM($AE26:$AO26),11)","v":{"$error":"#VALUE!"}},{"$f":"IF($AP26<=1,0,11-$AP26)","v":{"$error":"#VALUE!"}},{"$f":"IF(VALUE(RIGHT($M25,1))=$AQ26,\"○\",\"×\")","v":{"$error":"#VALUE!"}},{"$f":"IF(AND($Y26=\"○\",$Z26=\"○\",$AA26=\"○\",$AB26=\"○\",$AC26=\"○\",$AR26=\"○\"),\"○\",\"×\")","v":{"$error":"#VALUE!"}}]
[null,"（氏）",null,null,null,null,"（名）",null,null,null,null,"生年月日",{"$f":"IF(N28=\"\",\"\",\"（西暦　　\"&N28+$AB$7&\"　年）\")","v":""}]
[null,null,null,null,null,null,null,null,null,null,null,null,"平成",null,"年",null,"月",null,"日",null,null,null,null,null,{"$f":"IF(N28=\"\",\"\",N28+$AB$7)","v":""},{"$f":"IF(P28=\"\",\"\",TEXT(P28,\"dd\"))","v":""},{"$f":"IF(R28=\"\",\"\",TEXT(R28,\"dd\"))","v":""}]
[null,null,null,null,null,null,null,null,null,null,null,null,null,null,null,null,null,null,null,null,null,null,null,null,{"$f":"CONCATENATE(Y28,Z28,AA28)","v":""}]
["性別",null,null,null,"続柄",null,null,null,null,null,null,"収入の有無"]
["同居・別居",null,null,null,null,null,null,null,null,null,null,"備考",null,null,null,null,null,null,null,null,null,null,null,null,{"$f":"IF(N31=\"\",\"\",N31+$Z$8)","v":""},{"$f":"IF(P31=\"\",\"\",TEXT(P31,\"dd\"))","v":""},{"$f":"IF(R31=\"\",\"\",TEXT(R31,\"dd\"))","v":""}]
[null,null,null,null,null,null,null,null,null,null,null,null,null,null,null,null,null,null,null,null,null,null,null,null,{"$f":"CONCATENATE(Y31,Z31,AA31)","v":""}]
["※基礎年金番号\n（配偶者の場合）","（4桁）",null,null,null,null,"（6桁）"]
[null,null,null,null,null,"-"]
[]
["扶養家族氏名","フリガナ",null,null,null,null,null,null,null,null,null,"個人番号\n(マイナンバー)",null,null,null,null,null,null,null,"マイナンバーチェック結果"]
[null,null,null,null,null,null,null,null,null,null,null,null,null,null,null,null,null,null,null,{"$f":"IF(LEN($M36)=0,\"\",IF(ISERR($AS37),\"×\",$AS37))","v":""},{"$f":"IF(LEN($M36)=0,\"\",IF($Y37<>\"○\",$AU$9,IF($Z37<>\"○\",$AV$9,IF($AA37<>\"○\",$AW$9,IF($AB37<>\"○\",$AB37,IF($AC37<>\"○\",$AY$9,IF($AR37<>\"○\",$BN$9,\"\")))))))","v":""},{"$f":"IF(LEN($E37)=0,\"\",IF($U37<>\"○\",$AQ$1,IF($V37<>\"○\",$AR$1,IF($W37<>\"○\",$AS$1,IF($X37<>\"○\",$X37,IF($Y37<>\"○\",$AU$1,IF($AN37<>\"○\",$BJ$1,\"\")))))))","v":""},{"$f":"IF(LEN($E37)=0,\"\",IF($U37<>\"○\",$AQ$1,IF($V37<>\"○\",$AR$1,IF($W37<>\"○\",$AS$1,IF($X37<>\"○\",$X37,IF($Y37<>\"○\",$AU$1,IF($AN37<>\"○\",$BJ$1,\"\")))))))","v":""},null,{"$f":"IF(LEN($M36)=LEN(SUBSTITUTE(ASC($M36),\" \",\"\")),\"○\",\"×\")","v":"○"},{"$f":"IF(LEN($M36)=LENB($M36),\"○\",\"×\")","v":"○"},{"$f":"IF(ISNUMBER(VALUE($M36)),\"○\",\"×\")","v":"○"},{"$f":"IF(LEN($M36)=12,\"○\",IF(12-LEN($M36)>0,12-LEN($M36)&\"桁不足しています。調整してください。\",ABS(12-LEN($M36))&\"桁超過しています。調整してください。\"))","v":"12桁不足しています。調整してください。"},{"$f":"IF(COUNTIF($M$9:$M$100,$M36)=1,\"○\",\"×\")","v":"×"},null,{"$f":"MID($M36,12-($AE$9),1)*$BA$9","v":{"$error":"#VALUE!"}},{"$f":"MID($M36,12-($AF$9),1)*$BB$9","v":{"$error":"#VALUE!"}},{"$f":"MID($M36,12-($AG$9),1)*$BC$9","v":{"$error":"#VALUE!"}},{"$f":"MID($M36,12-($AH$9),1)*$BD$9","v":{"$error":"#VALUE!"}},{"$f":"MID($M36,12-($AI$9),1)*$BE$9","v":{"$error":"#VALUE!"}},{"$f":"MID($M36,12-($AJ$9),1)*$BF$9","v":{"$error":"#VALUE!"}},{"$f":"MID($M36,12-($AK$9),1)*$BG$9","v":{"$error":"#VALUE!"}},{"$f":"MID($M36,12-($AL$9),1)*$BH$9","v":{"$error":"#VALUE!"}},{"$f":"MID($M36,12-($AM$9),1)*$BI$9","v":{"$error":"#VALUE!"}},{"$f":"MID($M36,12-($AN$9),1)*$BJ$9","v":{"$error":"#VALUE!"}},{"$f":"MID($M36,12-($AO$9),1)*$BK$9","v":{"$error":"#VALUE!"}},{"$f":"MOD(SUM($AE37:$AO37),11)","v":{"$error":"#VALUE!"}},{"$f":"IF($AP37<=1,0,11-$AP37)","v":{"$error":"#VALUE!"}},{"$f":"IF(VALUE(RIGHT($M36,1))=$AQ37,\"○\",\"×\")","v":{"$error":"#VALUE!"}},{"$f":"IF(AND($Y37=\"○\",$Z37=\"○\",$AA37=\"○\",$AB37=\"○\",$AC37=\"○\",$AR37=\"○\"),\"○\",\"×\")","v":{"$error":"#VALUE!"}}]
[null,"（氏）",null,null,null,null,"（名）",null,null,null,null,"生年月日",{"$f":"IF(N39=\"\",\"\",\"（西暦　　\"&N39+$AC$7&\"　年）\")","v":""}]
[null,null,null,null,null,null,null,null,null,null,null,null,"平成",null,"年",null,"月",null,"日",null,null,null,null,null,{"$f":"IF(N39=\"\",\"\",N39+$AC$7)","v":""},{"$f":"IF(P39=\"\",\"\",TEXT(P39,\"dd\"))","v":""},{"$f":"IF(R39=\"\",\"\",TEXT(R39,\"dd\"))","v":""}]
[null,null,null,null,null,null,null,null,null,null,null,null,null,null,null,null,null,null,null,null,null,null,null,null,{"$f":"CONCATENATE(Y39,Z39,AA39)","v":""}]
["性別",null,null,null,"続柄",null,null,null,null,null,null,"収入の有無"]
["同居・別居",null,null,null,null,null,null,null,null,null,null,"備考",null,null,null,null,null,null,null,null,null,null,null,null,{"$f":"IF(N42=\"\",\"\",N42+$Z$8)","v":""},{"$f":"IF(P42=\"\",\"\",TEXT(P42,\"dd\"))","v":""},{"$f":"IF(R42=\"\",\"\",TEXT(R42,\"dd\"))","v":""}]
[null,null,null,null,null,null,null,null,null,null,null,null,null,null,null,null,null,null,null,null,null,null,null,null,{"$f":"CONCATENATE(Y42,Z42,AA42)","v":""}]
["※基礎年金番号\n（配偶者の場合）","（4桁）",null,null,null,null,"（6桁）"]
[null,null,null,null,null,"-"]
[]
["扶養家族氏名","フリガナ",null,null,null,null,null,null,null,null,null,"個人番号\n(マイナンバー)",null,null,null,null,null,null,null,"マイナンバーチェック結果"]
[null,null,null,null,null,null,null,null,null,null,null,null,null,null,null,null,null,null,null,{"$f":"IF(LEN($M47)=0,\"\",IF(ISERR($AS48),\"×\",$AS48))","v":""},{"$f":"IF(LEN($M47)=0,\"\",IF($Y48<>\"○\",$AU$9,IF($Z48<>\"○\",$AV$9,IF($AA48<>\"○\",$AW$9,IF($AB48<>\"○\",$AB48,IF($AC48<>\"○\",$AY$9,IF($AR48<>\"○\",$BN$9,\"\")))))))","v":""},{"$f":"IF(LEN($E48)=0,\"\",IF($U48<>\"○\",$AQ$1,IF($V48<>\"○\",$AR$1,IF($W48<>\"○\",$AS$1,IF($X48<>\"○\",$X48,IF($Y48<>\"○\",$AU$1,IF($AN48<>\"○\",$BJ$1,\"\")))))))","v":""},{"$f":"IF(LEN($E48)=0,\"\",IF($U48<>\"○\",$AQ$1,IF($V48<>\"○\",$AR$1,IF($W48<>\"○\",$AS$1,IF($X48<>\"○\",$X48,IF($Y48<>\"○\",$AU$1,IF($AN48<>\"○\",$BJ$1,\"\")))))))","v":""},null,{"$f":"IF(LEN($M47)=LEN(SUBSTITUTE(ASC($M47),\" \",\"\")),\"○\",\"×\")","v":"○"},{"$f":"IF(LEN($M47)=LENB($M47),\"○\",\"×\")","v":"○"},{"$f":"IF(ISNUMBER(VALUE($M47)),\"○\",\"×\")","v":"○"},{"$f":"IF(LEN($M47)=12,\"○\",IF(12-LEN($M47)>0,12-LEN($M47)&\"桁不足しています。調整してください。\",ABS(12-LEN($M47))&\"桁超過しています。調整してください。\"))","v":"12桁不足しています。調整してください。"},{"$f":"IF(COUNTIF($M$9:$M$100,$M47)=1,\"○\",\"×\")","v":"×"},null,{"$f":"MID($M47,12-($AE$9),1)*$BA$9","v":{"$error":"#VALUE!"}},{"$f":"MID($M47,12-($AF$9),1)*$BB$9","v":{"$error":"#VALUE!"}},{"$f":"MID($M47,12-($AG$9),1)*$BC$9","v":{"$error":"#VALUE!"}},{"$f":"MID($M47,12-($AH$9),1)*$BD$9","v":{"$error":"#VALUE!"}},{"$f":"MID($M47,12-($AI$9),1)*$BE$9","v":{"$error":"#VALUE!"}},{"$f":"MID($M47,12-($AJ$9),1)*$BF$9","v":{"$error":"#VALUE!"}},{"$f":"MID($M47,12-($AK$9),1)*$BG$9","v":{"$error":"#VALUE!"}},{"$f":"MID($M47,12-($AL$9),1)*$BH$9","v":{"$error":"#VALUE!"}},{"$f":"MID($M47,12-($AM$9),1)*$BI$9","v":{"$error":"#VALUE!"}},{"$f":"MID($M47,12-($AN$9),1)*$BJ$9","v":{"$error":"#VALUE!"}},{"$f":"MID($M47,12-($AO$9),1)*$BK$9","v":{"$error":"#VALUE!"}},{"$f":"MOD(SUM($AE48:$AO48),11)","v":{"$error":"#VALUE!"}},{"$f":"IF($AP48<=1,0,11-$AP48)","v":{"$error":"#VALUE!"}},{"$f":"IF(VALUE(RIGHT($M47,1))=$AQ48,\"○\",\"×\")","v":{"$error":"#VALUE!"}},{"$f":"IF(AND($Y48=\"○\",$Z48=\"○\",$AA48=\"○\",$AB48=\"○\",$AC48=\"○\",$AR48=\"○\"),\"○\",\"×\")","v":{"$error":"#VALUE!"}}]
[null,"（氏）",null,null,null,null,"（名）",null,null,null,null,"生年月日",{"$f":"IF(N50=\"\",\"\",\"（西暦　　\"&N50+$AD$7&\"　年）\")","v":""}]
[null,null,null,null,null,null,null,null,null,null,null,null,"平成",null,"年",null,"月",null,"日",null,null,null,null,null,{"$f":"IF(N50=\"\",\"\",N50+$AD$7)","v":""},{"$f":"IF(P50=\"\",\"\",TEXT(P50,\"dd\"))","v":""},{"$f":"IF(R50=\"\",\"\",TEXT(R50,\"dd\"))","v":""}]
[null,null,null,null,null,null,null,null,null,null,null,null,null,null,null,null,null,null,null,null,null,null,null,null,{"$f":"CONCATENATE(Y50,Z50,AA50)","v":""}]
["性別",null,null,null,"続柄",null,null,null,null,null,null,"収入の有無"]
["同居・別居",null,null,null,null,null,null,null,null,null,null,"備考",null,null,null,null,null,null,null,null,null,null,null,null,{"$f":"IF(N53=\"\",\"\",N53+$Z$8)","v":""},{"$f":"IF(P53=\"\",\"\",TEXT(P53,\"dd\"))","v":""},{"$f":"IF(R53=\"\",\"\",TEXT(R53,\"dd\"))","v":""}]
[null,null,null,null,null,null,null,null,null,null,null,null,null,null,null,null,null,null,null,null,null,null,null,null,{"$f":"CONCATENATE(Y53,Z53,AA53)","v":""}]
["※基礎年金番号\n（配偶者の場合）","（4桁）",null,null,null,null,"（6桁）"]
[null,null,null,null,null,"-"]
[]
["扶養家族氏名","フリガナ",null,null,null,null,null,null,null,null,null,"個人番号\n(マイナンバー)",null,null,null,null,null,null,null,"マイナンバーチェック結果"]
[null,null,null,null,null,null,null,null,null,null,null,null,null,null,null,null,null,null,null,{"$f":"IF(LEN($M58)=0,\"\",IF(ISERR($AS59),\"×\",$AS59))","v":""},{"$f":"IF(LEN($M58)=0,\"\",IF($Y59<>\"○\",$AU$9,IF($Z59<>\"○\",$AV$9,IF($AA59<>\"○\",$AW$9,IF($AB59<>\"○\",$AB59,IF($AC59<>\"○\",$AY$9,IF($AR59<>\"○\",$BN$9,\"\")))))))","v":""},{"$f":"IF(LEN($E59)=0,\"\",IF($U59<>\"○\",$AQ$1,IF($V59<>\"○\",$AR$1,IF($W59<>\"○\",$AS$1,IF($X59<>\"○\",$X59,IF($Y59<>\"○\",$AU$1,IF($AN59<>\"○\",$BJ$1,\"\")))))))","v":""},{"$f":"IF(LEN($E59)=0,\"\",IF($U59<>\"○\",$AQ$1,IF($V59<>\"○\",$AR$1,IF($W59<>\"○\",$AS$1,IF($X59<>\"○\",$X59,IF($Y59<>\"○\",$AU$1,IF($AN59<>\"○\",$BJ$1,\"\")))))))","v":""},null,{"$f":"IF(LEN($M58)=LEN(SUBSTITUTE(ASC($M58),\" \",\"\")),\"○\",\"×\")","v":"○"},{"$f":"IF(LEN($M58)=LENB($M58),\"○\",\"×\")","v":"○"},{"$f":"IF(ISNUMBER(VALUE($M58)),\"○\",\"×\")","v":"○"},{"$f":"IF(LEN($M58)=12,\"○\",IF(12-LEN($M58)>0,12-LEN($M58)&\"桁不足しています。調整してください。\",ABS(12-LEN($M58))&\"桁超過しています。調整してください。\"))","v":"12桁不足しています。調整してください。"},{"$f":"IF(COUNTIF($M$9:$M$100,$M58)=1,\"○\",\"×\")","v":"×"},null,{"$f":"MID($M58,12-($AE$9),1)*$BA$9","v":{"$error":"#VALUE!"}},{"$f":"MID($M58,12-($AF$9),1)*$BB$9","v":{"$error":"#VALUE!"}},{"$f":"MID($M58,12-($AG$9),1)*$BC$9","v":{"$error":"#VALUE!"}},{"$f":"MID($M58,12-($AH$9),1)*$BD$9","v":{"$error":"#VALUE!"}},{"$f":"MID($M58,12-($AI$9),1)*$BE$9","v":{"$error":"#VALUE!"}},{"$f":"MID($M58,12-($AJ$9),1)*$BF$9","v":{"$error":"#VALUE!"}},{"$f":"MID($M58,12-($AK$9),1)*$BG$9","v":{"$error":"#VALUE!"}},{"$f":"MID($M58,12-($AL$9),1)*$BH$9","v":{"$error":"#VALUE!"}},{"$f":"MID($M58,12-($AM$9),1)*$BI$9","v":{"$error":"#VALUE!"}},{"$f":"MID($M58,12-($AN$9),1)*$BJ$9","v":{"$error":"#VALUE!"}},{"$f":"MID($M58,12-($AO$9),1)*$BK$9","v":{"$error":"#VALUE!"}},{"$f":"MOD(SUM($AE59:$AO59),11)","v":{"$error":"#VALUE!"}},{"$f":"IF($AP59<=1,0,11-$AP59)","v":{"$error":"#VALUE!"}},{"$f":"IF(VALUE(RIGHT($M58,1))=$AQ59,\"○\",\"×\")","v":{"$error":"#VALUE!"}},{"$f":"IF(AND($Y59=\"○\",$Z59=\"○\",$AA59=\"○\",$AB59=\"○\",$AC59=\"○\",$AR59=\"○\"),\"○\",\"×\")","v":{"$error":"#VALUE!"}}]
[null,"（氏）",null,null,null,null,"（名）",null,null,null,null,"生年月日",{"$f":"IF(N61=\"\",\"\",\"（西暦　　\"&N61+$AE$7&\"　年）\")","v":""}]
[null,null,null,null,null,null,null,null,null,null,null,null,"昭和",null,"年",null,"月",null,"日",null,null,null,null,null,{"$f":"IF(N61=\"\",\"\",N61+$AE$7)","v":""},{"$f":"IF(P61=\"\",\"\",TEXT(P61,\"dd\"))","v":""},{"$f":"IF(R61=\"\",\"\",TEXT(R61,\"dd\"))","v":""}]
[null,null,null,null,null,null,null,null,null,null,null,null,null,null,null,null,null,null,null,null,null,null,null,null,{"$f":"CONCATENATE(Y61,Z61,AA61)","v":""}]
["性別",null,null,null,"続柄",null,null,null,null,null,null,"収入の有無"]
["同居・別居",null,null,null,null,null,null,null,null,null,null,"備考",null,null,null,null,null,null,null,null,null,null,null,null,{"$f":"IF(N64=\"\",\"\",N64+$Z$8)","v":""},{"$f":"IF(P64=\"\",\"\",TEXT(P64,\"dd\"))","v":""},{"$f":"IF(R64=\"\",\"\",TEXT(R64,\"dd\"))","v":""}]
[null,null,null,null,null,null,null,null,null,null,null,null,null,null,null,null,null,null,null,null,null,null,null,null,{"$f":"CONCATENATE(Y64,Z64,AA64)","v":""}]
["※基礎年金番号\n（配偶者の場合）","（4桁）",null,null,null,null,"（6桁）"]
[null,null,null,null,null,"-"]

{"sheet":"取得手続連絡 (5)","index":8,"n_rows":67,"n_cols":66,"rows_kept":67,"cut":false,"hidden":false,"merged":[[0,0,0,18],[2,0,2,18],[4,2,5,4],[4,5,5,14],[7,12,7,18],[8,0,12,0],[8,1,8,5],[8,6,8,10],[8,11,9,11],[8,12,9,18],[8,19,8,22],[9,1,9,5],[9,6,9,10],[9,20,9,22],[10,1,10,5],[10,6,10,10],[10,11,12,11],[10,12,10,14],[11,1,12,5],[11,6,12,10],[11,18,12,18],[13,1,13,2],[13,4,13,5],[13,6,13,8],[13,9,13,10],[13,14,13,15],[13,17,13,18],[11,12,12,12],[11,13,12,13],[11,14,12,14],[11,15,12,15],[11,16,12,16],[11,17,12,17],[14,16,15,16],[14,17,15,17],[14,18,15,18],[15,1,15,10],[16,1,16,10],[16,11,17,11],[16,12,17,16],[16,17,17,18],[17,1,17,10],[14,1,14,10],[14,11,15,11],[14,12,15,12],[14,13,15,13],[14,14,15,14],[14,15,15,15],[20,0,21,0],[20,1,20,3],[20,5,20,8],[20,11,21,11],[20,12,21,18],[21,1,21,3],[21,5,21,8],[18,0,19,0],[18,1,18,4],[18,6,18,10],[18,11,19,11],[18,12,19,18],[19,1,19,4],[19,6,19,10],[24,0,28,0],[24,1,24,5],[24,6,24,10],[24,11,25,11],[24,12,25,18],[24,19,24,22],[25,1,25,5],[25,6,25,10],[25,20,25,22],[26,1,26,5],[27,15,28,15],[27,16,28,16],[27,17,28,17],[27,18,28,18],[29,1,29,3],[29,4,29,5],[29,6,29,10],[29,12,29,18],[26,6,26,10],[26,11,28,11],[26,12,26,14],[27,1,28,5],[27,6,28,10],[27,12,28,12],[27,13,28,13],[27,14,28,14],[32,0,33,0],[32,1,32,4],[32,6,32,10],[33,1,33,4],[30,0,31,0],[30,1,31,10],[33,6,33,10],[30,11,33,11],[30,12,33,18],[35,0,39,0],[35,1,35,5],[35,6,35,10],[35,11,36,11],[35,12,36,18],[38,12,39,12],[38,13,39,13],[38,14,39,14],[38,15,39,15],[38,16,39,16],[38,17,39,17],[38,18,39,18],[40,1,40,3],[40,4,40,5],[40,6,40,10],[40,12,40,18],[35,19,35,22],[36,1,36,5],[36,6,36,10],[36,20,36,22],[37,1,37,5],[37,6,37,10],[37,11,39,11],[37,12,37,14],[38,1,39,5],[38,6,39,10],[43,0,44,0],[43,1,43,4],[43,6,43,10],[44,1,44,4],[41,0,42,0],[41,1,42,10],[44,6,44,10],[41,11,44,11],[41,12,44,18],[46,0,50,0],[46,1,46,5],[46,6,46,10],[46,11,47,11],[46,12,47,18],[49,12,50,12],[49,13,50,13],[49,14,50,14],[49,15,50,15],[49,16,50,16],[49,17,50,17],[49,18,50,18],[51,1,51,3],[51,4,51,5],[51,6,51,10],[51,12,51,18],[46,19,46,22],[47,1,47,5],[47,6,47,10],[47,20,47,22],[48,1,48,5],[48,6,48,10],[48,11,50,11],[48,12,48,14],[49,1,50,5],[49,6,50,10],[54,0,55,0],[54,1,54,4],[54,6,54,10],[55,1,55,4],[52,0,53,0],[52,1,53,10],[55,6,55,10],[52,11,55,11],[52,12,55,18],[57,0,61,0],[57,1,57,5],[57,6,57,10],[57,11,58,11],[57,12,58,18],[60,12,61,12],[60,13,61,13],[60,14,61,14],[60,15,61,15],[60,16,61,16],[60,17,61,17],[60,18,61,18],[62,1,62,3],[62,4,62,5],[62,6,62,10],[62,12,62,18],[57,19,57,22],[58,1,58,5],[58,6,58,10],[58,20,58,22],[59,1,59,5],[59,6,59,10],[59,11,61,11],[59,12,59,14],[60,1,61,5],[60,6,61,10],[66,6,66,10],[65,0,66,0],[65,1,65,4],[65,6,65,10],[66,1,66,4],[63,0,64,0],[63,1,64,10],[63,11,66,11],[63,12,66,18]]}
["【資格取得手続きに必要な事項】",null,null,null,null,null,null,null,null,null,null,null,null,null,null,null,null,null,null,null,null,null,null,null,null,"有り","同居"]
["★入社する方がいる時は、下記事項をご記入の上、ご連絡下さい。",null,null,null,null,null,null,null,null,null,null,null,null,null,null,null,null,null,null,null,null,null,null,null,null,"無し","別居"]
["※基礎年金番号をもっていない方・確認できない方\n⇒現在の住所と住民票上の住所が違う場合、必ず住民票上の住所を備考欄に記載してください。",null,null,null,null,null,null,null,null,null,null,null,null,null,null,null,null,null,null,null,null,null,null,null,null,"男"]
[null,null,null,null,null,null,null,null,null,null,null,null,null,null,null,null,null,null,null,null,null,null,null,null,null,"女"]
[null,null,"会社名",null,null,{"$f":"IF(取得手続連絡!$F$5=\"\",\"\",取得手続連絡!$F$5)","v":""}]
[null,null,null,null,null,null,null,null,null,null,null,null,null,null,null,null,null,null,null,null,null,null,null,null,null,null,"本人","扶養１","扶養２","扶養３","扶養４"]
[null,null,null,null,null,null,null,null,null,null,null,null,null,null,null,null,null,null,null,null,null,null,null,null,"昭和",1925,{"$f":"VLOOKUP(M12,$Y$7:$Z$8,2,FALSE)","v":1988},{"$f":"VLOOKUP(M28,$Y$7:$Z$8,2,FALSE)","v":1988},{"$f":"VLOOKUP(M39,$Y$7:$Z$8,2,FALSE)","v":1988},{"$f":"VLOOKUP(M50,$Y$7:$Z$8,2,FALSE)","v":1988},{"$f":"VLOOKUP(M61,$Y$7:$Z$8,2,FALSE)","v":1925}]
[null,null,null,null,null,null,null,null,null,null,null,null,"依頼日：平成○○年○○月○○日",null,null,null,null,null,null,null,null,null,null,null,"平成",1988]
["取得者氏名","ﾌﾘｶﾞﾅ",null,null,null,null,null,null,null,null,null,"個人番号\n(マイナンバー)",null,null,null,null,null,null,null,"マイナンバーチェック結果",null,null,null,null,"①空白チェック","②全角半角チェック","③数値チェック","④桁数チェック","⑤重複チェック","n⇒",1,2,3,4,5,6,7,8,9,10,11,"11で割った余り","11-[AB列の値]","⑥チェックデジット","マイナンバーチェック",null,"空白文字が入っています。削除してください。","半角数字で入力してください。","半角数字で入力してください。",null,"重複があります。ご確認ください。","Q_n⇒",2,3,4,5,6,7,2,3,4,5,6,null,null,"入力ミスがあります。通知カードと見比べてください。"]
[null,null,null,null,null,null,null,null,null,null,null,null,null,null,null,null,null,null,null,{"$f":"IF(LEN($M9)=0,\"\",IF(ISERR($AS10),\"×\",$AS10))","v":""},{"$f":"IF(LEN($M9)=0,\"\",IF($Y10<>\"○\",$AU$9,IF($Z10<>\"○\",$AV$9,IF($AA10<>\"○\",$AW$9,IF($AB10<>\"○\",$AB10,IF($AC10<>\"○\",$AY$9,IF($AR10<>\"○\",$BN$9,\"\")))))))","v":""},{"$f":"IF(LEN($E10)=0,\"\",IF($U10<>\"○\",$AQ$1,IF($V10<>\"○\",$AR$1,IF($W10<>\"○\",$AS$1,IF($X10<>\"○\",$X10,IF($Y10<>\"○\",$AU$1,IF($AN10<>\"○\",$BJ$1,\"\")))))))","v":""},{"$f":"IF(LEN($E10)=0,\"\",IF($U10<>\"○\",$AQ$1,IF($V10<>\"○\",$AR$1,IF($W10<>\"○\",$AS$1,IF($X10<>\"○\",$X10,IF($Y10<>\"○\",$AU$1,IF($AN10<>\"○\",$BJ$1,\"\")))))))","v":""},null,{"$f":"IF(LEN($M9)=LEN(SUBSTITUTE(ASC($M9),\" \",\"\")),\"○\",\"×\")","v":"○"},{"$f":"IF(LEN($M9)=LENB($M9),\"○\",\"×\")","v":"○"},{"$f":"IF(ISNUMBER(VALUE($M9)),\"○\",\"×\")","v":"○"},{"$f":"IF(LEN($M9)=12,\"○\",IF(12-LEN($M9)>0,12-LEN($M9)&\"桁不足しています。調整してください。\",ABS(12-LEN($M9))&\"桁超過しています。調整してください。\"))","v":"12桁不足しています。調整してください。"},{"$f":"IF(COUNTIF($M$9:$M$100,$M9)=1,\"○\",\"×\")","v":"×"},null,{"$f":"MID($M9,12-($AE$9),1)*$BA$9","v":{"$error":"#VALUE!"}},{"$f":"MID($M9,12-($AF$9),1)*$BB$9","v":{"$error":"#VALUE!"}},{"$f":"MID($M9,12-($AG$9),1)*$BC$9","v":{"$error":"#VALUE!"}},{"$f":"MID($M9,12-($AH$9),1)*$BD$9","v":{"$error":"#VALUE!"}},{"$f":"MID($M9,12-($AI$9),1)*$BE$9","v":{"$error":"#VALUE!"}},{"$f":"MID($M9,12-($AJ$9),1)*$BF$9","v":{"$error":"#VALUE!"}},{"$f":"MID($M9,12-($AK$9),1)*$BG$9","v":{"$error":"#VALUE!"}},{"$f":"MID($M9,12-($AL$9),1)*$BH$9","v":{"$error":"#VALUE!"}},{"$f":"MID($M9,12-($AM$9),1)*$BI$9","v":{"$error":"#VALUE!"}},{"$f":"MID($M9,12-($AN$9),1)*$BJ$9","v":{"$error":"#VALUE!"}},{"$f":"MID($M9,12-($AO$9),1)*$BK$9","v":{"$error":"#VALUE!"}},{"$f":"MOD(SUM($AE10:$AO10),11)","v":{"$error":"#VALUE!"}},{"$f":"IF($AP10<=1,0,11-$AP10)","v":{"$error":"#VALUE!"}},{"$f":"IF(VALUE(RIGHT($M9,1))=$AQ10,\"○\",\"×\")","v":{"$error":"#VALUE!"}},{"$f":"IF(AND($Y10=\"○\",$Z10=\"○\",$AA10=\"○\",$AB10=\"○\",$AC10=\"○\",$AR10=\"○\"),\"○\",\"×\")","v":{"$error":"#VALUE!"}}]
[null,"（氏）",null,null,null,null,"（名）",null,null,null,null,"生年月日",{"$f":"IF(N12=\"\",\"\",\"（西暦　　\"&$N$12+$AA$7&\"　年）\")","v":""}]
[null,null,null,null,null,null,null,null,null,null,null,null,"平成",null,"年",null,"月",null,"日",null,null,null,null,null,{"$f":"IF(N12=\"\",\"\",N12+$AA$7)","v":""},{"$f":"IF(P12=\"\",\"\",TEXT(P12,\"dd\"))","v":""},{"$f":"IF(R12=\"\",\"\",TEXT(R12,\"dd\"))","v":""}]
[null,null,null,null,null,null,null,null,null,null,null,null,null,null,null,null,null,null,null,null,null,null,null,null,{"$f":"CONCATENATE(Y12,Z12,AA12)","v":""}]
["郵便番号",null,null,"-",null,null,"性別",null,null,null,null,"電話番号",null,"-",null,null,"-",null,null,"※電話番号は空欄でも可能です"]
["ﾌﾘｶﾞﾅ",null,null,null,null,null,null,null,null,null,null,"加入年月日\n(入社年月日)","平成",null,"年",null,"月",null,"日",null,null,null,null,null,{"$f":"IF(N15=\"\",\"\",N15+$Z$8)","v":""},{"$f":"IF(P15=\"\",\"\",TEXT(P15,\"dd\"))","v":""},{"$f":"IF(R15=\"\",\"\",TEXT(R15,\"dd\"))","v":""}]
["住所１\n(都道府県名から)",null,null,null,null,null,null,null,null,null,null,null,null,null,null,null,null,null,null,null,null,null,null,null,{"$f":"CONCATENATE(Y15,Z15,AA15)","v":""}]
["ﾌﾘｶﾞﾅ",null,null,null,null,null,null,null,null,null,null,"給料\n（交通費、残業代含む）",null,null,null,null,null,"円"]
["住所２\n(アパート名等)"]
["基礎年金番号","（4桁）",null,null,null,null,"（6桁）",null,null,null,null,"扶養家族の有無"]
[null,null,null,null,null,"-"]
["雇用保険番号\n（分からない場合、履歴書添付）","（4桁）",null,null,null,"（6桁）",null,null,null,null,"（1桁）","備考"]
[null,null,null,null,"-",null,null,null,null,"-"]
[]
["★扶養家族がいるときは、ご記入下さい。"]
["扶養家族氏名","フリガナ",null,null,null,null,null,null,null,null,null,"個人番号\n(マイナンバー)",null,null,null,null,null,null,null,"マイナンバーチェック結果"]
[null,null,null,null,null,null,null,null,null,null,null,null,null,null,null,null,null,null,null,{"$f":"IF(LEN($M25)=0,\"\",IF(ISERR($AS26),\"×\",$AS26))","v":""},{"$f":"IF(LEN($M25)=0,\"\",IF($Y26<>\"○\",$AU$9,IF($Z26<>\"○\",$AV$9,IF($AA26<>\"○\",$AW$9,IF($AB26<>\"○\",$AB26,IF($AC26<>\"○\",$AY$9,IF($AR26<>\"○\",$BN$9,\"\")))))))","v":""},{"$f":"IF(LEN($E26)=0,\"\",IF($U26<>\"○\",$AQ$1,IF($V26<>\"○\",$AR$1,IF($W26<>\"○\",$AS$1,IF($X26<>\"○\",$X26,IF($Y26<>\"○\",$AU$1,IF($AN26<>\"○\",$BJ$1,\"\")))))))","v":""},{"$f":"IF(LEN($E26)=0,\"\",IF($U26<>\"○\",$AQ$1,IF($V26<>\"○\",$AR$1,IF($W26<>\"○\",$AS$1,IF($X26<>\"○\",$X26,IF($Y26<>\"○\",$AU$1,IF($AN26<>\"○\",$BJ$1,\"\")))))))","v":""},null,{"$f":"IF(LEN($M25)=LEN(SUBSTITUTE(ASC($M25),\" \",\"\")),\"○\",\"×\")","v":"○"},{"$f":"IF(LEN($M25)=LENB($M25),\"○\",\"×\")","v":"○"},{"$f":"IF(ISNUMBER(VALUE($M25)),\"○\",\"×\")","v":"○"},{"$f":"IF(LEN($M25)=12,\"○\",IF(12-LEN($M25)>0,12-LEN($M25)&\"桁不足しています。調整してください。\",ABS(12-LEN($M25))&\"桁超過しています。調整してください。\"))","v":"12桁不足しています。調整してください。"},{"$f":"IF(COUNTIF($M$9:$M$100,$M25)=1,\"○\",\"×\")","v":"×"},null,{"$f":"MID($M25,12-($AE$9),1)*$BA$9","v":{"$error":"#VALUE!"}},{"$f":"MID($M25,12-($AF$9),1)*$BB$9","v":{"$error":"#VALUE!"}},{"$f":"MID($M25,12-($AG$9),1)*$BC$9","v":{"$error":"#VALUE!"}},{"$f":"MID($M25,12-($AH$9),1)*$BD$9","v":{"$error":"#VALUE!"}},{"$f":"MID($M25,12-($AI$9),1)*$BE$9","v":{"$error":"#VALUE!"}},{"$f":"MID($M25,12-($AJ$9),1)*$BF$9","v":{"$error":"#VALUE!"}},{"$f":"MID($M25,12-($AK$9),1)*$BG$9","v":{"$error":"#VALUE!"}},{"$f":"MID($M25,12-($AL$9),1)*$BH$9","v":{"$error":"#VALUE!"}},{"$f":"MID($M25,12-($AM$9),1)*$BI$9","v":{"$error":"#VALUE!"}},{"$f":"MID($M25,12-($AN$9),1)*$BJ$9","v":{"$error":"#VALUE!"}},{"$f":"MID($M25,12-($AO$9),1)*$BK$9","v":{"$error":"#VALUE!"}},{"$f":"MOD(SUM($AE26:$AO26),11)","v":{"$error":"#VALUE!"}},{"$f":"IF($AP26<=1,0,11-$AP26)","v":{"$error":"#VALUE!"}},{"$f":"IF(VALUE(RIGHT($M25,1))=$AQ26,\"○\",\"×\")","v":{"$error":"#VALUE!"}},{"$f":"IF(AND($Y26=\"○\",$Z26=\"○\",$AA26=\"○\",$AB26=\"○\",$AC26=\"○\",$AR26=\"○\"),\"○\",\"×\")","v":{"$error":"#VALUE!"}}]
[null,"（氏）",null,null,null,null,"（名）",null,null,null,null,"生年月日",{"$f":"IF(N28=\"\",\"\",\"（西暦　　\"&N28+$AB$7&\"　年）\")","v":""}]
[null,null,null,null,null,null,null,null,null,null,null,null,"平成",null,"年",null,"月",null,"日",null,null,null,null,null,{"$f":"IF(N28=\"\",\"\",N28+$AB$7)","v":""},{"$f":"IF(P28=\"\",\"\",TEXT(P28,\"dd\"))","v":""},{"$f":"IF(R28=\"\",\"\",TEXT(R28,\"dd\"))","v":""}]
[null,null,null,null,null,null,null,null,null,null,null,null,null,null,null,null,null,null,null,null,null,null,null,null,{"$f":"CONCATENATE(Y28,Z28,AA28)","v":""}]
["性別",null,null,null,"続柄",null,null,null,null,null,null,"収入の有無"]
["同居・別居",null,null,null,null,null,null,null,null,null,null,"備考",null,null,null,null,null,null,null,null,null,null,null,null,{"$f":"IF(N31=\"\",\"\",N31+$Z$8)","v":""},{"$f":"IF(P31=\"\",\"\",TEXT(P31,\"dd\"))","v":""},{"$f":"IF(R31=\"\",\"\",TEXT(R31,\"dd\"))","v":""}]
[null,null,null,null,null,null,null,null,null,null,null,null,null,null,null,null,null,null,null,null,null,null,null,null,{"$f":"CONCATENATE(Y31,Z31,AA31)","v":""}]
["※基礎年金番号\n（配偶者の場合）","（4桁）",null,null,null,null,"（6桁）"]
[null,null,null,null,null,"-"]
[]
["扶養家族氏名","フリガナ",null,null,null,null,null,null,null,null,null,"個人番号\n(マイナンバー)",null,null,null,null,null,null,null,"マイナンバーチェック結果"]
[null,null,null,null,null,null,null,null,null,null,null,null,null,null,null,null,null,null,null,{"$f":"IF(LEN($M36)=0,\"\",IF(ISERR($AS37),\"×\",$AS37))","v":""},{"$f":"IF(LEN($M36)=0,\"\",IF($Y37<>\"○\",$AU$9,IF($Z37<>\"○\",$AV$9,IF($AA37<>\"○\",$AW$9,IF($AB37<>\"○\",$AB37,IF($AC37<>\"○\",$AY$9,IF($AR37<>\"○\",$BN$9,\"\")))))))","v":""},{"$f":"IF(LEN($E37)=0,\"\",IF($U37<>\"○\",$AQ$1,IF($V37<>\"○\",$AR$1,IF($W37<>\"○\",$AS$1,IF($X37<>\"○\",$X37,IF($Y37<>\"○\",$AU$1,IF($AN37<>\"○\",$BJ$1,\"\")))))))","v":""},{"$f":"IF(LEN($E37)=0,\"\",IF($U37<>\"○\",$AQ$1,IF($V37<>\"○\",$AR$1,IF($W37<>\"○\",$AS$1,IF($X37<>\"○\",$X37,IF($Y37<>\"○\",$AU$1,IF($AN37<>\"○\",$BJ$1,\"\")))))))","v":""},null,{"$f":"IF(LEN($M36)=LEN(SUBSTITUTE(ASC($M36),\" \",\"\")),\"○\",\"×\")","v":"○"},{"$f":"IF(LEN($M36)=LENB($M36),\"○\",\"×\")","v":"○"},{"$f":"IF(ISNUMBER(VALUE($M36)),\"○\",\"×\")","v":"○"},{"$f":"IF(LEN($M36)=12,\"○\",IF(12-LEN($M36)>0,12-LEN($M36)&\"桁不足しています。調整してください。\",ABS(12-LEN($M36))&\"桁超過しています。調整してください。\"))","v":"12桁不足しています。調整してください。"},{"$f":"IF(COUNTIF($M$9:$M$100,$M36)=1,\"○\",\"×\")","v":"×"},null,{"$f":"MID($M36,12-($AE$9),1)*$BA$9","v":{"$error":"#VALUE!"}},{"$f":"MID($M36,12-($AF$9),1)*$BB$9","v":{"$error":"#VALUE!"}},{"$f":"MID($M36,12-($AG$9),1)*$BC$9","v":{"$error":"#VALUE!"}},{"$f":"MID($M36,12-($AH$9),1)*$BD$9","v":{"$error":"#VALUE!"}},{"$f":"MID($M36,12-($AI$9),1)*$BE$9","v":{"$error":"#VALUE!"}},{"$f":"MID($M36,12-($AJ$9),1)*$BF$9","v":{"$error":"#VALUE!"}},{"$f":"MID($M36,12-($AK$9),1)*$BG$9","v":{"$error":"#VALUE!"}},{"$f":"MID($M36,12-($AL$9),1)*$BH$9","v":{"$error":"#VALUE!"}},{"$f":"MID($M36,12-($AM$9),1)*$BI$9","v":{"$error":"#VALUE!"}},{"$f":"MID($M36,12-($AN$9),1)*$BJ$9","v":{"$error":"#VALUE!"}},{"$f":"MID($M36,12-($AO$9),1)*$BK$9","v":{"$error":"#VALUE!"}},{"$f":"MOD(SUM($AE37:$AO37),11)","v":{"$error":"#VALUE!"}},{"$f":"IF($AP37<=1,0,11-$AP37)","v":{"$error":"#VALUE!"}},{"$f":"IF(VALUE(RIGHT($M36,1))=$AQ37,\"○\",\"×\")","v":{"$error":"#VALUE!"}},{"$f":"IF(AND($Y37=\"○\",$Z37=\"○\",$AA37=\"○\",$AB37=\"○\",$AC37=\"○\",$AR37=\"○\"),\"○\",\"×\")","v":{"$error":"#VALUE!"}}]
[null,"（氏）",null,null,null,null,"（名）",null,null,null,null,"生年月日",{"$f":"IF(N39=\"\",\"\",\"（西暦　　\"&N39+$AC$7&\"　年）\")","v":""}]
[null,null,null,null,null,null,null,null,null,null,null,null,"平成",null,"年",null,"月",null,"日",null,null,null,null,null,{"$f":"IF(N39=\"\",\"\",N39+$AC$7)","v":""},{"$f":"IF(P39=\"\",\"\",TEXT(P39,\"dd\"))","v":""},{"$f":"IF(R39=\"\",\"\",TEXT(R39,\"dd\"))","v":""}]
[null,null,null,null,null,null,null,null,null,null,null,null,null,null,null,null,null,null,null,null,null,null,null,null,{"$f":"CONCATENATE(Y39,Z39,AA39)","v":""}]
["性別",null,null,null,"続柄",null,null,null,null,null,null,"収入の有無"]
["同居・別居",null,null,null,null,null,null,null,null,null,null,"備考",null,null,null,null,null,null,null,null,null,null,null,null,{"$f":"IF(N42=\"\",\"\",N42+$Z$8)","v":""},{"$f":"IF(P42=\"\",\"\",TEXT(P42,\"dd\"))","v":""},{"$f":"IF(R42=\"\",\"\",TEXT(R42,\"dd\"))","v":""}]
[null,null,null,null,null,null,null,null,null,null,null,null,null,null,null,null,null,null,null,null,null,null,null,null,{"$f":"CONCATENATE(Y42,Z42,AA42)","v":""}]
["※基礎年金番号\n（配偶者の場合）","（4桁）",null,null,null,null,"（6桁）"]
[null,null,null,null,null,"-"]
[]
["扶養家族氏名","フリガナ",null,null,null,null,null,null,null,null,null,"個人番号\n(マイナンバー)",null,null,null,null,null,null,null,"マイナンバーチェック結果"]
[null,null,null,null,null,null,null,null,null,null,null,null,null,null,null,null,null,null,null,{"$f":"IF(LEN($M47)=0,\"\",IF(ISERR($AS48),\"×\",$AS48))","v":""},{"$f":"IF(LEN($M47)=0,\"\",IF($Y48<>\"○\",$AU$9,IF($Z48<>\"○\",$AV$9,IF($AA48<>\"○\",$AW$9,IF($AB48<>\"○\",$AB48,IF($AC48<>\"○\",$AY$9,IF($AR48<>\"○\",$BN$9,\"\")))))))","v":""},{"$f":"IF(LEN($E48)=0,\"\",IF($U48<>\"○\",$AQ$1,IF($V48<>\"○\",$AR$1,IF($W48<>\"○\",$AS$1,IF($X48<>\"○\",$X48,IF($Y48<>\"○\",$AU$1,IF($AN48<>\"○\",$BJ$1,\"\")))))))","v":""},{"$f":"IF(LEN($E48)=0,\"\",IF($U48<>\"○\",$AQ$1,IF($V48<>\"○\",$AR$1,IF($W48<>\"○\",$AS$1,IF($X48<>\"○\",$X48,IF($Y48<>\"○\",$AU$1,IF($AN48<>\"○\",$BJ$1,\"\")))))))","v":""},null,{"$f":"IF(LEN($M47)=LEN(SUBSTITUTE(ASC($M47),\" \",\"\")),\"○\",\"×\")","v":"○"},{"$f":"IF(LEN($M47)=LENB($M47),\"○\",\"×\")","v":"○"},{"$f":"IF(ISNUMBER(VALUE($M47)),\"○\",\"×\")","v":"○"},{"$f":"IF(LEN($M47)=12,\"○\",IF(12-LEN($M47)>0,12-LEN($M47)&\"桁不足しています。調整してください。\",ABS(12-LEN($M47))&\"桁超過しています。調整してください。\"))","v":"12桁不足しています。調整してください。"},{"$f":"IF(COUNTIF($M$9:$M$100,$M47)=1,\"○\",\"×\")","v":"×"},null,{"$f":"MID($M47,12-($AE$9),1)*$BA$9","v":{"$error":"#VALUE!"}},{"$f":"MID($M47,12-($AF$9),1)*$BB$9","v":{"$error":"#VALUE!"}},{"$f":"MID($M47,12-($AG$9),1)*$BC$9","v":{"$error":"#VALUE!"}},{"$f":"MID($M47,12-($AH$9),1)*$BD$9","v":{"$error":"#VALUE!"}},{"$f":"MID($M47,12-($AI$9),1)*$BE$9","v":{"$error":"#VALUE!"}},{"$f":"MID($M47,12-($AJ$9),1)*$BF$9","v":{"$error":"#VALUE!"}},{"$f":"MID($M47,12-($AK$9),1)*$BG$9","v":{"$error":"#VALUE!"}},{"$f":"MID($M47,12-($AL$9),1)*$BH$9","v":{"$error":"#VALUE!"}},{"$f":"MID($M47,12-($AM$9),1)*$BI$9","v":{"$error":"#VALUE!"}},{"$f":"MID($M47,12-($AN$9),1)*$BJ$9","v":{"$error":"#VALUE!"}},{"$f":"MID($M47,12-($AO$9),1)*$BK$9","v":{"$error":"#VALUE!"}},{"$f":"MOD(SUM($AE48:$AO48),11)","v":{"$error":"#VALUE!"}},{"$f":"IF($AP48<=1,0,11-$AP48)","v":{"$error":"#VALUE!"}},{"$f":"IF(VALUE(RIGHT($M47,1))=$AQ48,\"○\",\"×\")","v":{"$error":"#VALUE!"}},{"$f":"IF(AND($Y48=\"○\",$Z48=\"○\",$AA48=\"○\",$AB48=\"○\",$AC48=\"○\",$AR48=\"○\"),\"○\",\"×\")","v":{"$error":"#VALUE!"}}]
[null,"（氏）",null,null,null,null,"（名）",null,null,null,null,"生年月日",{"$f":"IF(N50=\"\",\"\",\"（西暦　　\"&N50+$AD$7&\"　年）\")","v":""}]
[null,null,null,null,null,null,null,null,null,null,null,null,"平成",null,"年",null,"月",null,"日",null,null,null,null,null,{"$f":"IF(N50=\"\",\"\",N50+$AD$7)","v":""},{"$f":"IF(P50=\"\",\"\",TEXT(P50,\"dd\"))","v":""},{"$f":"IF(R50=\"\",\"\",TEXT(R50,\"dd\"))","v":""}]
[null,null,null,null,null,null,null,null,null,null,null,null,null,null,null,null,null,null,null,null,null,null,null,null,{"$f":"CONCATENATE(Y50,Z50,AA50)","v":""}]
["性別",null,null,null,"続柄",null,null,null,null,null,null,"収入の有無"]
["同居・別居",null,null,null,null,null,null,null,null,null,null,"備考",null,null,null,null,null,null,null,null,null,null,null,null,{"$f":"IF(N53=\"\",\"\",N53+$Z$8)","v":""},{"$f":"IF(P53=\"\",\"\",TEXT(P53,\"dd\"))","v":""},{"$f":"IF(R53=\"\",\"\",TEXT(R53,\"dd\"))","v":""}]
[null,null,null,null,null,null,null,null,null,null,null,null,null,null,null,null,null,null,null,null,null,null,null,null,{"$f":"CONCATENATE(Y53,Z53,AA53)","v":""}]
["※基礎年金番号\n（配偶者の場合）","（4桁）",null,null,null,null,"（6桁）"]
[null,null,null,null,null,"-"]
[]
["扶養家族氏名","フリガナ",null,null,null,null,null,null,null,null,null,"個人番号\n(マイナンバー)",null,null,null,null,null,null,null,"マイナンバーチェック結果"]
[null,null,null,null,null,null,null,null,null,null,null,null,null,null,null,null,null,null,null,{"$f":"IF(LEN($M58)=0,\"\",IF(ISERR($AS59),\"×\",$AS59))","v":""},{"$f":"IF(LEN($M58)=0,\"\",IF($Y59<>\"○\",$AU$9,IF($Z59<>\"○\",$AV$9,IF($AA59<>\"○\",$AW$9,IF($AB59<>\"○\",$AB59,IF($AC59<>\"○\",$AY$9,IF($AR59<>\"○\",$BN$9,\"\")))))))","v":""},{"$f":"IF(LEN($E59)=0,\"\",IF($U59<>\"○\",$AQ$1,IF($V59<>\"○\",$AR$1,IF($W59<>\"○\",$AS$1,IF($X59<>\"○\",$X59,IF($Y59<>\"○\",$AU$1,IF($AN59<>\"○\",$BJ$1,\"\")))))))","v":""},{"$f":"IF(LEN($E59)=0,\"\",IF($U59<>\"○\",$AQ$1,IF($V59<>\"○\",$AR$1,IF($W59<>\"○\",$AS$1,IF($X59<>\"○\",$X59,IF($Y59<>\"○\",$AU$1,IF($AN59<>\"○\",$BJ$1,\"\")))))))","v":""},null,{"$f":"IF(LEN($M58)=LEN(SUBSTITUTE(ASC($M58),\" \",\"\")),\"○\",\"×\")","v":"○"},{"$f":"IF(LEN($M58)=LENB($M58),\"○\",\"×\")","v":"○"},{"$f":"IF(ISNUMBER(VALUE($M58)),\"○\",\"×\")","v":"○"},{"$f":"IF(LEN($M58)=12,\"○\",IF(12-LEN($M58)>0,12-LEN($M58)&\"桁不足しています。調整してください。\",ABS(12-LEN($M58))&\"桁超過しています。調整してください。\"))","v":"12桁不足しています。調整してください。"},{"$f":"IF(COUNTIF($M$9:$M$100,$M58)=1,\"○\",\"×\")","v":"×"},null,{"$f":"MID($M58,12-($AE$9),1)*$BA$9","v":{"$error":"#VALUE!"}},{"$f":"MID($M58,12-($AF$9),1)*$BB$9","v":{"$error":"#VALUE!"}},{"$f":"MID($M58,12-($AG$9),1)*$BC$9","v":{"$error":"#VALUE!"}},{"$f":"MID($M58,12-($AH$9),1)*$BD$9","v":{"$error":"#VALUE!"}},{"$f":"MID($M58,12-($AI$9),1)*$BE$9","v":{"$error":"#VALUE!"}},{"$f":"MID($M58,12-($AJ$9),1)*$BF$9","v":{"$error":"#VALUE!"}},{"$f":"MID($M58,12-($AK$9),1)*$BG$9","v":{"$error":"#VALUE!"}},{"$f":"MID($M58,12-($AL$9),1)*$BH$9","v":{"$error":"#VALUE!"}},{"$f":"MID($M58,12-($AM$9),1)*$BI$9","v":{"$error":"#VALUE!"}},{"$f":"MID($M58,12-($AN$9),1)*$BJ$9","v":{"$error":"#VALUE!"}},{"$f":"MID($M58,12-($AO$9),1)*$BK$9","v":{"$error":"#VALUE!"}},{"$f":"MOD(SUM($AE59:$AO59),11)","v":{"$error":"#VALUE!"}},{"$f":"IF($AP59<=1,0,11-$AP59)","v":{"$error":"#VALUE!"}},{"$f":"IF(VALUE(RIGHT($M58,1))=$AQ59,\"○\",\"×\")","v":{"$error":"#VALUE!"}},{"$f":"IF(AND($Y59=\"○\",$Z59=\"○\",$AA59=\"○\",$AB59=\"○\",$AC59=\"○\",$AR59=\"○\"),\"○\",\"×\")","v":{"$error":"#VALUE!"}}]
[null,"（氏）",null,null,null,null,"（名）",null,null,null,null,"生年月日",{"$f":"IF(N61=\"\",\"\",\"（西暦　　\"&N61+$AE$7&\"　年）\")","v":""}]
[null,null,null,null,null,null,null,null,null,null,null,null,"昭和",null,"年",null,"月",null,"日",null,null,null,null,null,{"$f":"IF(N61=\"\",\"\",N61+$AE$7)","v":""},{"$f":"IF(P61=\"\",\"\",TEXT(P61,\"dd\"))","v":""},{"$f":"IF(R61=\"\",\"\",TEXT(R61,\"dd\"))","v":""}]
[null,null,null,null,null,null,null,null,null,null,null,null,null,null,null,null,null,null,null,null,null,null,null,null,{"$f":"CONCATENATE(Y61,Z61,AA61)","v":""}]
["性別",null,null,null,"続柄",null,null,null,null,null,null,"収入の有無"]
["同居・別居",null,null,null,null,null,null,null,null,null,null,"備考",null,null,null,null,null,null,null,null,null,null,null,null,{"$f":"IF(N64=\"\",\"\",N64+$Z$8)","v":""},{"$f":"IF(P64=\"\",\"\",TEXT(P64,\"dd\"))","v":""},{"$f":"IF(R64=\"\",\"\",TEXT(R64,\"dd\"))","v":""}]
[null,null,null,null,null,null,null,null,null,null,null,null,null,null,null,null,null,null,null,null,null,null,null,null,{"$f":"CONCATENATE(Y64,Z64,AA64)","v":""}]
["※基礎年金番号\n（配偶者の場合）","（4桁）",null,null,null,null,"（6桁）"]
[null,null,null,null,null,"-"]

{"sheet":"取得手続連絡 (6)","index":9,"n_rows":67,"n_cols":66,"rows_kept":67,"cut":false,"hidden":false,"merged":[[0,0,0,18],[2,0,2,18],[4,2,5,4],[4,5,5,14],[7,12,7,18],[8,0,12,0],[8,1,8,5],[8,6,8,10],[8,11,9,11],[8,12,9,18],[8,19,8,22],[9,1,9,5],[9,6,9,10],[9,20,9,22],[10,1,10,5],[10,6,10,10],[10,11,12,11],[10,12,10,14],[11,1,12,5],[11,6,12,10],[11,18,12,18],[13,1,13,2],[13,4,13,5],[13,6,13,8],[13,9,13,10],[13,14,13,15],[13,17,13,18],[11,12,12,12],[11,13,12,13],[11,14,12,14],[11,15,12,15],[11,16,12,16],[11,17,12,17],[14,16,15,16],[14,17,15,17],[14,18,15,18],[15,1,15,10],[16,1,16,10],[16,11,17,11],[16,12,17,16],[16,17,17,18],[17,1,17,10],[14,1,14,10],[14,11,15,11],[14,12,15,12],[14,13,15,13],[14,14,15,14],[14,15,15,15],[20,0,21,0],[20,1,20,3],[20,5,20,8],[20,11,21,11],[20,12,21,18],[21,1,21,3],[21,5,21,8],[18,0,19,0],[18,1,18,4],[18,6,18,10],[18,11,19,11],[18,12,19,18],[19,1,19,4],[19,6,19,10],[24,0,28,0],[24,1,24,5],[24,6,24,10],[24,11,25,11],[24,12,25,18],[24,19,24,22],[25,1,25,5],[25,6,25,10],[25,20,25,22],[26,1,26,5],[27,15,28,15],[27,16,28,16],[27,17,28,17],[27,18,28,18],[29,1,29,3],[29,4,29,5],[29,6,29,10],[29,12,29,18],[26,6,26,10],[26,11,28,11],[26,12,26,14],[27,1,28,5],[27,6,28,10],[27,12,28,12],[27,13,28,13],[27,14,28,14],[32,0,33,0],[32,1,32,4],[32,6,32,10],[33,1,33,4],[30,0,31,0],[30,1,31,10],[33,6,33,10],[30,11,33,11],[30,12,33,18],[35,0,39,0],[35,1,35,5],[35,6,35,10],[35,11,36,11],[35,12,36,18],[38,12,39,12],[38,13,39,13],[38,14,39,14],[38,15,39,15],[38,16,39,16],[38,17,39,17],[38,18,39,18],[40,1,40,3],[40,4,40,5],[40,6,40,10],[40,12,40,18],[35,19,35,22],[36,1,36,5],[36,6,36,10],[36,20,36,22],[37,1,37,5],[37,6,37,10],[37,11,39,11],[37,12,37,14],[38,1,39,5],[38,6,39,10],[43,0,44,0],[43,1,43,4],[43,6,43,10],[44,1,44,4],[41,0,42,0],[41,1,42,10],[44,6,44,10],[41,11,44,11],[41,12,44,18],[46,0,50,0],[46,1,46,5],[46,6,46,10],[46,11,47,11],[46,12,47,18],[49,12,50,12],[49,13,50,13],[49,14,50,14],[49,15,50,15],[49,16,50,16],[49,17,50,17],[49,18,50,18],[51,1,51,3],[51,4,51,5],[51,6,51,10],[51,12,51,18],[46,19,46,22],[47,1,47,5],[47,6,47,10],[47,20,47,22],[48,1,48,5],[48,6,48,10],[48,11,50,11],[48,12,48,14],[49,1,50,5],[49,6,50,10],[54,0,55,0],[54,1,54,4],[54,6,54,10],[55,1,55,4],[52,0,53,0],[52,1,53,10],[55,6,55,10],[52,11,55,11],[52,12,55,18],[57,0,61,0],[57,1,57,5],[57,6,57,10],[57,11,58,11],[57,12,58,18],[60,12,61,12],[60,13,61,13],[60,14,61,14],[60,15,61,15],[60,16,61,16],[60,17,61,17],[60,18,61,18],[62,1,62,3],[62,4,62,5],[62,6,62,10],[62,12,62,18],[57,19,57,22],[58,1,58,5],[58,6,58,10],[58,20,58,22],[59,1,59,5],[59,6,59,10],[59,11,61,11],[59,12,59,14],[60,1,61,5],[60,6,61,10],[66,6,66,10],[65,0,66,0],[65,1,65,4],[65,6,65,10],[66,1,66,4],[63,0,64,0],[63,1,64,10],[63,11,66,11],[63,12,66,18]]}
["【資格取得手続きに必要な事項】",null,null,null,null,null,null,null,null,null,null,null,null,null,null,null,null,null,null,null,null,null,null,null,null,"有り","同居"]
["★入社する方がいる時は、下記事項をご記入の上、ご連絡下さい。",null,null,null,null,null,null,null,null,null,null,null,null,null,null,null,null,null,null,null,null,null,null,null,null,"無し","別居"]
["※基礎年金番号をもっていない方・確認できない方\n⇒現在の住所と住民票上の住所が違う場合、必ず住民票上の住所を備考欄に記載してください。",null,null,null,null,null,null,null,null,null,null,null,null,null,null,null,null,null,null,null,null,null,null,null,null,"男"]
[null,null,null,null,null,null,null,null,null,null,null,null,null,null,null,null,null,null,null,null,null,null,null,null,null,"女"]
[null,null,"会社名",null,null,{"$f":"IF(取得手続連絡!$F$5=\"\",\"\",取得手続連絡!$F$5)","v":""}]
[null,null,null,null,null,null,null,null,null,null,null,null,null,null,null,null,null,null,null,null,null,null,null,null,null,null,"本人","扶養１","扶養２","扶養３","扶養４"]
[null,null,null,null,null,null,null,null,null,null,null,null,null,null,null,null,null,null,null,null,null,null,null,null,"昭和",1925,{"$f":"VLOOKUP(M12,$Y$7:$Z$8,2,FALSE)","v":1988},{"$f":"VLOOKUP(M28,$Y$7:$Z$8,2,FALSE)","v":1988},{"$f":"VLOOKUP(M39,$Y$7:$Z$8,2,FALSE)","v":1988},{"$f":"VLOOKUP(M50,$Y$7:$Z$8,2,FALSE)","v":1988},{"$f":"VLOOKUP(M61,$Y$7:$Z$8,2,FALSE)","v":1925}]
[null,null,null,null,null,null,null,null,null,null,null,null,"依頼日：平成○○年○○月○○日",null,null,null,null,null,null,null,null,null,null,null,"平成",1988]
["取得者氏名","ﾌﾘｶﾞﾅ",null,null,null,null,null,null,null,null,null,"個人番号\n(マイナンバー)",null,null,null,null,null,null,null,"マイナンバーチェック結果",null,null,null,null,"①空白チェック","②全角半角チェック","③数値チェック","④桁数チェック","⑤重複チェック","n⇒",1,2,3,4,5,6,7,8,9,10,11,"11で割った余り","11-[AB列の値]","⑥チェックデジット","マイナンバーチェック",null,"空白文字が入っています。削除してください。","半角数字で入力してください。","半角数字で入力してください。",null,"重複があります。ご確認ください。","Q_n⇒",2,3,4,5,6,7,2,3,4,5,6,null,null,"入力ミスがあります。通知カードと見比べてください。"]
[null,null,null,null,null,null,null,null,null,null,null,null,null,null,null,null,null,null,null,{"$f":"IF(LEN($M9)=0,\"\",IF(ISERR($AS10),\"×\",$AS10))","v":""},{"$f":"IF(LEN($M9)=0,\"\",IF($Y10<>\"○\",$AU$9,IF($Z10<>\"○\",$AV$9,IF($AA10<>\"○\",$AW$9,IF($AB10<>\"○\",$AB10,IF($AC10<>\"○\",$AY$9,IF($AR10<>\"○\",$BN$9,\"\")))))))","v":""},{"$f":"IF(LEN($E10)=0,\"\",IF($U10<>\"○\",$AQ$1,IF($V10<>\"○\",$AR$1,IF($W10<>\"○\",$AS$1,IF($X10<>\"○\",$X10,IF($Y10<>\"○\",$AU$1,IF($AN10<>\"○\",$BJ$1,\"\")))))))","v":""},{"$f":"IF(LEN($E10)=0,\"\",IF($U10<>\"○\",$AQ$1,IF($V10<>\"○\",$AR$1,IF($W10<>\"○\",$AS$1,IF($X10<>\"○\",$X10,IF($Y10<>\"○\",$AU$1,IF($AN10<>\"○\",$BJ$1,\"\")))))))","v":""},null,{"$f":"IF(LEN($M9)=LEN(SUBSTITUTE(ASC($M9),\" \",\"\")),\"○\",\"×\")","v":"○"},{"$f":"IF(LEN($M9)=LENB($M9),\"○\",\"×\")","v":"○"},{"$f":"IF(ISNUMBER(VALUE($M9)),\"○\",\"×\")","v":"○"},{"$f":"IF(LEN($M9)=12,\"○\",IF(12-LEN($M9)>0,12-LEN($M9)&\"桁不足しています。調整してください。\",ABS(12-LEN($M9))&\"桁超過しています。調整してください。\"))","v":"12桁不足しています。調整してください。"},{"$f":"IF(COUNTIF($M$9:$M$100,$M9)=1,\"○\",\"×\")","v":"×"},null,{"$f":"MID($M9,12-($AE$9),1)*$BA$9","v":{"$error":"#VALUE!"}},{"$f":"MID($M9,12-($AF$9),1)*$BB$9","v":{"$error":"#VALUE!"}},{"$f":"MID($M9,12-($AG$9),1)*$BC$9","v":{"$error":"#VALUE!"}},{"$f":"MID($M9,12-($AH$9),1)*$BD$9","v":{"$error":"#VALUE!"}},{"$f":"MID($M9,12-($AI$9),1)*$BE$9","v":{"$error":"#VALUE!"}},{"$f":"MID($M9,12-($AJ$9),1)*$BF$9","v":{"$error":"#VALUE!"}},{"$f":"MID($M9,12-($AK$9),1)*$BG$9","v":{"$error":"#VALUE!"}},{"$f":"MID($M9,12-($AL$9),1)*$BH$9","v":{"$error":"#VALUE!"}},{"$f":"MID($M9,12-($AM$9),1)*$BI$9","v":{"$error":"#VALUE!"}},{"$f":"MID($M9,12-($AN$9),1)*$BJ$9","v":{"$error":"#VALUE!"}},{"$f":"MID($M9,12-($AO$9),1)*$BK$9","v":{"$error":"#VALUE!"}},{"$f":"MOD(SUM($AE10:$AO10),11)","v":{"$error":"#VALUE!"}},{"$f":"IF($AP10<=1,0,11-$AP10)","v":{"$error":"#VALUE!"}},{"$f":"IF(VALUE(RIGHT($M9,1))=$AQ10,\"○\",\"×\")","v":{"$error":"#VALUE!"}},{"$f":"IF(AND($Y10=\"○\",$Z10=\"○\",$AA10=\"○\",$AB10=\"○\",$AC10=\"○\",$AR10=\"○\"),\"○\",\"×\")","v":{"$error":"#VALUE!"}}]
[null,"（氏）",null,null,null,null,"（名）",null,null,null,null,"生年月日",{"$f":"IF(N12=\"\",\"\",\"（西暦　　\"&$N$12+$AA$7&\"　年）\")","v":""}]
[null,null,null,null,null,null,null,null,null,null,null,null,"平成",null,"年",null,"月",null,"日",null,null,null,null,null,{"$f":"IF(N12=\"\",\"\",N12+$AA$7)","v":""},{"$f":"IF(P12=\"\",\"\",TEXT(P12,\"dd\"))","v":""},{"$f":"IF(R12=\"\",\"\",TEXT(R12,\"dd\"))","v":""}]
[null,null,null,null,null,null,null,null,null,null,null,null,null,null,null,null,null,null,null,null,null,null,null,null,{"$f":"CONCATENATE(Y12,Z12,AA12)","v":""}]
["郵便番号",null,null,"-",null,null,"性別",null,null,null,null,"電話番号",null,"-",null,null,"-",null,null,"※電話番号は空欄でも可能です"]
["ﾌﾘｶﾞﾅ",null,null,null,null,null,null,null,null,null,null,"加入年月日\n(入社年月日)","平成",null,"年",null,"月",null,"日",null,null,null,null,null,{"$f":"IF(N15=\"\",\"\",N15+$Z$8)","v":""},{"$f":"IF(P15=\"\",\"\",TEXT(P15,\"dd\"))","v":""},{"$f":"IF(R15=\"\",\"\",TEXT(R15,\"dd\"))","v":""}]
["住所１\n(都道府県名から)",null,null,null,null,null,null,null,null,null,null,null,null,null,null,null,null,null,null,null,null,null,null,null,{"$f":"CONCATENATE(Y15,Z15,AA15)","v":""}]
["ﾌﾘｶﾞﾅ",null,null,null,null,null,null,null,null,null,null,"給料\n（交通費、残業代含む）",null,null,null,null,null,"円"]
["住所２\n(アパート名等)"]
["基礎年金番号","（4桁）",null,null,null,null,"（6桁）",null,null,null,null,"扶養家族の有無"]
[null,null,null,null,null,"-"]
["雇用保険番号\n（分からない場合、履歴書添付）","（4桁）",null,null,null,"（6桁）",null,null,null,null,"（1桁）","備考"]
[null,null,null,null,"-",null,null,null,null,"-"]
[]
["★扶養家族がいるときは、ご記入下さい。"]
["扶養家族氏名","フリガナ",null,null,null,null,null,null,null,null,null,"個人番号\n(マイナンバー)",null,null,null,null,null,null,null,"マイナンバーチェック結果"]
[null,null,null,null,null,null,null,null,null,null,null,null,null,null,null,null,null,null,null,{"$f":"IF(LEN($M25)=0,\"\",IF(ISERR($AS26),\"×\",$AS26))","v":""},{"$f":"IF(LEN($M25)=0,\"\",IF($Y26<>\"○\",$AU$9,IF($Z26<>\"○\",$AV$9,IF($AA26<>\"○\",$AW$9,IF($AB26<>\"○\",$AB26,IF($AC26<>\"○\",$AY$9,IF($AR26<>\"○\",$BN$9,\"\")))))))","v":""},{"$f":"IF(LEN($E26)=0,\"\",IF($U26<>\"○\",$AQ$1,IF($V26<>\"○\",$AR$1,IF($W26<>\"○\",$AS$1,IF($X26<>\"○\",$X26,IF($Y26<>\"○\",$AU$1,IF($AN26<>\"○\",$BJ$1,\"\")))))))","v":""},{"$f":"IF(LEN($E26)=0,\"\",IF($U26<>\"○\",$AQ$1,IF($V26<>\"○\",$AR$1,IF($W26<>\"○\",$AS$1,IF($X26<>\"○\",$X26,IF($Y26<>\"○\",$AU$1,IF($AN26<>\"○\",$BJ$1,\"\")))))))","v":""},null,{"$f":"IF(LEN($M25)=LEN(SUBSTITUTE(ASC($M25),\" \",\"\")),\"○\",\"×\")","v":"○"},{"$f":"IF(LEN($M25)=LENB($M25),\"○\",\"×\")","v":"○"},{"$f":"IF(ISNUMBER(VALUE($M25)),\"○\",\"×\")","v":"○"},{"$f":"IF(LEN($M25)=12,\"○\",IF(12-LEN($M25)>0,12-LEN($M25)&\"桁不足しています。調整してください。\",ABS(12-LEN($M25))&\"桁超過しています。調整してください。\"))","v":"12桁不足しています。調整してください。"},{"$f":"IF(COUNTIF($M$9:$M$100,$M25)=1,\"○\",\"×\")","v":"×"},null,{"$f":"MID($M25,12-($AE$9),1)*$BA$9","v":{"$error":"#VALUE!"}},{"$f":"MID($M25,12-($AF$9),1)*$BB$9","v":{"$error":"#VALUE!"}},{"$f":"MID($M25,12-($AG$9),1)*$BC$9","v":{"$error":"#VALUE!"}},{"$f":"MID($M25,12-($AH$9),1)*$BD$9","v":{"$error":"#VALUE!"}},{"$f":"MID($M25,12-($AI$9),1)*$BE$9","v":{"$error":"#VALUE!"}},{"$f":"MID($M25,12-($AJ$9),1)*$BF$9","v":{"$error":"#VALUE!"}},{"$f":"MID($M25,12-($AK$9),1)*$BG$9","v":{"$error":"#VALUE!"}},{"$f":"MID($M25,12-($AL$9),1)*$BH$9","v":{"$error":"#VALUE!"}},{"$f":"MID($M25,12-($AM$9),1)*$BI$9","v":{"$error":"#VALUE!"}},{"$f":"MID($M25,12-($AN$9),1)*$BJ$9","v":{"$error":"#VALUE!"}},{"$f":"MID($M25,12-($AO$9),1)*$BK$9","v":{"$error":"#VALUE!"}},{"$f":"MOD(SUM($AE26:$AO26),11)","v":{"$error":"#VALUE!"}},{"$f":"IF($AP26<=1,0,11-$AP26)","v":{"$error":"#VALUE!"}},{"$f":"IF(VALUE(RIGHT($M25,1))=$AQ26,\"○\",\"×\")","v":{"$error":"#VALUE!"}},{"$f":"IF(AND($Y26=\"○\",$Z26=\"○\",$AA26=\"○\",$AB26=\"○\",$AC26=\"○\",$AR26=\"○\"),\"○\",\"×\")","v":{"$error":"#VALUE!"}}]
[null,"（氏）",null,null,null,null,"（名）",null,null,null,null,"生年月日",{"$f":"IF(N28=\"\",\"\",\"（西暦　　\"&N28+$AB$7&\"　年）\")","v":""}]
[null,null,null,null,null,null,null,null,null,null,null,null,"平成",null,"年",null,"月",null,"日",null,null,null,null,null,{"$f":"IF(N28=\"\",\"\",N28+$AB$7)","v":""},{"$f":"IF(P28=\"\",\"\",TEXT(P28,\"dd\"))","v":""},{"$f":"IF(R28=\"\",\"\",TEXT(R28,\"dd\"))","v":""}]
[null,null,null,null,null,null,null,null,null,null,null,null,null,null,null,null,null,null,null,null,null,null,null,null,{"$f":"CONCATENATE(Y28,Z28,AA28)","v":""}]
["性別",null,null,null,"続柄",null,null,null,null,null,null,"収入の有無"]
["同居・別居",null,null,null,null,null,null,null,null,null,null,"備考",null,null,null,null,null,null,null,null,null,null,null,null,{"$f":"IF(N31=\"\",\"\",N31+$Z$8)","v":""},{"$f":"IF(P31=\"\",\"\",TEXT(P31,\"dd\"))","v":""},{"$f":"IF(R31=\"\",\"\",TEXT(R31,\"dd\"))","v":""}]
[null,null,null,null,null,null,null,null,null,null,null,null,null,null,null,null,null,null,null,null,null,null,null,null,{"$f":"CONCATENATE(Y31,Z31,AA31)","v":""}]
["※基礎年金番号\n（配偶者の場合）","（4桁）",null,null,null,null,"（6桁）"]
[null,null,null,null,null,"-"]
[]
["扶養家族氏名","フリガナ",null,null,null,null,null,null,null,null,null,"個人番号\n(マイナンバー)",null,null,null,null,null,null,null,"マイナンバーチェック結果"]
[null,null,null,null,null,null,null,null,null,null,null,null,null,null,null,null,null,null,null,{"$f":"IF(LEN($M36)=0,\"\",IF(ISERR($AS37),\"×\",$AS37))","v":""},{"$f":"IF(LEN($M36)=0,\"\",IF($Y37<>\"○\",$AU$9,IF($Z37<>\"○\",$AV$9,IF($AA37<>\"○\",$AW$9,IF($AB37<>\"○\",$AB37,IF($AC37<>\"○\",$AY$9,IF($AR37<>\"○\",$BN$9,\"\")))))))","v":""},{"$f":"IF(LEN($E37)=0,\"\",IF($U37<>\"○\",$AQ$1,IF($V37<>\"○\",$AR$1,IF($W37<>\"○\",$AS$1,IF($X37<>\"○\",$X37,IF($Y37<>\"○\",$AU$1,IF($AN37<>\"○\",$BJ$1,\"\")))))))","v":""},{"$f":"IF(LEN($E37)=0,\"\",IF($U37<>\"○\",$AQ$1,IF($V37<>\"○\",$AR$1,IF($W37<>\"○\",$AS$1,IF($X37<>\"○\",$X37,IF($Y37<>\"○\",$AU$1,IF($AN37<>\"○\",$BJ$1,\"\")))))))","v":""},null,{"$f":"IF(LEN($M36)=LEN(SUBSTITUTE(ASC($M36),\" \",\"\")),\"○\",\"×\")","v":"○"},{"$f":"IF(LEN($M36)=LENB($M36),\"○\",\"×\")","v":"○"},{"$f":"IF(ISNUMBER(VALUE($M36)),\"○\",\"×\")","v":"○"},{"$f":"IF(LEN($M36)=12,\"○\",IF(12-LEN($M36)>0,12-LEN($M36)&\"桁不足しています。調整してください。\",ABS(12-LEN($M36))&\"桁超過しています。調整してください。\"))","v":"12桁不足しています。調整してください。"},{"$f":"IF(COUNTIF($M$9:$M$100,$M36)=1,\"○\",\"×\")","v":"×"},null,{"$f":"MID($M36,12-($AE$9),1)*$BA$9","v":{"$error":"#VALUE!"}},{"$f":"MID($M36,12-($AF$9),1)*$BB$9","v":{"$error":"#VALUE!"}},{"$f":"MID($M36,12-($AG$9),1)*$BC$9","v":{"$error":"#VALUE!"}},{"$f":"MID($M36,12-($AH$9),1)*$BD$9","v":{"$error":"#VALUE!"}},{"$f":"MID($M36,12-($AI$9),1)*$BE$9","v":{"$error":"#VALUE!"}},{"$f":"MID($M36,12-($AJ$9),1)*$BF$9","v":{"$error":"#VALUE!"}},{"$f":"MID($M36,12-($AK$9),1)*$BG$9","v":{"$error":"#VALUE!"}},{"$f":"MID($M36,12-($AL$9),1)*$BH$9","v":{"$error":"#VALUE!"}},{"$f":"MID($M36,12-($AM$9),1)*$BI$9","v":{"$error":"#VALUE!"}},{"$f":"MID($M36,12-($AN$9),1)*$BJ$9","v":{"$error":"#VALUE!"}},{"$f":"MID($M36,12-($AO$9),1)*$BK$9","v":{"$error":"#VALUE!"}},{"$f":"MOD(SUM($AE37:$AO37),11)","v":{"$error":"#VALUE!"}},{"$f":"IF($AP37<=1,0,11-$AP37)","v":{"$error":"#VALUE!"}},{"$f":"IF(VALUE(RIGHT($M36,1))=$AQ37,\"○\",\"×\")","v":{"$error":"#VALUE!"}},{"$f":"IF(AND($Y37=\"○\",$Z37=\"○\",$AA37=\"○\",$AB37=\"○\",$AC37=\"○\",$AR37=\"○\"),\"○\",\"×\")","v":{"$error":"#VALUE!"}}]
[null,"（氏）",null,null,null,null,"（名）",null,null,null,null,"生年月日",{"$f":"IF(N39=\"\",\"\",\"（西暦　　\"&N39+$AC$7&\"　年）\")","v":""}]
[null,null,null,null,null,null,null,null,null,null,null,null,"平成",null,"年",null,"月",null,"日",null,null,null,null,null,{"$f":"IF(N39=\"\",\"\",N39+$AC$7)","v":""},{"$f":"IF(P39=\"\",\"\",TEXT(P39,\"dd\"))","v":""},{"$f":"IF(R39=\"\",\"\",TEXT(R39,\"dd\"))","v":""}]
[null,null,null,null,null,null,null,null,null,null,null,null,null,null,null,null,null,null,null,null,null,null,null,null,{"$f":"CONCATENATE(Y39,Z39,AA39)","v":""}]
["性別",null,null,null,"続柄",null,null,null,null,null,null,"収入の有無"]
["同居・別居",null,null,null,null,null,null,null,null,null,null,"備考",null,null,null,null,null,null,null,null,null,null,null,null,{"$f":"IF(N42=\"\",\"\",N42+$Z$8)","v":""},{"$f":"IF(P42=\"\",\"\",TEXT(P42,\"dd\"))","v":""},{"$f":"IF(R42=\"\",\"\",TEXT(R42,\"dd\"))","v":""}]
[null,null,null,null,null,null,null,null,null,null,null,null,null,null,null,null,null,null,null,null,null,null,null,null,{"$f":"CONCATENATE(Y42,Z42,AA42)","v":""}]
["※基礎年金番号\n（配偶者の場合）","（4桁）",null,null,null,null,"（6桁）"]
[null,null,null,null,null,"-"]
[]
["扶養家族氏名","フリガナ",null,null,null,null,null,null,null,null,null,"個人番号\n(マイナンバー)",null,null,null,null,null,null,null,"マイナンバーチェック結果"]
[null,null,null,null,null,null,null,null,null,null,null,null,null,null,null,null,null,null,null,{"$f":"IF(LEN($M47)=0,\"\",IF(ISERR($AS48),\"×\",$AS48))","v":""},{"$f":"IF(LEN($M47)=0,\"\",IF($Y48<>\"○\",$AU$9,IF($Z48<>\"○\",$AV$9,IF($AA48<>\"○\",$AW$9,IF($AB48<>\"○\",$AB48,IF($AC48<>\"○\",$AY$9,IF($AR48<>\"○\",$BN$9,\"\")))))))","v":""},{"$f":"IF(LEN($E48)=0,\"\",IF($U48<>\"○\",$AQ$1,IF($V48<>\"○\",$AR$1,IF($W48<>\"○\",$AS$1,IF($X48<>\"○\",$X48,IF($Y48<>\"○\",$AU$1,IF($AN48<>\"○\",$BJ$1,\"\")))))))","v":""},{"$f":"IF(LEN($E48)=0,\"\",IF($U48<>\"○\",$AQ$1,IF($V48<>\"○\",$AR$1,IF($W48<>\"○\",$AS$1,IF($X48<>\"○\",$X48,IF($Y48<>\"○\",$AU$1,IF($AN48<>\"○\",$BJ$1,\"\")))))))","v":""},null,{"$f":"IF(LEN($M47)=LEN(SUBSTITUTE(ASC($M47),\" \",\"\")),\"○\",\"×\")","v":"○"},{"$f":"IF(LEN($M47)=LENB($M47),\"○\",\"×\")","v":"○"},{"$f":"IF(ISNUMBER(VALUE($M47)),\"○\",\"×\")","v":"○"},{"$f":"IF(LEN($M47)=12,\"○\",IF(12-LEN($M47)>0,12-LEN($M47)&\"桁不足しています。調整してください。\",ABS(12-LEN($M47))&\"桁超過しています。調整してください。\"))","v":"12桁不足しています。調整してください。"},{"$f":"IF(COUNTIF($M$9:$M$100,$M47)=1,\"○\",\"×\")","v":"×"},null,{"$f":"MID($M47,12-($AE$9),1)*$BA$9","v":{"$error":"#VALUE!"}},{"$f":"MID($M47,12-($AF$9),1)*$BB$9","v":{"$error":"#VALUE!"}},{"$f":"MID($M47,12-($AG$9),1)*$BC$9","v":{"$error":"#VALUE!"}},{"$f":"MID($M47,12-($AH$9),1)*$BD$9","v":{"$error":"#VALUE!"}},{"$f":"MID($M47,12-($AI$9),1)*$BE$9","v":{"$error":"#VALUE!"}},{"$f":"MID($M47,12-($AJ$9),1)*$BF$9","v":{"$error":"#VALUE!"}},{"$f":"MID($M47,12-($AK$9),1)*$BG$9","v":{"$error":"#VALUE!"}},{"$f":"MID($M47,12-($AL$9),1)*$BH$9","v":{"$error":"#VALUE!"}},{"$f":"MID($M47,12-($AM$9),1)*$BI$9","v":{"$error":"#VALUE!"}},{"$f":"MID($M47,12-($AN$9),1)*$BJ$9","v":{"$error":"#VALUE!"}},{"$f":"MID($M47,12-($AO$9),1)*$BK$9","v":{"$error":"#VALUE!"}},{"$f":"MOD(SUM($AE48:$AO48),11)","v":{"$error":"#VALUE!"}},{"$f":"IF($AP48<=1,0,11-$AP48)","v":{"$error":"#VALUE!"}},{"$f":"IF(VALUE(RIGHT($M47,1))=$AQ48,\"○\",\"×\")","v":{"$error":"#VALUE!"}},{"$f":"IF(AND($Y48=\"○\",$Z48=\"○\",$AA48=\"○\",$AB48=\"○\",$AC48=\"○\",$AR48=\"○\"),\"○\",\"×\")","v":{"$error":"#VALUE!"}}]
[null,"（氏）",null,null,null,null,"（名）",null,null,null,null,"生年月日",{"$f":"IF(N50=\"\",\"\",\"（西暦　　\"&N50+$AD$7&\"　年）\")","v":""}]
[null,null,null,null,null,null,null,null,null,null,null,null,"平成",null,"年",null,"月",null,"日",null,null,null,null,null,{"$f":"IF(N50=\"\",\"\",N50+$AD$7)","v":""},{"$f":"IF(P50=\"\",\"\",TEXT(P50,\"dd\"))","v":""},{"$f":"IF(R50=\"\",\"\",TEXT(R50,\"dd\"))","v":""}]
[null,null,null,null,null,null,null,null,null,null,null,null,null,null,null,null,null,null,null,null,null,null,null,null,{"$f":"CONCATENATE(Y50,Z50,AA50)","v":""}]
["性別",null,null,null,"続柄",null,null,null,null,null,null,"収入の有無"]
["同居・別居",null,null,null,null,null,null,null,null,null,null,"備考",null,null,null,null,null,null,null,null,null,null,null,null,{"$f":"IF(N53=\"\",\"\",N53+$Z$8)","v":""},{"$f":"IF(P53=\"\",\"\",TEXT(P53,\"dd\"))","v":""},{"$f":"IF(R53=\"\",\"\",TEXT(R53,\"dd\"))","v":""}]
[null,null,null,null,null,null,null,null,null,null,null,null,null,null,null,null,null,null,null,null,null,null,null,null,{"$f":"CONCATENATE(Y53,Z53,AA53)","v":""}]
["※基礎年金番号\n（配偶者の場合）","（4桁）",null,null,null,null,"（6桁）"]
[null,null,null,null,null,"-"]
[]
["扶養家族氏名","フリガナ",null,null,null,null,null,null,null,null,null,"個人番号\n(マイナンバー)",null,null,null,null,null,null,null,"マイナンバーチェック結果"]
[null,null,null,null,null,null,null,null,null,null,null,null,null,null,null,null,null,null,null,{"$f":"IF(LEN($M58)=0,\"\",IF(ISERR($AS59),\"×\",$AS59))","v":""},{"$f":"IF(LEN($M58)=0,\"\",IF($Y59<>\"○\",$AU$9,IF($Z59<>\"○\",$AV$9,IF($AA59<>\"○\",$AW$9,IF($AB59<>\"○\",$AB59,IF($AC59<>\"○\",$AY$9,IF($AR59<>\"○\",$BN$9,\"\")))))))","v":""},{"$f":"IF(LEN($E59)=0,\"\",IF($U59<>\"○\",$AQ$1,IF($V59<>\"○\",$AR$1,IF($W59<>\"○\",$AS$1,IF($X59<>\"○\",$X59,IF($Y59<>\"○\",$AU$1,IF($AN59<>\"○\",$BJ$1,\"\")))))))","v":""},{"$f":"IF(LEN($E59)=0,\"\",IF($U59<>\"○\",$AQ$1,IF($V59<>\"○\",$AR$1,IF($W59<>\"○\",$AS$1,IF($X59<>\"○\",$X59,IF($Y59<>\"○\",$AU$1,IF($AN59<>\"○\",$BJ$1,\"\")))))))","v":""},null,{"$f":"IF(LEN($M58)=LEN(SUBSTITUTE(ASC($M58),\" \",\"\")),\"○\",\"×\")","v":"○"},{"$f":"IF(LEN($M58)=LENB($M58),\"○\",\"×\")","v":"○"},{"$f":"IF(ISNUMBER(VALUE($M58)),\"○\",\"×\")","v":"○"},{"$f":"IF(LEN($M58)=12,\"○\",IF(12-LEN($M58)>0,12-LEN($M58)&\"桁不足しています。調整してください。\",ABS(12-LEN($M58))&\"桁超過しています。調整してください。\"))","v":"12桁不足しています。調整してください。"},{"$f":"IF(COUNTIF($M$9:$M$100,$M58)=1,\"○\",\"×\")","v":"×"},null,{"$f":"MID($M58,12-($AE$9),1)*$BA$9","v":{"$error":"#VALUE!"}},{"$f":"MID($M58,12-($AF$9),1)*$BB$9","v":{"$error":"#VALUE!"}},{"$f":"MID($M58,12-($AG$9),1)*$BC$9","v":{"$error":"#VALUE!"}},{"$f":"MID($M58,12-($AH$9),1)*$BD$9","v":{"$error":"#VALUE!"}},{"$f":"MID($M58,12-($AI$9),1)*$BE$9","v":{"$error":"#VALUE!"}},{"$f":"MID($M58,12-($AJ$9),1)*$BF$9","v":{"$error":"#VALUE!"}},{"$f":"MID($M58,12-($AK$9),1)*$BG$9","v":{"$error":"#VALUE!"}},{"$f":"MID($M58,12-($AL$9),1)*$BH$9","v":{"$error":"#VALUE!"}},{"$f":"MID($M58,12-($AM$9),1)*$BI$9","v":{"$error":"#VALUE!"}},{"$f":"MID($M58,12-($AN$9),1)*$BJ$9","v":{"$error":"#VALUE!"}},{"$f":"MID($M58,12-($AO$9),1)*$BK$9","v":{"$error":"#VALUE!"}},{"$f":"MOD(SUM($AE59:$AO59),11)","v":{"$error":"#VALUE!"}},{"$f":"IF($AP59<=1,0,11-$AP59)","v":{"$error":"#VALUE!"}},{"$f":"IF(VALUE(RIGHT($M58,1))=$AQ59,\"○\",\"×\")","v":{"$error":"#VALUE!"}},{"$f":"IF(AND($Y59=\"○\",$Z59=\"○\",$AA59=\"○\",$AB59=\"○\",$AC59=\"○\",$AR59=\"○\"),\"○\",\"×\")","v":{"$error":"#VALUE!"}}]
[null,"（氏）",null,null,null,null,"（名）",null,null,null,null,"生年月日",{"$f":"IF(N61=\"\",\"\",\"（西暦　　\"&N61+$AE$7&\"　年）\")","v":""}]
[null,null,null,null,null,null,null,null,null,null,null,null,"昭和",null,"年",null,"月",null,"日",null,null,null,null,null,{"$f":"IF(N61=\"\",\"\",N61+$AE$7)","v":""},{"$f":"IF(P61=\"\",\"\",TEXT(P61,\"dd\"))","v":""},{"$f":"IF(R61=\"\",\"\",TEXT(R61,\"dd\"))","v":""}]
[null,null,null,null,null,null,null,null,null,null,null,null,null,null,null,null,null,null,null,null,null,null,null,null,{"$f":"CONCATENATE(Y61,Z61,AA61)","v":""}]
["性別",null,null,null,"続柄",null,null,null,null,null,null,"収入の有無"]
["同居・別居",null,null,null,null,null,null,null,null,null,null,"備考",null,null,null,null,null,null,null,null,null,null,null,null,{"$f":"IF(N64=\"\",\"\",N64+$Z$8)","v":""},{"$f":"IF(P64=\"\",\"\",TEXT(P64,\"dd\"))","v":""},{"$f":"IF(R64=\"\",\"\",TEXT(R64,\"dd\"))","v":""}]
[null,null,null,null,null,null,null,null,null,null,null,null,null,null,null,null,null,null,null,null,null,null,null,null,{"$f":"CONCATENATE(Y64,Z64,AA64)","v":""}]
["※基礎年金番号\n（配偶者の場合）","（4桁）",null,null,null,null,"（6桁）"]
[null,null,null,null,null,"-"]

{"sheet":"取得手続連絡 (7)","index":10,"n_rows":67,"n_cols":66,"rows_kept":67,"cut":false,"hidden":false,"merged":[[0,0,0,18],[2,0,2,18],[4,2,5,4],[4,5,5,14],[7,12,7,18],[8,0,12,0],[8,1,8,5],[8,6,8,10],[8,11,9,11],[8,12,9,18],[8,19,8,22],[9,1,9,5],[9,6,9,10],[9,20,9,22],[10,1,10,5],[10,6,10,10],[10,11,12,11],[10,12,10,14],[11,1,12,5],[11,6,12,10],[11,18,12,18],[13,1,13,2],[13,4,13,5],[13,6,13,8],[13,9,13,10],[13,14,13,15],[13,17,13,18],[11,12,12,12],[11,13,12,13],[11,14,12,14],[11,15,12,15],[11,16,12,16],[11,17,12,17],[14,16,15,16],[14,17,15,17],[14,18,15,18],[15,1,15,10],[16,1,16,10],[16,11,17,11],[16,12,17,16],[16,17,17,18],[17,1,17,10],[14,1,14,10],[14,11,15,11],[14,12,15,12],[14,13,15,13],[14,14,15,14],[14,15,15,15],[20,0,21,0],[20,1,20,3],[20,5,20,8],[20,11,21,11],[20,12,21,18],[21,1,21,3],[21,5,21,8],[18,0,19,0],[18,1,18,4],[18,6,18,10],[18,11,19,11],[18,12,19,18],[19,1,19,4],[19,6,19,10],[24,0,28,0],[24,1,24,5],[24,6,24,10],[24,11,25,11],[24,12,25,18],[24,19,24,22],[25,1,25,5],[25,6,25,10],[25,20,25,22],[26,1,26,5],[27,15,28,15],[27,16,28,16],[27,17,28,17],[27,18,28,18],[29,1,29,3],[29,4,29,5],[29,6,29,10],[29,12,29,18],[26,6,26,10],[26,11,28,11],[26,12,26,14],[27,1,28,5],[27,6,28,10],[27,12,28,12],[27,13,28,13],[27,14,28,14],[32,0,33,0],[32,1,32,4],[32,6,32,10],[33,1,33,4],[30,0,31,0],[30,1,31,10],[33,6,33,10],[30,11,33,11],[30,12,33,18],[35,0,39,0],[35,1,35,5],[35,6,35,10],[35,11,36,11],[35,12,36,18],[38,12,39,12],[38,13,39,13],[38,14,39,14],[38,15,39,15],[38,16,39,16],[38,17,39,17],[38,18,39,18],[40,1,40,3],[40,4,40,5],[40,6,40,10],[40,12,40,18],[35,19,35,22],[36,1,36,5],[36,6,36,10],[36,20,36,22],[37,1,37,5],[37,6,37,10],[37,11,39,11],[37,12,37,14],[38,1,39,5],[38,6,39,10],[43,0,44,0],[43,1,43,4],[43,6,43,10],[44,1,44,4],[41,0,42,0],[41,1,42,10],[44,6,44,10],[41,11,44,11],[41,12,44,18],[46,0,50,0],[46,1,46,5],[46,6,46,10],[46,11,47,11],[46,12,47,18],[49,12,50,12],[49,13,50,13],[49,14,50,14],[49,15,50,15],[49,16,50,16],[49,17,50,17],[49,18,50,18],[51,1,51,3],[51,4,51,5],[51,6,51,10],[51,12,51,18],[46,19,46,22],[47,1,47,5],[47,6,47,10],[47,20,47,22],[48,1,48,5],[48,6,48,10],[48,11,50,11],[48,12,48,14],[49,1,50,5],[49,6,50,10],[54,0,55,0],[54,1,54,4],[54,6,54,10],[55,1,55,4],[52,0,53,0],[52,1,53,10],[55,6,55,10],[52,11,55,11],[52,12,55,18],[57,0,61,0],[57,1,57,5],[57,6,57,10],[57,11,58,11],[57,12,58,18],[60,12,61,12],[60,13,61,13],[60,14,61,14],[60,15,61,15],[60,16,61,16],[60,17,61,17],[60,18,61,18],[62,1,62,3],[62,4,62,5],[62,6,62,10],[62,12,62,18],[57,19,57,22],[58,1,58,5],[58,6,58,10],[58,20,58,22],[59,1,59,5],[59,6,59,10],[59,11,61,11],[59,12,59,14],[60,1,61,5],[60,6,61,10],[66,6,66,10],[65,0,66,0],[65,1,65,4],[65,6,65,10],[66,1,66,4],[63,0,64,0],[63,1,64,10],[63,11,66,11],[63,12,66,18]]}
["【資格取得手続きに必要な事項】",null,null,null,null,null,null,null,null,null,null,null,null,null,null,null,null,null,null,null,null,null,null,null,null,"有り","同居"]
["★入社する方がいる時は、下記事項をご記入の上、ご連絡下さい。",null,null,null,null,null,null,null,null,null,null,null,null,null,null,null,null,null,null,null,null,null,null,null,null,"無し","別居"]
["※基礎年金番号をもっていない方・確認できない方\n⇒現在の住所と住民票上の住所が違う場合、必ず住民票上の住所を備考欄に記載してください。",null,null,null,null,null,null,null,null,null,null,null,null,null,null,null,null,null,null,null,null,null,null,null,null,"男"]
[null,null,null,null,null,null,null,null,null,null,null,null,null,null,null,null,null,null,null,null,null,null,null,null,null,"女"]
[null,null,"会社名",null,null,{"$f":"IF(取得手続連絡!$F$5=\"\",\"\",取得手続連絡!$F$5)","v":""}]
[null,null,null,null,null,null,null,null,null,null,null,null,null,null,null,null,null,null,null,null,null,null,null,null,null,null,"本人","扶養１","扶養２","扶養３","扶養４"]
[null,null,null,null,null,null,null,null,null,null,null,null,null,null,null,null,null,null,null,null,null,null,null,null,"昭和",1925,{"$f":"VLOOKUP(M12,$Y$7:$Z$8,2,FALSE)","v":1988},{"$f":"VLOOKUP(M28,$Y$7:$Z$8,2,FALSE)","v":1988},{"$f":"VLOOKUP(M39,$Y$7:$Z$8,2,FALSE)","v":1988},{"$f":"VLOOKUP(M50,$Y$7:$Z$8,2,FALSE)","v":1988},{"$f":"VLOOKUP(M61,$Y$7:$Z$8,2,FALSE)","v":1925}]
[null,null,null,null,null,null,null,null,null,null,null,null,"依頼日：平成○○年○○月○○日",null,null,null,null,null,null,null,null,null,null,null,"平成",1988]
["取得者氏名","ﾌﾘｶﾞﾅ",null,null,null,null,null,null,null,null,null,"個人番号\n(マイナンバー)",null,null,null,null,null,null,null,"マイナンバーチェック結果",null,null,null,null,"①空白チェック","②全角半角チェック","③数値チェック","④桁数チェック","⑤重複チェック","n⇒",1,2,3,4,5,6,7,8,9,10,11,"11で割った余り","11-[AB列の値]","⑥チェックデジット","マイナンバーチェック",null,"空白文字が入っています。削除してください。","半角数字で入力してください。","半角数字で入力してください。",null,"重複があります。ご確認ください。","Q_n⇒",2,3,4,5,6,7,2,3,4,5,6,null,null,"入力ミスがあります。通知カードと見比べてください。"]
[null,null,null,null,null,null,null,null,null,null,null,null,null,null,null,null,null,null,null,{"$f":"IF(LEN($M9)=0,\"\",IF(ISERR($AS10),\"×\",$AS10))","v":""},{"$f":"IF(LEN($M9)=0,\"\",IF($Y10<>\"○\",$AU$9,IF($Z10<>\"○\",$AV$9,IF($AA10<>\"○\",$AW$9,IF($AB10<>\"○\",$AB10,IF($AC10<>\"○\",$AY$9,IF($AR10<>\"○\",$BN$9,\"\")))))))","v":""},{"$f":"IF(LEN($E10)=0,\"\",IF($U10<>\"○\",$AQ$1,IF($V10<>\"○\",$AR$1,IF($W10<>\"○\",$AS$1,IF($X10<>\"○\",$X10,IF($Y10<>\"○\",$AU$1,IF($AN10<>\"○\",$BJ$1,\"\")))))))","v":""},{"$f":"IF(LEN($E10)=0,\"\",IF($U10<>\"○\",$AQ$1,IF($V10<>\"○\",$AR$1,IF($W10<>\"○\",$AS$1,IF($X10<>\"○\",$X10,IF($Y10<>\"○\",$AU$1,IF($AN10<>\"○\",$BJ$1,\"\")))))))","v":""},null,{"$f":"IF(LEN($M9)=LEN(SUBSTITUTE(ASC($M9),\" \",\"\")),\"○\",\"×\")","v":"○"},{"$f":"IF(LEN($M9)=LENB($M9),\"○\",\"×\")","v":"○"},{"$f":"IF(ISNUMBER(VALUE($M9)),\"○\",\"×\")","v":"○"},{"$f":"IF(LEN($M9)=12,\"○\",IF(12-LEN($M9)>0,12-LEN($M9)&\"桁不足しています。調整してください。\",ABS(12-LEN($M9))&\"桁超過しています。調整してください。\"))","v":"12桁不足しています。調整してください。"},{"$f":"IF(COUNTIF($M$9:$M$100,$M9)=1,\"○\",\"×\")","v":"×"},null,{"$f":"MID($M9,12-($AE$9),1)*$BA$9","v":{"$error":"#VALUE!"}},{"$f":"MID($M9,12-($AF$9),1)*$BB$9","v":{"$error":"#VALUE!"}},{"$f":"MID($M9,12-($AG$9),1)*$BC$9","v":{"$error":"#VALUE!"}},{"$f":"MID($M9,12-($AH$9),1)*$BD$9","v":{"$error":"#VALUE!"}},{"$f":"MID($M9,12-($AI$9),1)*$BE$9","v":{"$error":"#VALUE!"}},{"$f":"MID($M9,12-($AJ$9),1)*$BF$9","v":{"$error":"#VALUE!"}},{"$f":"MID($M9,12-($AK$9),1)*$BG$9","v":{"$error":"#VALUE!"}},{"$f":"MID($M9,12-($AL$9),1)*$BH$9","v":{"$error":"#VALUE!"}},{"$f":"MID($M9,12-($AM$9),1)*$BI$9","v":{"$error":"#VALUE!"}},{"$f":"MID($M9,12-($AN$9),1)*$BJ$9","v":{"$error":"#VALUE!"}},{"$f":"MID($M9,12-($AO$9),1)*$BK$9","v":{"$error":"#VALUE!"}},{"$f":"MOD(SUM($AE10:$AO10),11)","v":{"$error":"#VALUE!"}},{"$f":"IF($AP10<=1,0,11-$AP10)","v":{"$error":"#VALUE!"}},{"$f":"IF(VALUE(RIGHT($M9,1))=$AQ10,\"○\",\"×\")","v":{"$error":"#VALUE!"}},{"$f":"IF(AND($Y10=\"○\",$Z10=\"○\",$AA10=\"○\",$AB10=\"○\",$AC10=\"○\",$AR10=\"○\"),\"○\",\"×\")","v":{"$error":"#VALUE!"}}]
[null,"（氏）",null,null,null,null,"（名）",null,null,null,null,"生年月日",{"$f":"IF(N12=\"\",\"\",\"（西暦　　\"&$N$12+$AA$7&\"　年）\")","v":""}]
[null,null,null,null,null,null,null,null,null,null,null,null,"平成",null,"年",null,"月",null,"日",null,null,null,null,null,{"$f":"IF(N12=\"\",\"\",N12+$AA$7)","v":""},{"$f":"IF(P12=\"\",\"\",TEXT(P12,\"dd\"))","v":""},{"$f":"IF(R12=\"\",\"\",TEXT(R12,\"dd\"))","v":""}]
[null,null,null,null,null,null,null,null,null,null,null,null,null,null,null,null,null,null,null,null,null,null,null,null,{"$f":"CONCATENATE(Y12,Z12,AA12)","v":""}]
["郵便番号",null,null,"-",null,null,"性別",null,null,null,null,"電話番号",null,"-",null,null,"-",null,null,"※電話番号は空欄でも可能です"]
["ﾌﾘｶﾞﾅ",null,null,null,null,null,null,null,null,null,null,"加入年月日\n(入社年月日)","平成",null,"年",null,"月",null,"日",null,null,null,null,null,{"$f":"IF(N15=\"\",\"\",N15+$Z$8)","v":""},{"$f":"IF(P15=\"\",\"\",TEXT(P15,\"dd\"))","v":""},{"$f":"IF(R15=\"\",\"\",TEXT(R15,\"dd\"))","v":""}]
["住所１\n(都道府県名から)",null,null,null,null,null,null,null,null,null,null,null,null,null,null,null,null,null,null,null,null,null,null,null,{"$f":"CONCATENATE(Y15,Z15,AA15)","v":""}]
["ﾌﾘｶﾞﾅ",null,null,null,null,null,null,null,null,null,null,"給料\n（交通費、残業代含む）",null,null,null,null,null,"円"]
["住所２\n(アパート名等)"]
["基礎年金番号","（4桁）",null,null,null,null,"（6桁）",null,null,null,null,"扶養家族の有無"]
[null,null,null,null,null,"-"]
["雇用保険番号\n（分からない場合、履歴書添付）","（4桁）",null,null,null,"（6桁）",null,null,null,null,"（1桁）","備考"]
[null,null,null,null,"-",null,null,null,null,"-"]
[]
["★扶養家族がいるときは、ご記入下さい。"]
["扶養家族氏名","フリガナ",null,null,null,null,null,null,null,null,null,"個人番号\n(マイナンバー)",null,null,null,null,null,null,null,"マイナンバーチェック結果"]
[null,null,null,null,null,null,null,null,null,null,null,null,null,null,null,null,null,null,null,{"$f":"IF(LEN($M25)=0,\"\",IF(ISERR($AS26),\"×\",$AS26))","v":""},{"$f":"IF(LEN($M25)=0,\"\",IF($Y26<>\"○\",$AU$9,IF($Z26<>\"○\",$AV$9,IF($AA26<>\"○\",$AW$9,IF($AB26<>\"○\",$AB26,IF($AC26<>\"○\",$AY$9,IF($AR26<>\"○\",$BN$9,\"\")))))))","v":""},{"$f":"IF(LEN($E26)=0,\"\",IF($U26<>\"○\",$AQ$1,IF($V26<>\"○\",$AR$1,IF($W26<>\"○\",$AS$1,IF($X26<>\"○\",$X26,IF($Y26<>\"○\",$AU$1,IF($AN26<>\"○\",$BJ$1,\"\")))))))","v":""},{"$f":"IF(LEN($E26)=0,\"\",IF($U26<>\"○\",$AQ$1,IF($V26<>\"○\",$AR$1,IF($W26<>\"○\",$AS$1,IF($X26<>\"○\",$X26,IF($Y26<>\"○\",$AU$1,IF($AN26<>\"○\",$BJ$1,\"\")))))))","v":""},null,{"$f":"IF(LEN($M25)=LEN(SUBSTITUTE(ASC($M25),\" \",\"\")),\"○\",\"×\")","v":"○"},{"$f":"IF(LEN($M25)=LENB($M25),\"○\",\"×\")","v":"○"},{"$f":"IF(ISNUMBER(VALUE($M25)),\"○\",\"×\")","v":"○"},{"$f":"IF(LEN($M25)=12,\"○\",IF(12-LEN($M25)>0,12-LEN($M25)&\"桁不足しています。調整してください。\",ABS(12-LEN($M25))&\"桁超過しています。調整してください。\"))","v":"12桁不足しています。調整してください。"},{"$f":"IF(COUNTIF($M$9:$M$100,$M25)=1,\"○\",\"×\")","v":"×"},null,{"$f":"MID($M25,12-($AE$9),1)*$BA$9","v":{"$error":"#VALUE!"}},{"$f":"MID($M25,12-($AF$9),1)*$BB$9","v":{"$error":"#VALUE!"}},{"$f":"MID($M25,12-($AG$9),1)*$BC$9","v":{"$error":"#VALUE!"}},{"$f":"MID($M25,12-($AH$9),1)*$BD$9","v":{"$error":"#VALUE!"}},{"$f":"MID($M25,12-($AI$9),1)*$BE$9","v":{"$error":"#VALUE!"}},{"$f":"MID($M25,12-($AJ$9),1)*$BF$9","v":{"$error":"#VALUE!"}},{"$f":"MID($M25,12-($AK$9),1)*$BG$9","v":{"$error":"#VALUE!"}},{"$f":"MID($M25,12-($AL$9),1)*$BH$9","v":{"$error":"#VALUE!"}},{"$f":"MID($M25,12-($AM$9),1)*$BI$9","v":{"$error":"#VALUE!"}},{"$f":"MID($M25,12-($AN$9),1)*$BJ$9","v":{"$error":"#VALUE!"}},{"$f":"MID($M25,12-($AO$9),1)*$BK$9","v":{"$error":"#VALUE!"}},{"$f":"MOD(SUM($AE26:$AO26),11)","v":{"$error":"#VALUE!"}},{"$f":"IF($AP26<=1,0,11-$AP26)","v":{"$error":"#VALUE!"}},{"$f":"IF(VALUE(RIGHT($M25,1))=$AQ26,\"○\",\"×\")","v":{"$error":"#VALUE!"}},{"$f":"IF(AND($Y26=\"○\",$Z26=\"○\",$AA26=\"○\",$AB26=\"○\",$AC26=\"○\",$AR26=\"○\"),\"○\",\"×\")","v":{"$error":"#VALUE!"}}]
[null,"（氏）",null,null,null,null,"（名）",null,null,null,null,"生年月日",{"$f":"IF(N28=\"\",\"\",\"（西暦　　\"&N28+$AB$7&\"　年）\")","v":""}]
[null,null,null,null,null,null,null,null,null,null,null,null,"平成",null,"年",null,"月",null,"日",null,null,null,null,null,{"$f":"IF(N28=\"\",\"\",N28+$AB$7)","v":""},{"$f":"IF(P28=\"\",\"\",TEXT(P28,\"dd\"))","v":""},{"$f":"IF(R28=\"\",\"\",TEXT(R28,\"dd\"))","v":""}]
[null,null,null,null,null,null,null,null,null,null,null,null,null,null,null,null,null,null,null,null,null,null,null,null,{"$f":"CONCATENATE(Y28,Z28,AA28)","v":""}]
["性別",null,null,null,"続柄",null,null,null,null,null,null,"収入の有無"]
["同居・別居",null,null,null,null,null,null,null,null,null,null,"備考",null,null,null,null,null,null,null,null,null,null,null,null,{"$f":"IF(N31=\"\",\"\",N31+$Z$8)","v":""},{"$f":"IF(P31=\"\",\"\",TEXT(P31,\"dd\"))","v":""},{"$f":"IF(R31=\"\",\"\",TEXT(R31,\"dd\"))","v":""}]
[null,null,null,null,null,null,null,null,null,null,null,null,null,null,null,null,null,null,null,null,null,null,null,null,{"$f":"CONCATENATE(Y31,Z31,AA31)","v":""}]
["※基礎年金番号\n（配偶者の場合）","（4桁）",null,null,null,null,"（6桁）"]
[null,null,null,null,null,"-"]
[]
["扶養家族氏名","フリガナ",null,null,null,null,null,null,null,null,null,"個人番号\n(マイナンバー)",null,null,null,null,null,null,null,"マイナンバーチェック結果"]
[null,null,null,null,null,null,null,null,null,null,null,null,null,null,null,null,null,null,null,{"$f":"IF(LEN($M36)=0,\"\",IF(ISERR($AS37),\"×\",$AS37))","v":""},{"$f":"IF(LEN($M36)=0,\"\",IF($Y37<>\"○\",$AU$9,IF($Z37<>\"○\",$AV$9,IF($AA37<>\"○\",$AW$9,IF($AB37<>\"○\",$AB37,IF($AC37<>\"○\",$AY$9,IF($AR37<>\"○\",$BN$9,\"\")))))))","v":""},{"$f":"IF(LEN($E37)=0,\"\",IF($U37<>\"○\",$AQ$1,IF($V37<>\"○\",$AR$1,IF($W37<>\"○\",$AS$1,IF($X37<>\"○\",$X37,IF($Y37<>\"○\",$AU$1,IF($AN37<>\"○\",$BJ$1,\"\")))))))","v":""},{"$f":"IF(LEN($E37)=0,\"\",IF($U37<>\"○\",$AQ$1,IF($V37<>\"○\",$AR$1,IF($W37<>\"○\",$AS$1,IF($X37<>\"○\",$X37,IF($Y37<>\"○\",$AU$1,IF($AN37<>\"○\",$BJ$1,\"\")))))))","v":""},null,{"$f":"IF(LEN($M36)=LEN(SUBSTITUTE(ASC($M36),\" \",\"\")),\"○\",\"×\")","v":"○"},{"$f":"IF(LEN($M36)=LENB($M36),\"○\",\"×\")","v":"○"},{"$f":"IF(ISNUMBER(VALUE($M36)),\"○\",\"×\")","v":"○"},{"$f":"IF(LEN($M36)=12,\"○\",IF(12-LEN($M36)>0,12-LEN($M36)&\"桁不足しています。調整してください。\",ABS(12-LEN($M36))&\"桁超過しています。調整してください。\"))","v":"12桁不足しています。調整してください。"},{"$f":"IF(COUNTIF($M$9:$M$100,$M36)=1,\"○\",\"×\")","v":"×"},null,{"$f":"MID($M36,12-($AE$9),1)*$BA$9","v":{"$error":"#VALUE!"}},{"$f":"MID($M36,12-($AF$9),1)*$BB$9","v":{"$error":"#VALUE!"}},{"$f":"MID($M36,12-($AG$9),1)*$BC$9","v":{"$error":"#VALUE!"}},{"$f":"MID($M36,12-($AH$9),1)*$BD$9","v":{"$error":"#VALUE!"}},{"$f":"MID($M36,12-($AI$9),1)*$BE$9","v":{"$error":"#VALUE!"}},{"$f":"MID($M36,12-($AJ$9),1)*$BF$9","v":{"$error":"#VALUE!"}},{"$f":"MID($M36,12-($AK$9),1)*$BG$9","v":{"$error":"#VALUE!"}},{"$f":"MID($M36,12-($AL$9),1)*$BH$9","v":{"$error":"#VALUE!"}},{"$f":"MID($M36,12-($AM$9),1)*$BI$9","v":{"$error":"#VALUE!"}},{"$f":"MID($M36,12-($AN$9),1)*$BJ$9","v":{"$error":"#VALUE!"}},{"$f":"MID($M36,12-($AO$9),1)*$BK$9","v":{"$error":"#VALUE!"}},{"$f":"MOD(SUM($AE37:$AO37),11)","v":{"$error":"#VALUE!"}},{"$f":"IF($AP37<=1,0,11-$AP37)","v":{"$error":"#VALUE!"}},{"$f":"IF(VALUE(RIGHT($M36,1))=$AQ37,\"○\",\"×\")","v":{"$error":"#VALUE!"}},{"$f":"IF(AND($Y37=\"○\",$Z37=\"○\",$AA37=\"○\",$AB37=\"○\",$AC37=\"○\",$AR37=\"○\"),\"○\",\"×\")","v":{"$error":"#VALUE!"}}]
[null,"（氏）",null,null,null,null,"（名）",null,null,null,null,"生年月日",{"$f":"IF(N39=\"\",\"\",\"（西暦　　\"&N39+$AC$7&\"　年）\")","v":""}]
[null,null,null,null,null,null,null,null,null,null,null,null,"平成",null,"年",null,"月",null,"日",null,null,null,null,null,{"$f":"IF(N39=\"\",\"\",N39+$AC$7)","v":""},{"$f":"IF(P39=\"\",\"\",TEXT(P39,\"dd\"))","v":""},{"$f":"IF(R39=\"\",\"\",TEXT(R39,\"dd\"))","v":""}]
[null,null,null,null,null,null,null,null,null,null,null,null,null,null,null,null,null,null,null,null,null,null,null,null,{"$f":"CONCATENATE(Y39,Z39,AA39)","v":""}]
["性別",null,null,null,"続柄",null,null,null,null,null,null,"収入の有無"]
["同居・別居",null,null,null,null,null,null,null,null,null,null,"備考",null,null,null,null,null,null,null,null,null,null,null,null,{"$f":"IF(N42=\"\",\"\",N42+$Z$8)","v":""},{"$f":"IF(P42=\"\",\"\",TEXT(P42,\"dd\"))","v":""},{"$f":"IF(R42=\"\",\"\",TEXT(R42,\"dd\"))","v":""}]
[null,null,null,null,null,null,null,null,null,null,null,null,null,null,null,null,null,null,null,null,null,null,null,null,{"$f":"CONCATENATE(Y42,Z42,AA42)","v":""}]
["※基礎年金番号\n（配偶者の場合）","（4桁）",null,null,null,null,"（6桁）"]
[null,null,null,null,null,"-"]
[]
["扶養家族氏名","フリガナ",null,null,null,null,null,null,null,null,null,"個人番号\n(マイナンバー)",null,null,null,null,null,null,null,"マイナンバーチェック結果"]
[null,null,null,null,null,null,null,null,null,null,null,null,null,null,null,null,null,null,null,{"$f":"IF(LEN($M47)=0,\"\",IF(ISERR($AS48),\"×\",$AS48))","v":""},{"$f":"IF(LEN($M47)=0,\"\",IF($Y48<>\"○\",$AU$9,IF($Z48<>\"○\",$AV$9,IF($AA48<>\"○\",$AW$9,IF($AB48<>\"○\",$AB48,IF($AC48<>\"○\",$AY$9,IF($AR48<>\"○\",$BN$9,\"\")))))))","v":""},{"$f":"IF(LEN($E48)=0,\"\",IF($U48<>\"○\",$AQ$1,IF($V48<>\"○\",$AR$1,IF($W48<>\"○\",$AS$1,IF($X48<>\"○\",$X48,IF($Y48<>\"○\",$AU$1,IF($AN48<>\"○\",$BJ$1,\"\")))))))","v":""},{"$f":"IF(LEN($E48)=0,\"\",IF($U48<>\"○\",$AQ$1,IF($V48<>\"○\",$AR$1,IF($W48<>\"○\",$AS$1,IF($X48<>\"○\",$X48,IF($Y48<>\"○\",$AU$1,IF($AN48<>\"○\",$BJ$1,\"\")))))))","v":""},null,{"$f":"IF(LEN($M47)=LEN(SUBSTITUTE(ASC($M47),\" \",\"\")),\"○\",\"×\")","v":"○"},{"$f":"IF(LEN($M47)=LENB($M47),\"○\",\"×\")","v":"○"},{"$f":"IF(ISNUMBER(VALUE($M47)),\"○\",\"×\")","v":"○"},{"$f":"IF(LEN($M47)=12,\"○\",IF(12-LEN($M47)>0,12-LEN($M47)&\"桁不足しています。調整してください。\",ABS(12-LEN($M47))&\"桁超過しています。調整してください。\"))","v":"12桁不足しています。調整してください。"},{"$f":"IF(COUNTIF($M$9:$M$100,$M47)=1,\"○\",\"×\")","v":"×"},null,{"$f":"MID($M47,12-($AE$9),1)*$BA$9","v":{"$error":"#VALUE!"}},{"$f":"MID($M47,12-($AF$9),1)*$BB$9","v":{"$error":"#VALUE!"}},{"$f":"MID($M47,12-($AG$9),1)*$BC$9","v":{"$error":"#VALUE!"}},{"$f":"MID($M47,12-($AH$9),1)*$BD$9","v":{"$error":"#VALUE!"}},{"$f":"MID($M47,12-($AI$9),1)*$BE$9","v":{"$error":"#VALUE!"}},{"$f":"MID($M47,12-($AJ$9),1)*$BF$9","v":{"$error":"#VALUE!"}},{"$f":"MID($M47,12-($AK$9),1)*$BG$9","v":{"$error":"#VALUE!"}},{"$f":"MID($M47,12-($AL$9),1)*$BH$9","v":{"$error":"#VALUE!"}},{"$f":"MID($M47,12-($AM$9),1)*$BI$9","v":{"$error":"#VALUE!"}},{"$f":"MID($M47,12-($AN$9),1)*$BJ$9","v":{"$error":"#VALUE!"}},{"$f":"MID($M47,12-($AO$9),1)*$BK$9","v":{"$error":"#VALUE!"}},{"$f":"MOD(SUM($AE48:$AO48),11)","v":{"$error":"#VALUE!"}},{"$f":"IF($AP48<=1,0,11-$AP48)","v":{"$error":"#VALUE!"}},{"$f":"IF(VALUE(RIGHT($M47,1))=$AQ48,\"○\",\"×\")","v":{"$error":"#VALUE!"}},{"$f":"IF(AND($Y48=\"○\",$Z48=\"○\",$AA48=\"○\",$AB48=\"○\",$AC48=\"○\",$AR48=\"○\"),\"○\",\"×\")","v":{"$error":"#VALUE!"}}]
[null,"（氏）",null,null,null,null,"（名）",null,null,null,null,"生年月日",{"$f":"IF(N50=\"\",\"\",\"（西暦　　\"&N50+$AD$7&\"　年）\")","v":""}]
[null,null,null,null,null,null,null,null,null,null,null,null,"平成",null,"年",null,"月",null,"日",null,null,null,null,null,{"$f":"IF(N50=\"\",\"\",N50+$AD$7)","v":""},{"$f":"IF(P50=\"\",\"\",TEXT(P50,\"dd\"))","v":""},{"$f":"IF(R50=\"\",\"\",TEXT(R50,\"dd\"))","v":""}]
[null,null,null,null,null,null,null,null,null,null,null,null,null,null,null,null,null,null,null,null,null,null,null,null,{"$f":"CONCATENATE(Y50,Z50,AA50)","v":""}]
["性別",null,null,null,"続柄",null,null,null,null,null,null,"収入の有無"]
["同居・別居",null,null,null,null,null,null,null,null,null,null,"備考",null,null,null,null,null,null,null,null,null,null,null,null,{"$f":"IF(N53=\"\",\"\",N53+$Z$8)","v":""},{"$f":"IF(P53=\"\",\"\",TEXT(P53,\"dd\"))","v":""},{"$f":"IF(R53=\"\",\"\",TEXT(R53,\"dd\"))","v":""}]
[null,null,null,null,null,null,null,null,null,null,null,null,null,null,null,null,null,null,null,null,null,null,null,null,{"$f":"CONCATENATE(Y53,Z53,AA53)","v":""}]
["※基礎年金番号\n（配偶者の場合）","（4桁）",null,null,null,null,"（6桁）"]
[null,null,null,null,null,"-"]
[]
["扶養家族氏名","フリガナ",null,null,null,null,null,null,null,null,null,"個人番号\n(マイナンバー)",null,null,null,null,null,null,null,"マイナンバーチェック結果"]
[null,null,null,null,null,null,null,null,null,null,null,null,null,null,null,null,null,null,null,{"$f":"IF(LEN($M58)=0,\"\",IF(ISERR($AS59),\"×\",$AS59))","v":""},{"$f":"IF(LEN($M58)=0,\"\",IF($Y59<>\"○\",$AU$9,IF($Z59<>\"○\",$AV$9,IF($AA59<>\"○\",$AW$9,IF($AB59<>\"○\",$AB59,IF($AC59<>\"○\",$AY$9,IF($AR59<>\"○\",$BN$9,\"\")))))))","v":""},{"$f":"IF(LEN($E59)=0,\"\",IF($U59<>\"○\",$AQ$1,IF($V59<>\"○\",$AR$1,IF($W59<>\"○\",$AS$1,IF($X59<>\"○\",$X59,IF($Y59<>\"○\",$AU$1,IF($AN59<>\"○\",$BJ$1,\"\")))))))","v":""},{"$f":"IF(LEN($E59)=0,\"\",IF($U59<>\"○\",$AQ$1,IF($V59<>\"○\",$AR$1,IF($W59<>\"○\",$AS$1,IF($X59<>\"○\",$X59,IF($Y59<>\"○\",$AU$1,IF($AN59<>\"○\",$BJ$1,\"\")))))))","v":""},null,{"$f":"IF(LEN($M58)=LEN(SUBSTITUTE(ASC($M58),\" \",\"\")),\"○\",\"×\")","v":"○"},{"$f":"IF(LEN($M58)=LENB($M58),\"○\",\"×\")","v":"○"},{"$f":"IF(ISNUMBER(VALUE($M58)),\"○\",\"×\")","v":"○"},{"$f":"IF(LEN($M58)=12,\"○\",IF(12-LEN($M58)>0,12-LEN($M58)&\"桁不足しています。調整してください。\",ABS(12-LEN($M58))&\"桁超過しています。調整してください。\"))","v":"12桁不足しています。調整してください。"},{"$f":"IF(COUNTIF($M$9:$M$100,$M58)=1,\"○\",\"×\")","v":"×"},null,{"$f":"MID($M58,12-($AE$9),1)*$BA$9","v":{"$error":"#VALUE!"}},{"$f":"MID($M58,12-($AF$9),1)*$BB$9","v":{"$error":"#VALUE!"}},{"$f":"MID($M58,12-($AG$9),1)*$BC$9","v":{"$error":"#VALUE!"}},{"$f":"MID($M58,12-($AH$9),1)*$BD$9","v":{"$error":"#VALUE!"}},{"$f":"MID($M58,12-($AI$9),1)*$BE$9","v":{"$error":"#VALUE!"}},{"$f":"MID($M58,12-($AJ$9),1)*$BF$9","v":{"$error":"#VALUE!"}},{"$f":"MID($M58,12-($AK$9),1)*$BG$9","v":{"$error":"#VALUE!"}},{"$f":"MID($M58,12-($AL$9),1)*$BH$9","v":{"$error":"#VALUE!"}},{"$f":"MID($M58,12-($AM$9),1)*$BI$9","v":{"$error":"#VALUE!"}},{"$f":"MID($M58,12-($AN$9),1)*$BJ$9","v":{"$error":"#VALUE!"}},{"$f":"MID($M58,12-($AO$9),1)*$BK$9","v":{"$error":"#VALUE!"}},{"$f":"MOD(SUM($AE59:$AO59),11)","v":{"$error":"#VALUE!"}},{"$f":"IF($AP59<=1,0,11-$AP59)","v":{"$error":"#VALUE!"}},{"$f":"IF(VALUE(RIGHT($M58,1))=$AQ59,\"○\",\"×\")","v":{"$error":"#VALUE!"}},{"$f":"IF(AND($Y59=\"○\",$Z59=\"○\",$AA59=\"○\",$AB59=\"○\",$AC59=\"○\",$AR59=\"○\"),\"○\",\"×\")","v":{"$error":"#VALUE!"}}]
[null,"（氏）",null,null,null,null,"（名）",null,null,null,null,"生年月日",{"$f":"IF(N61=\"\",\"\",\"（西暦　　\"&N61+$AE$7&\"　年）\")","v":""}]
[null,null,null,null,null,null,null,null,null,null,null,null,"昭和",null,"年",null,"月",null,"日",null,null,null,null,null,{"$f":"IF(N61=\"\",\"\",N61+$AE$7)","v":""},{"$f":"IF(P61=\"\",\"\",TEXT(P61,\"dd\"))","v":""},{"$f":"IF(R61=\"\",\"\",TEXT(R61,\"dd\"))","v":""}]
[null,null,null,null,null,null,null,null,null,null,null,null,null,null,null,null,null,null,null,null,null,null,null,null,{"$f":"CONCATENATE(Y61,Z61,AA61)","v":""}]
["性別",null,null,null,"続柄",null,null,null,null,null,null,"収入の有無"]
["同居・別居",null,null,null,null,null,null,null,null,null,null,"備考",null,null,null,null,null,null,null,null,null,null,null,null,{"$f":"IF(N64=\"\",\"\",N64+$Z$8)","v":""},{"$f":"IF(P64=\"\",\"\",TEXT(P64,\"dd\"))","v":""},{"$f":"IF(R64=\"\",\"\",TEXT(R64,\"dd\"))","v":""}]
[null,null,null,null,null,null,null,null,null,null,null,null,null,null,null,null,null,null,null,null,null,null,null,null,{"$f":"CONCATENATE(Y64,Z64,AA64)","v":""}]
["※基礎年金番号\n（配偶者の場合）","（4桁）",null,null,null,null,"（6桁）"]
[null,null,null,null,null,"-"]

{"sheet":"取得手続連絡 (8)","index":11,"n_rows":67,"n_cols":66,"rows_kept":67,"cut":false,"hidden":false,"merged":[[0,0,0,18],[2,0,2,18],[4,2,5,4],[4,5,5,14],[7,12,7,18],[8,0,12,0],[8,1,8,5],[8,6,8,10],[8,11,9,11],[8,12,9,18],[8,19,8,22],[9,1,9,5],[9,6,9,10],[9,20,9,22],[10,1,10,5],[10,6,10,10],[10,11,12,11],[10,12,10,14],[11,1,12,5],[11,6,12,10],[11,18,12,18],[13,1,13,2],[13,4,13,5],[13,6,13,8],[13,9,13,10],[13,14,13,15],[13,17,13,18],[11,12,12,12],[11,13,12,13],[11,14,12,14],[11,15,12,15],[11,16,12,16],[11,17,12,17],[14,16,15,16],[14,17,15,17],[14,18,15,18],[15,1,15,10],[16,1,16,10],[16,11,17,11],[16,12,17,16],[16,17,17,18],[17,1,17,10],[14,1,14,10],[14,11,15,11],[14,12,15,12],[14,13,15,13],[14,14,15,14],[14,15,15,15],[20,0,21,0],[20,1,20,3],[20,5,20,8],[20,11,21,11],[20,12,21,18],[21,1,21,3],[21,5,21,8],[18,0,19,0],[18,1,18,4],[18,6,18,10],[18,11,19,11],[18,12,19,18],[19,1,19,4],[19,6,19,10],[24,0,28,0],[24,1,24,5],[24,6,24,10],[24,11,25,11],[24,12,25,18],[24,19,24,22],[25,1,25,5],[25,6,25,10],[25,20,25,22],[26,1,26,5],[27,15,28,15],[27,16,28,16],[27,17,28,17],[27,18,28,18],[29,1,29,3],[29,4,29,5],[29,6,29,10],[29,12,29,18],[26,6,26,10],[26,11,28,11],[26,12,26,14],[27,1,28,5],[27,6,28,10],[27,12,28,12],[27,13,28,13],[27,14,28,14],[32,0,33,0],[32,1,32,4],[32,6,32,10],[33,1,33,4],[30,0,31,0],[30,1,31,10],[33,6,33,10],[30,11,33,11],[30,12,33,18],[35,0,39,0],[35,1,35,5],[35,6,35,10],[35,11,36,11],[35,12,36,18],[38,12,39,12],[38,13,39,13],[38,14,39,14],[38,15,39,15],[38,16,39,16],[38,17,39,17],[38,18,39,18],[40,1,40,3],[40,4,40,5],[40,6,40,10],[40,12,40,18],[35,19,35,22],[36,1,36,5],[36,6,36,10],[36,20,36,22],[37,1,37,5],[37,6,37,10],[37,11,39,11],[37,12,37,14],[38,1,39,5],[38,6,39,10],[43,0,44,0],[43,1,43,4],[43,6,43,10],[44,1,44,4],[41,0,42,0],[41,1,42,10],[44,6,44,10],[41,11,44,11],[41,12,44,18],[46,0,50,0],[46,1,46,5],[46,6,46,10],[46,11,47,11],[46,12,47,18],[49,12,50,12],[49,13,50,13],[49,14,50,14],[49,15,50,15],[49,16,50,16],[49,17,50,17],[49,18,50,18],[51,1,51,3],[51,4,51,5],[51,6,51,10],[51,12,51,18],[46,19,46,22],[47,1,47,5],[47,6,47,10],[47,20,47,22],[48,1,48,5],[48,6,48,10],[48,11,50,11],[48,12,48,14],[49,1,50,5],[49,6,50,10],[54,0,55,0],[54,1,54,4],[54,6,54,10],[55,1,55,4],[52,0,53,0],[52,1,53,10],[55,6,55,10],[52,11,55,11],[52,12,55,18],[57,0,61,0],[57,1,57,5],[57,6,57,10],[57,11,58,11],[57,12,58,18],[60,12,61,12],[60,13,61,13],[60,14,61,14],[60,15,61,15],[60,16,61,16],[60,17,61,17],[60,18,61,18],[62,1,62,3],[62,4,62,5],[62,6,62,10],[62,12,62,18],[57,19,57,22],[58,1,58,5],[58,6,58,10],[58,20,58,22],[59,1,59,5],[59,6,59,10],[59,11,61,11],[59,12,59,14],[60,1,61,5],[60,6,61,10],[66,6,66,10],[65,0,66,0],[65,1,65,4],[65,6,65,10],[66,1,66,4],[63,0,64,0],[63,1,64,10],[63,11,66,11],[63,12,66,18]]}
["【資格取得手続きに必要な事項】",null,null,null,null,null,null,null,null,null,null,null,null,null,null,null,null,null,null,null,null,null,null,null,null,"有り","同居"]
["★入社する方がいる時は、下記事項をご記入の上、ご連絡下さい。",null,null,null,null,null,null,null,null,null,null,null,null,null,null,null,null,null,null,null,null,null,null,null,null,"無し","別居"]
["※基礎年金番号をもっていない方・確認できない方\n⇒現在の住所と住民票上の住所が違う場合、必ず住民票上の住所を備考欄に記載してください。",null,null,null,null,null,null,null,null,null,null,null,null,null,null,null,null,null,null,null,null,null,null,null,null,"男"]
[null,null,null,null,null,null,null,null,null,null,null,null,null,null,null,null,null,null,null,null,null,null,null,null,null,"女"]
[null,null,"会社名",null,null,{"$f":"IF(取得手続連絡!$F$5=\"\",\"\",取得手続連絡!$F$5)","v":""}]
[null,null,null,null,null,null,null,null,null,null,null,null,null,null,null,null,null,null,null,null,null,null,null,null,null,null,"本人","扶養１","扶養２","扶養３","扶養４"]
[null,null,null,null,null,null,null,null,null,null,null,null,null,null,null,null,null,null,null,null,null,null,null,null,"昭和",1925,{"$f":"VLOOKUP(M12,$Y$7:$Z$8,2,FALSE)","v":1988},{"$f":"VLOOKUP(M28,$Y$7:$Z$8,2,FALSE)","v":1988},{"$f":"VLOOKUP(M39,$Y$7:$Z$8,2,FALSE)","v":1988},{"$f":"VLOOKUP(M50,$Y$7:$Z$8,2,FALSE)","v":1988},{"$f":"VLOOKUP(M61,$Y$7:$Z$8,2,FALSE)","v":1925}]
[null,null,null,null,null,null,null,null,null,null,null,null,"依頼日：平成○○年○○月○○日",null,null,null,null,null,null,null,null,null,null,null,"平成",1988]
["取得者氏名","ﾌﾘｶﾞﾅ",null,null,null,null,null,null,null,null,null,"個人番号\n(マイナンバー)",null,null,null,null,null,null,null,"マイナンバーチェック結果",null,null,null,null,"①空白チェック","②全角半角チェック","③数値チェック","④桁数チェック","⑤重複チェック","n⇒",1,2,3,4,5,6,7,8,9,10,11,"11で割った余り","11-[AB列の値]","⑥チェックデジット","マイナンバーチェック",null,"空白文字が入っています。削除してください。","半角数字で入力してください。","半角数字で入力してください。",null,"重複があります。ご確認ください。","Q_n⇒",2,3,4,5,6,7,2,3,4,5,6,null,null,"入力ミスがあります。通知カードと見比べてください。"]
[null,null,null,null,null,null,null,null,null,null,null,null,null,null,null,null,null,null,null,{"$f":"IF(LEN($M9)=0,\"\",IF(ISERR($AS10),\"×\",$AS10))","v":""},{"$f":"IF(LEN($M9)=0,\"\",IF($Y10<>\"○\",$AU$9,IF($Z10<>\"○\",$AV$9,IF($AA10<>\"○\",$AW$9,IF($AB10<>\"○\",$AB10,IF($AC10<>\"○\",$AY$9,IF($AR10<>\"○\",$BN$9,\"\")))))))","v":""},{"$f":"IF(LEN($E10)=0,\"\",IF($U10<>\"○\",$AQ$1,IF($V10<>\"○\",$AR$1,IF($W10<>\"○\",$AS$1,IF($X10<>\"○\",$X10,IF($Y10<>\"○\",$AU$1,IF($AN10<>\"○\",$BJ$1,\"\")))))))","v":""},{"$f":"IF(LEN($E10)=0,\"\",IF($U10<>\"○\",$AQ$1,IF($V10<>\"○\",$AR$1,IF($W10<>\"○\",$AS$1,IF($X10<>\"○\",$X10,IF($Y10<>\"○\",$AU$1,IF($AN10<>\"○\",$BJ$1,\"\")))))))","v":""},null,{"$f":"IF(LEN($M9)=LEN(SUBSTITUTE(ASC($M9),\" \",\"\")),\"○\",\"×\")","v":"○"},{"$f":"IF(LEN($M9)=LENB($M9),\"○\",\"×\")","v":"○"},{"$f":"IF(ISNUMBER(VALUE($M9)),\"○\",\"×\")","v":"○"},{"$f":"IF(LEN($M9)=12,\"○\",IF(12-LEN($M9)>0,12-LEN($M9)&\"桁不足しています。調整してください。\",ABS(12-LEN($M9))&\"桁超過しています。調整してください。\"))","v":"12桁不足しています。調整してください。"},{"$f":"IF(COUNTIF($M$9:$M$100,$M9)=1,\"○\",\"×\")","v":"×"},null,{"$f":"MID($M9,12-($AE$9),1)*$BA$9","v":{"$error":"#VALUE!"}},{"$f":"MID($M9,12-($AF$9),1)*$BB$9","v":{"$error":"#VALUE!"}},{"$f":"MID($M9,12-($AG$9),1)*$BC$9","v":{"$error":"#VALUE!"}},{"$f":"MID($M9,12-($AH$9),1)*$BD$9","v":{"$error":"#VALUE!"}},{"$f":"MID($M9,12-($AI$9),1)*$BE$9","v":{"$error":"#VALUE!"}},{"$f":"MID($M9,12-($AJ$9),1)*$BF$9","v":{"$error":"#VALUE!"}},{"$f":"MID($M9,12-($AK$9),1)*$BG$9","v":{"$error":"#VALUE!"}},{"$f":"MID($M9,12-($AL$9),1)*$BH$9","v":{"$error":"#VALUE!"}},{"$f":"MID($M9,12-($AM$9),1)*$BI$9","v":{"$error":"#VALUE!"}},{"$f":"MID($M9,12-($AN$9),1)*$BJ$9","v":{"$error":"#VALUE!"}},{"$f":"MID($M9,12-($AO$9),1)*$BK$9","v":{"$error":"#VALUE!"}},{"$f":"MOD(SUM($AE10:$AO10),11)","v":{"$error":"#VALUE!"}},{"$f":"IF($AP10<=1,0,11-$AP10)","v":{"$error":"#VALUE!"}},{"$f":"IF(VALUE(RIGHT($M9,1))=$AQ10,\"○\",\"×\")","v":{"$error":"#VALUE!"}},{"$f":"IF(AND($Y10=\"○\",$Z10=\"○\",$AA10=\"○\",$AB10=\"○\",$AC10=\"○\",$AR10=\"○\"),\"○\",\"×\")","v":{"$error":"#VALUE!"}}]
[null,"（氏）",null,null,null,null,"（名）",null,null,null,null,"生年月日",{"$f":"IF(N12=\"\",\"\",\"（西暦　　\"&$N$12+$AA$7&\"　年）\")","v":""}]
[null,null,null,null,null,null,null,null,null,null,null,null,"平成",null,"年",null,"月",null,"日",null,null,null,null,null,{"$f":"IF(N12=\"\",\"\",N12+$AA$7)","v":""},{"$f":"IF(P12=\"\",\"\",TEXT(P12,\"dd\"))","v":""},{"$f":"IF(R12=\"\",\"\",TEXT(R12,\"dd\"))","v":""}]
[null,null,null,null,null,null,null,null,null,null,null,null,null,null,null,null,null,null,null,null,null,null,null,null,{"$f":"CONCATENATE(Y12,Z12,AA12)","v":""}]
["郵便番号",null,null,"-",null,null,"性別",null,null,null,null,"電話番号",null,"-",null,null,"-",null,null,"※電話番号は空欄でも可能です"]
["ﾌﾘｶﾞﾅ",null,null,null,null,null,null,null,null,null,null,"加入年月日\n(入社年月日)","平成",null,"年",null,"月",null,"日",null,null,null,null,null,{"$f":"IF(N15=\"\",\"\",N15+$Z$8)","v":""},{"$f":"IF(P15=\"\",\"\",TEXT(P15,\"dd\"))","v":""},{"$f":"IF(R15=\"\",\"\",TEXT(R15,\"dd\"))","v":""}]
["住所１\n(都道府県名から)",null,null,null,null,null,null,null,null,null,null,null,null,null,null,null,null,null,null,null,null,null,null,null,{"$f":"CONCATENATE(Y15,Z15,AA15)","v":""}]
["ﾌﾘｶﾞﾅ",null,null,null,null,null,null,null,null,null,null,"給料\n（交通費、残業代含む）",null,null,null,null,null,"円"]
["住所２\n(アパート名等)"]
["基礎年金番号","（4桁）",null,null,null,null,"（6桁）",null,null,null,null,"扶養家族の有無"]
[null,null,null,null,null,"-"]
["雇用保険番号\n（分からない場合、履歴書添付）","（4桁）",null,null,null,"（6桁）",null,null,null,null,"（1桁）","備考"]
[null,null,null,null,"-",null,null,null,null,"-"]
[]
["★扶養家族がいるときは、ご記入下さい。"]
["扶養家族氏名","フリガナ",null,null,null,null,null,null,null,null,null,"個人番号\n(マイナンバー)",null,null,null,null,null,null,null,"マイナンバーチェック結果"]
[null,null,null,null,null,null,null,null,null,null,null,null,null,null,null,null,null,null,null,{"$f":"IF(LEN($M25)=0,\"\",IF(ISERR($AS26),\"×\",$AS26))","v":""},{"$f":"IF(LEN($M25)=0,\"\",IF($Y26<>\"○\",$AU$9,IF($Z26<>\"○\",$AV$9,IF($AA26<>\"○\",$AW$9,IF($AB26<>\"○\",$AB26,IF($AC26<>\"○\",$AY$9,IF($AR26<>\"○\",$BN$9,\"\")))))))","v":""},{"$f":"IF(LEN($E26)=0,\"\",IF($U26<>\"○\",$AQ$1,IF($V26<>\"○\",$AR$1,IF($W26<>\"○\",$AS$1,IF($X26<>\"○\",$X26,IF($Y26<>\"○\",$AU$1,IF($AN26<>\"○\",$BJ$1,\"\")))))))","v":""},{"$f":"IF(LEN($E26)=0,\"\",IF($U26<>\"○\",$AQ$1,IF($V26<>\"○\",$AR$1,IF($W26<>\"○\",$AS$1,IF($X26<>\"○\",$X26,IF($Y26<>\"○\",$AU$1,IF($AN26<>\"○\",$BJ$1,\"\")))))))","v":""},null,{"$f":"IF(LEN($M25)=LEN(SUBSTITUTE(ASC($M25),\" \",\"\")),\"○\",\"×\")","v":"○"},{"$f":"IF(LEN($M25)=LENB($M25),\"○\",\"×\")","v":"○"},{"$f":"IF(ISNUMBER(VALUE($M25)),\"○\",\"×\")","v":"○"},{"$f":"IF(LEN($M25)=12,\"○\",IF(12-LEN($M25)>0,12-LEN($M25)&\"桁不足しています。調整してください。\",ABS(12-LEN($M25))&\"桁超過しています。調整してください。\"))","v":"12桁不足しています。調整してください。"},{"$f":"IF(COUNTIF($M$9:$M$100,$M25)=1,\"○\",\"×\")","v":"×"},null,{"$f":"MID($M25,12-($AE$9),1)*$BA$9","v":{"$error":"#VALUE!"}},{"$f":"MID($M25,12-($AF$9),1)*$BB$9","v":{"$error":"#VALUE!"}},{"$f":"MID($M25,12-($AG$9),1)*$BC$9","v":{"$error":"#VALUE!"}},{"$f":"MID($M25,12-($AH$9),1)*$BD$9","v":{"$error":"#VALUE!"}},{"$f":"MID($M25,12-($AI$9),1)*$BE$9","v":{"$error":"#VALUE!"}},{"$f":"MID($M25,12-($AJ$9),1)*$BF$9","v":{"$error":"#VALUE!"}},{"$f":"MID($M25,12-($AK$9),1)*$BG$9","v":{"$error":"#VALUE!"}},{"$f":"MID($M25,12-($AL$9),1)*$BH$9","v":{"$error":"#VALUE!"}},{"$f":"MID($M25,12-($AM$9),1)*$BI$9","v":{"$error":"#VALUE!"}},{"$f":"MID($M25,12-($AN$9),1)*$BJ$9","v":{"$error":"#VALUE!"}},{"$f":"MID($M25,12-($AO$9),1)*$BK$9","v":{"$error":"#VALUE!"}},{"$f":"MOD(SUM($AE26:$AO26),11)","v":{"$error":"#VALUE!"}},{"$f":"IF($AP26<=1,0,11-$AP26)","v":{"$error":"#VALUE!"}},{"$f":"IF(VALUE(RIGHT($M25,1))=$AQ26,\"○\",\"×\")","v":{"$error":"#VALUE!"}},{"$f":"IF(AND($Y26=\"○\",$Z26=\"○\",$AA26=\"○\",$AB26=\"○\",$AC26=\"○\",$AR26=\"○\"),\"○\",\"×\")","v":{"$error":"#VALUE!"}}]
[null,"（氏）",null,null,null,null,"（名）",null,null,null,null,"生年月日",{"$f":"IF(N28=\"\",\"\",\"（西暦　　\"&N28+$AB$7&\"　年）\")","v":""}]
[null,null,null,null,null,null,null,null,null,null,null,null,"平成",null,"年",null,"月",null,"日",null,null,null,null,null,{"$f":"IF(N28=\"\",\"\",N28+$AB$7)","v":""},{"$f":"IF(P28=\"\",\"\",TEXT(P28,\"dd\"))","v":""},{"$f":"IF(R28=\"\",\"\",TEXT(R28,\"dd\"))","v":""}]
[null,null,null,null,null,null,null,null,null,null,null,null,null,null,null,null,null,null,null,null,null,null,null,null,{"$f":"CONCATENATE(Y28,Z28,AA28)","v":""}]
["性別",null,null,null,"続柄",null,null,null,null,null,null,"収入の有無"]
["同居・別居",null,null,null,null,null,null,null,null,null,null,"備考",null,null,null,null,null,null,null,null,null,null,null,null,{"$f":"IF(N31=\"\",\"\",N31+$Z$8)","v":""},{"$f":"IF(P31=\"\",\"\",TEXT(P31,\"dd\"))","v":""},{"$f":"IF(R31=\"\",\"\",TEXT(R31,\"dd\"))","v":""}]
[null,null,null,null,null,null,null,null,null,null,null,null,null,null,null,null,null,null,null,null,null,null,null,null,{"$f":"CONCATENATE(Y31,Z31,AA31)","v":""}]
["※基礎年金番号\n（配偶者の場合）","（4桁）",null,null,null,null,"（6桁）"]
[null,null,null,null,null,"-"]
[]
["扶養家族氏名","フリガナ",null,null,null,null,null,null,null,null,null,"個人番号\n(マイナンバー)",null,null,null,null,null,null,null,"マイナンバーチェック結果"]
[null,null,null,null,null,null,null,null,null,null,null,null,null,null,null,null,null,null,null,{"$f":"IF(LEN($M36)=0,\"\",IF(ISERR($AS37),\"×\",$AS37))","v":""},{"$f":"IF(LEN($M36)=0,\"\",IF($Y37<>\"○\",$AU$9,IF($Z37<>\"○\",$AV$9,IF($AA37<>\"○\",$AW$9,IF($AB37<>\"○\",$AB37,IF($AC37<>\"○\",$AY$9,IF($AR37<>\"○\",$BN$9,\"\")))))))","v":""},{"$f":"IF(LEN($E37)=0,\"\",IF($U37<>\"○\",$AQ$1,IF($V37<>\"○\",$AR$1,IF($W37<>\"○\",$AS$1,IF($X37<>\"○\",$X37,IF($Y37<>\"○\",$AU$1,IF($AN37<>\"○\",$BJ$1,\"\")))))))","v":""},{"$f":"IF(LEN($E37)=0,\"\",IF($U37<>\"○\",$AQ$1,IF($V37<>\"○\",$AR$1,IF($W37<>\"○\",$AS$1,IF($X37<>\"○\",$X37,IF($Y37<>\"○\",$AU$1,IF($AN37<>\"○\",$BJ$1,\"\")))))))","v":""},null,{"$f":"IF(LEN($M36)=LEN(SUBSTITUTE(ASC($M36),\" \",\"\")),\"○\",\"×\")","v":"○"},{"$f":"IF(LEN($M36)=LENB($M36),\"○\",\"×\")","v":"○"},{"$f":"IF(ISNUMBER(VALUE($M36)),\"○\",\"×\")","v":"○"},{"$f":"IF(LEN($M36)=12,\"○\",IF(12-LEN($M36)>0,12-LEN($M36)&\"桁不足しています。調整してください。\",ABS(12-LEN($M36))&\"桁超過しています。調整してください。\"))","v":"12桁不足しています。調整してください。"},{"$f":"IF(COUNTIF($M$9:$M$100,$M36)=1,\"○\",\"×\")","v":"×"},null,{"$f":"MID($M36,12-($AE$9),1)*$BA$9","v":{"$error":"#VALUE!"}},{"$f":"MID($M36,12-($AF$9),1)*$BB$9","v":{"$error":"#VALUE!"}},{"$f":"MID($M36,12-($AG$9),1)*$BC$9","v":{"$error":"#VALUE!"}},{"$f":"MID($M36,12-($AH$9),1)*$BD$9","v":{"$error":"#VALUE!"}},{"$f":"MID($M36,12-($AI$9),1)*$BE$9","v":{"$error":"#VALUE!"}},{"$f":"MID($M36,12-($AJ$9),1)*$BF$9","v":{"$error":"#VALUE!"}},{"$f":"MID($M36,12-($AK$9),1)*$BG$9","v":{"$error":"#VALUE!"}},{"$f":"MID($M36,12-($AL$9),1)*$BH$9","v":{"$error":"#VALUE!"}},{"$f":"MID($M36,12-($AM$9),1)*$BI$9","v":{"$error":"#VALUE!"}},{"$f":"MID($M36,12-($AN$9),1)*$BJ$9","v":{"$error":"#VALUE!"}},{"$f":"MID($M36,12-($AO$9),1)*$BK$9","v":{"$error":"#VALUE!"}},{"$f":"MOD(SUM($AE37:$AO37),11)","v":{"$error":"#VALUE!"}},{"$f":"IF($AP37<=1,0,11-$AP37)","v":{"$error":"#VALUE!"}},{"$f":"IF(VALUE(RIGHT($M36,1))=$AQ37,\"○\",\"×\")","v":{"$error":"#VALUE!"}},{"$f":"IF(AND($Y37=\"○\",$Z37=\"○\",$AA37=\"○\",$AB37=\"○\",$AC37=\"○\",$AR37=\"○\"),\"○\",\"×\")","v":{"$error":"#VALUE!"}}]
[null,"（氏）",null,null,null,null,"（名）",null,null,null,null,"生年月日",{"$f":"IF(N39=\"\",\"\",\"（西暦　　\"&N39+$AC$7&\"　年）\")","v":""}]
[null,null,null,null,null,null,null,null,null,null,null,null,"平成",null,"年",null,"月",null,"日",null,null,null,null,null,{"$f":"IF(N39=\"\",\"\",N39+$AC$7)","v":""},{"$f":"IF(P39=\"\",\"\",TEXT(P39,\"dd\"))","v":""},{"$f":"IF(R39=\"\",\"\",TEXT(R39,\"dd\"))","v":""}]
[null,null,null,null,null,null,null,null,null,null,null,null,null,null,null,null,null,null,null,null,null,null,null,null,{"$f":"CONCATENATE(Y39,Z39,AA39)","v":""}]
["性別",null,null,null,"続柄",null,null,null,null,null,null,"収入の有無"]
["同居・別居",null,null,null,null,null,null,null,null,null,null,"備考",null,null,null,null,null,null,null,null,null,null,null,null,{"$f":"IF(N42=\"\",\"\",N42+$Z$8)","v":""},{"$f":"IF(P42=\"\",\"\",TEXT(P42,\"dd\"))","v":""},{"$f":"IF(R42=\"\",\"\",TEXT(R42,\"dd\"))","v":""}]
[null,null,null,null,null,null,null,null,null,null,null,null,null,null,null,null,null,null,null,null,null,null,null,null,{"$f":"CONCATENATE(Y42,Z42,AA42)","v":""}]
["※基礎年金番号\n（配偶者の場合）","（4桁）",null,null,null,null,"（6桁）"]
[null,null,null,null,null,"-"]
[]
["扶養家族氏名","フリガナ",null,null,null,null,null,null,null,null,null,"個人番号\n(マイナンバー)",null,null,null,null,null,null,null,"マイナンバーチェック結果"]
[null,null,null,null,null,null,null,null,null,null,null,null,null,null,null,null,null,null,null,{"$f":"IF(LEN($M47)=0,\"\",IF(ISERR($AS48),\"×\",$AS48))","v":""},{"$f":"IF(LEN($M47)=0,\"\",IF($Y48<>\"○\",$AU$9,IF($Z48<>\"○\",$AV$9,IF($AA48<>\"○\",$AW$9,IF($AB48<>\"○\",$AB48,IF($AC48<>\"○\",$AY$9,IF($AR48<>\"○\",$BN$9,\"\")))))))","v":""},{"$f":"IF(LEN($E48)=0,\"\",IF($U48<>\"○\",$AQ$1,IF($V48<>\"○\",$AR$1,IF($W48<>\"○\",$AS$1,IF($X48<>\"○\",$X48,IF($Y48<>\"○\",$AU$1,IF($AN48<>\"○\",$BJ$1,\"\")))))))","v":""},{"$f":"IF(LEN($E48)=0,\"\",IF($U48<>\"○\",$AQ$1,IF($V48<>\"○\",$AR$1,IF($W48<>\"○\",$AS$1,IF($X48<>\"○\",$X48,IF($Y48<>\"○\",$AU$1,IF($AN48<>\"○\",$BJ$1,\"\")))))))","v":""},null,{"$f":"IF(LEN($M47)=LEN(SUBSTITUTE(ASC($M47),\" \",\"\")),\"○\",\"×\")","v":"○"},{"$f":"IF(LEN($M47)=LENB($M47),\"○\",\"×\")","v":"○"},{"$f":"IF(ISNUMBER(VALUE($M47)),\"○\",\"×\")","v":"○"},{"$f":"IF(LEN($M47)=12,\"○\",IF(12-LEN($M47)>0,12-LEN($M47)&\"桁不足しています。調整してください。\",ABS(12-LEN($M47))&\"桁超過しています。調整してください。\"))","v":"12桁不足しています。調整してください。"},{"$f":"IF(COUNTIF($M$9:$M$100,$M47)=1,\"○\",\"×\")","v":"×"},null,{"$f":"MID($M47,12-($AE$9),1)*$BA$9","v":{"$error":"#VALUE!"}},{"$f":"MID($M47,12-($AF$9),1)*$BB$9","v":{"$error":"#VALUE!"}},{"$f":"MID($M47,12-($AG$9),1)*$BC$9","v":{"$error":"#VALUE!"}},{"$f":"MID($M47,12-($AH$9),1)*$BD$9","v":{"$error":"#VALUE!"}},{"$f":"MID($M47,12-($AI$9),1)*$BE$9","v":{"$error":"#VALUE!"}},{"$f":"MID($M47,12-($AJ$9),1)*$BF$9","v":{"$error":"#VALUE!"}},{"$f":"MID($M47,12-($AK$9),1)*$BG$9","v":{"$error":"#VALUE!"}},{"$f":"MID($M47,12-($AL$9),1)*$BH$9","v":{"$error":"#VALUE!"}},{"$f":"MID($M47,12-($AM$9),1)*$BI$9","v":{"$error":"#VALUE!"}},{"$f":"MID($M47,12-($AN$9),1)*$BJ$9","v":{"$error":"#VALUE!"}},{"$f":"MID($M47,12-($AO$9),1)*$BK$9","v":{"$error":"#VALUE!"}},{"$f":"MOD(SUM($AE48:$AO48),11)","v":{"$error":"#VALUE!"}},{"$f":"IF($AP48<=1,0,11-$AP48)","v":{"$error":"#VALUE!"}},{"$f":"IF(VALUE(RIGHT($M47,1))=$AQ48,\"○\",\"×\")","v":{"$error":"#VALUE!"}},{"$f":"IF(AND($Y48=\"○\",$Z48=\"○\",$AA48=\"○\",$AB48=\"○\",$AC48=\"○\",$AR48=\"○\"),\"○\",\"×\")","v":{"$error":"#VALUE!"}}]
[null,"（氏）",null,null,null,null,"（名）",null,null,null,null,"生年月日",{"$f":"IF(N50=\"\",\"\",\"（西暦　　\"&N50+$AD$7&\"　年）\")","v":""}]
[null,null,null,null,null,null,null,null,null,null,null,null,"平成",null,"年",null,"月",null,"日",null,null,null,null,null,{"$f":"IF(N50=\"\",\"\",N50+$AD$7)","v":""},{"$f":"IF(P50=\"\",\"\",TEXT(P50,\"dd\"))","v":""},{"$f":"IF(R50=\"\",\"\",TEXT(R50,\"dd\"))","v":""}]
[null,null,null,null,null,null,null,null,null,null,null,null,null,null,null,null,null,null,null,null,null,null,null,null,{"$f":"CONCATENATE(Y50,Z50,AA50)","v":""}]
["性別",null,null,null,"続柄",null,null,null,null,null,null,"収入の有無"]
["同居・別居",null,null,null,null,null,null,null,null,null,null,"備考",null,null,null,null,null,null,null,null,null,null,null,null,{"$f":"IF(N53=\"\",\"\",N53+$Z$8)","v":""},{"$f":"IF(P53=\"\",\"\",TEXT(P53,\"dd\"))","v":""},{"$f":"IF(R53=\"\",\"\",TEXT(R53,\"dd\"))","v":""}]
[null,null,null,null,null,null,null,null,null,null,null,null,null,null,null,null,null,null,null,null,null,null,null,null,{"$f":"CONCATENATE(Y53,Z53,AA53)","v":""}]
["※基礎年金番号\n（配偶者の場合）","（4桁）",null,null,null,null,"（6桁）"]
[null,null,null,null,null,"-"]
[]
["扶養家族氏名","フリガナ",null,null,null,null,null,null,null,null,null,"個人番号\n(マイナンバー)",null,null,null,null,null,null,null,"マイナンバーチェック結果"]
[null,null,null,null,null,null,null,null,null,null,null,null,null,null,null,null,null,null,null,{"$f":"IF(LEN($M58)=0,\"\",IF(ISERR($AS59),\"×\",$AS59))","v":""},{"$f":"IF(LEN($M58)=0,\"\",IF($Y59<>\"○\",$AU$9,IF($Z59<>\"○\",$AV$9,IF($AA59<>\"○\",$AW$9,IF($AB59<>\"○\",$AB59,IF($AC59<>\"○\",$AY$9,IF($AR59<>\"○\",$BN$9,\"\")))))))","v":""},{"$f":"IF(LEN($E59)=0,\"\",IF($U59<>\"○\",$AQ$1,IF($V59<>\"○\",$AR$1,IF($W59<>\"○\",$AS$1,IF($X59<>\"○\",$X59,IF($Y59<>\"○\",$AU$1,IF($AN59<>\"○\",$BJ$1,\"\")))))))","v":""},{"$f":"IF(LEN($E59)=0,\"\",IF($U59<>\"○\",$AQ$1,IF($V59<>\"○\",$AR$1,IF($W59<>\"○\",$AS$1,IF($X59<>\"○\",$X59,IF($Y59<>\"○\",$AU$1,IF($AN59<>\"○\",$BJ$1,\"\")))))))","v":""},null,{"$f":"IF(LEN($M58)=LEN(SUBSTITUTE(ASC($M58),\" \",\"\")),\"○\",\"×\")","v":"○"},{"$f":"IF(LEN($M58)=LENB($M58),\"○\",\"×\")","v":"○"},{"$f":"IF(ISNUMBER(VALUE($M58)),\"○\",\"×\")","v":"○"},{"$f":"IF(LEN($M58)=12,\"○\",IF(12-LEN($M58)>0,12-LEN($M58)&\"桁不足しています。調整してください。\",ABS(12-LEN($M58))&\"桁超過しています。調整してください。\"))","v":"12桁不足しています。調整してください。"},{"$f":"IF(COUNTIF($M$9:$M$100,$M58)=1,\"○\",\"×\")","v":"×"},null,{"$f":"MID($M58,12-($AE$9),1)*$BA$9","v":{"$error":"#VALUE!"}},{"$f":"MID($M58,12-($AF$9),1)*$BB$9","v":{"$error":"#VALUE!"}},{"$f":"MID($M58,12-($AG$9),1)*$BC$9","v":{"$error":"#VALUE!"}},{"$f":"MID($M58,12-($AH$9),1)*$BD$9","v":{"$error":"#VALUE!"}},{"$f":"MID($M58,12-($AI$9),1)*$BE$9","v":{"$error":"#VALUE!"}},{"$f":"MID($M58,12-($AJ$9),1)*$BF$9","v":{"$error":"#VALUE!"}},{"$f":"MID($M58,12-($AK$9),1)*$BG$9","v":{"$error":"#VALUE!"}},{"$f":"MID($M58,12-($AL$9),1)*$BH$9","v":{"$error":"#VALUE!"}},{"$f":"MID($M58,12-($AM$9),1)*$BI$9","v":{"$error":"#VALUE!"}},{"$f":"MID($M58,12-($AN$9),1)*$BJ$9","v":{"$error":"#VALUE!"}},{"$f":"MID($M58,12-($AO$9),1)*$BK$9","v":{"$error":"#VALUE!"}},{"$f":"MOD(SUM($AE59:$AO59),11)","v":{"$error":"#VALUE!"}},{"$f":"IF($AP59<=1,0,11-$AP59)","v":{"$error":"#VALUE!"}},{"$f":"IF(VALUE(RIGHT($M58,1))=$AQ59,\"○\",\"×\")","v":{"$error":"#VALUE!"}},{"$f":"IF(AND($Y59=\"○\",$Z59=\"○\",$AA59=\"○\",$AB59=\"○\",$AC59=\"○\",$AR59=\"○\"),\"○\",\"×\")","v":{"$error":"#VALUE!"}}]
[null,"（氏）",null,null,null,null,"（名）",null,null,null,null,"生年月日",{"$f":"IF(N61=\"\",\"\",\"（西暦　　\"&N61+$AE$7&\"　年）\")","v":""}]
[null,null,null,null,null,null,null,null,null,null,null,null,"昭和",null,"年",null,"月",null,"日",null,null,null,null,null,{"$f":"IF(N61=\"\",\"\",N61+$AE$7)","v":""},{"$f":"IF(P61=\"\",\"\",TEXT(P61,\"dd\"))","v":""},{"$f":"IF(R61=\"\",\"\",TEXT(R61,\"dd\"))","v":""}]
[null,null,null,null,null,null,null,null,null,null,null,null,null,null,null,null,null,null,null,null,null,null,null,null,{"$f":"CONCATENATE(Y61,Z61,AA61)","v":""}]
["性別",null,null,null,"続柄",null,null,null,null,null,null,"収入の有無"]
["同居・別居",null,null,null,null,null,null,null,null,null,null,"備考",null,null,null,null,null,null,null,null,null,null,null,null,{"$f":"IF(N64=\"\",\"\",N64+$Z$8)","v":""},{"$f":"IF(P64=\"\",\"\",TEXT(P64,\"dd\"))","v":""},{"$f":"IF(R64=\"\",\"\",TEXT(R64,\"dd\"))","v":""}]
[null,null,null,null,null,null,null,null,null,null,null,null,null,null,null,null,null,null,null,null,null,null,null,null,{"$f":"CONCATENATE(Y64,Z64,AA64)","v":""}]
["※基礎年金番号\n（配偶者の場合）","（4桁）",null,null,null,null,"（6桁）"]
[null,null,null,null,null,"-"]

{"sheet":"取得手続連絡 (9)","index":12,"n_rows":67,"n_cols":66,"rows_kept":67,"cut":false,"hidden":false,"merged":[[0,0,0,18],[2,0,2,18],[4,2,5,4],[4,5,5,14],[7,12,7,18],[8,0,12,0],[8,1,8,5],[8,6,8,10],[8,11,9,11],[8,12,9,18],[8,19,8,22],[9,1,9,5],[9,6,9,10],[9,20,9,22],[10,1,10,5],[10,6,10,10],[10,11,12,11],[10,12,10,14],[11,1,12,5],[11,6,12,10],[11,18,12,18],[13,1,13,2],[13,4,13,5],[13,6,13,8],[13,9,13,10],[13,14,13,15],[13,17,13,18],[11,12,12,12],[11,13,12,13],[11,14,12,14],[11,15,12,15],[11,16,12,16],[11,17,12,17],[14,16,15,16],[14,17,15,17],[14,18,15,18],[15,1,15,10],[16,1,16,10],[16,11,17,11],[16,12,17,16],[16,17,17,18],[17,1,17,10],[14,1,14,10],[14,11,15,11],[14,12,15,12],[14,13,15,13],[14,14,15,14],[14,15,15,15],[20,0,21,0],[20,1,20,3],[20,5,20,8],[20,11,21,11],[20,12,21,18],[21,1,21,3],[21,5,21,8],[18,0,19,0],[18,1,18,4],[18,6,18,10],[18,11,19,11],[18,12,19,18],[19,1,19,4],[19,6,19,10],[24,0,28,0],[24,1,24,5],[24,6,24,10],[24,11,25,11],[24,12,25,18],[24,19,24,22],[25,1,25,5],[25,6,25,10],[25,20,25,22],[26,1,26,5],[27,15,28,15],[27,16,28,16],[27,17,28,17],[27,18,28,18],[29,1,29,3],[29,4,29,5],[29,6,29,10],[29,12,29,18],[26,6,26,10],[26,11,28,11],[26,12,26,14],[27,1,28,5],[27,6,28,10],[27,12,28,12],[27,13,28,13],[27,14,28,14],[32,0,33,0],[32,1,32,4],[32,6,32,10],[33,1,33,4],[30,0,31,0],[30,1,31,10],[33,6,33,10],[30,11,33,11],[30,12,33,18],[35,0,39,0],[35,1,35,5],[35,6,35,10],[35,11,36,11],[35,12,36,18],[38,12,39,12],[38,13,39,13],[38,14,39,14],[38,15,39,15],[38,16,39,16],[38,17,39,17],[38,18,39,18],[40,1,40,3],[40,4,40,5],[40,6,40,10],[40,12,40,18],[35,19,35,22],[36,1,36,5],[36,6,36,10],[36,20,36,22],[37,1,37,5],[37,6,37,10],[37,11,39,11],[37,12,37,14],[38,1,39,5],[38,6,39,10],[43,0,44,0],[43,1,43,4],[43,6,43,10],[44,1,44,4],[41,0,42,0],[41,1,42,10],[44,6,44,10],[41,11,44,11],[41,12,44,18],[46,0,50,0],[46,1,46,5],[46,6,46,10],[46,11,47,11],[46,12,47,18],[49,12,50,12],[49,13,50,13],[49,14,50,14],[49,15,50,15],[49,16,50,16],[49,17,50,17],[49,18,50,18],[51,1,51,3],[51,4,51,5],[51,6,51,10],[51,12,51,18],[46,19,46,22],[47,1,47,5],[47,6,47,10],[47,20,47,22],[48,1,48,5],[48,6,48,10],[48,11,50,11],[48,12,48,14],[49,1,50,5],[49,6,50,10],[54,0,55,0],[54,1,54,4],[54,6,54,10],[55,1,55,4],[52,0,53,0],[52,1,53,10],[55,6,55,10],[52,11,55,11],[52,12,55,18],[57,0,61,0],[57,1,57,5],[57,6,57,10],[57,11,58,11],[57,12,58,18],[60,12,61,12],[60,13,61,13],[60,14,61,14],[60,15,61,15],[60,16,61,16],[60,17,61,17],[60,18,61,18],[62,1,62,3],[62,4,62,5],[62,6,62,10],[62,12,62,18],[57,19,57,22],[58,1,58,5],[58,6,58,10],[58,20,58,22],[59,1,59,5],[59,6,59,10],[59,11,61,11],[59,12,59,14],[60,1,61,5],[60,6,61,10],[66,6,66,10],[65,0,66,0],[65,1,65,4],[65,6,65,10],[66,1,66,4],[63,0,64,0],[63,1,64,10],[63,11,66,11],[63,12,66,18]]}
["【資格取得手続きに必要な事項】",null,null,null,null,null,null,null,null,null,null,null,null,null,null,null,null,null,null,null,null,null,null,null,null,"有り","同居"]
["★入社する方がいる時は、下記事項をご記入の上、ご連絡下さい。",null,null,null,null,null,null,null,null,null,null,null,null,null,null,null,null,null,null,null,null,null,null,null,null,"無し","別居"]
["※基礎年金番号をもっていない方・確認できない方\n⇒現在の住所と住民票上の住所が違う場合、必ず住民票上の住所を備考欄に記載してください。",null,null,null,null,null,null,null,null,null,null,null,null,null,null,null,null,null,null,null,null,null,null,null,null,"男"]
[null,null,null,null,null,null,null,null,null,null,null,null,null,null,null,null,null,null,null,null,null,null,null,null,null,"女"]
[null,null,"会社名",null,null,{"$f":"IF(取得手続連絡!$F$5=\"\",\"\",取得手続連絡!$F$5)","v":""}]
[null,null,null,null,null,null,null,null,null,null,null,null,null,null,null,null,null,null,null,null,null,null,null,null,null,null,"本人","扶養１","扶養２","扶養３","扶養４"]
[null,null,null,null,null,null,null,null,null,null,null,null,null,null,null,null,null,null,null,null,null,null,null,null,"昭和",1925,{"$f":"VLOOKUP(M12,$Y$7:$Z$8,2,FALSE)","v":1988},{"$f":"VLOOKUP(M28,$Y$7:$Z$8,2,FALSE)","v":1988},{"$f":"VLOOKUP(M39,$Y$7:$Z$8,2,FALSE)","v":1988},{"$f":"VLOOKUP(M50,$Y$7:$Z$8,2,FALSE)","v":1988},{"$f":"VLOOKUP(M61,$Y$7:$Z$8,2,FALSE)","v":1925}]
[null,null,null,null,null,null,null,null,null,null,null,null,"依頼日：平成○○年○○月○○日",null,null,null,null,null,null,null,null,null,null,null,"平成",1988]
["取得者氏名","ﾌﾘｶﾞﾅ",null,null,null,null,null,null,null,null,null,"個人番号\n(マイナンバー)",null,null,null,null,null,null,null,"マイナンバーチェック結果",null,null,null,null,"①空白チェック","②全角半角チェック","③数値チェック","④桁数チェック","⑤重複チェック","n⇒",1,2,3,4,5,6,7,8,9,10,11,"11で割った余り","11-[AB列の値]","⑥チェックデジット","マイナンバーチェック",null,"空白文字が入っています。削除してください。","半角数字で入力してください。","半角数字で入力してください。",null,"重複があります。ご確認ください。","Q_n⇒",2,3,4,5,6,7,2,3,4,5,6,null,null,"入力ミスがあります。通知カードと見比べてください。"]
[null,null,null,null,null,null,null,null,null,null,null,null,null,null,null,null,null,null,null,{"$f":"IF(LEN($M9)=0,\"\",IF(ISERR($AS10),\"×\",$AS10))","v":""},{"$f":"IF(LEN($M9)=0,\"\",IF($Y10<>\"○\",$AU$9,IF($Z10<>\"○\",$AV$9,IF($AA10<>\"○\",$AW$9,IF($AB10<>\"○\",$AB10,IF($AC10<>\"○\",$AY$9,IF($AR10<>\"○\",$BN$9,\"\")))))))","v":""},{"$f":"IF(LEN($E10)=0,\"\",IF($U10<>\"○\",$AQ$1,IF($V10<>\"○\",$AR$1,IF($W10<>\"○\",$AS$1,IF($X10<>\"○\",$X10,IF($Y10<>\"○\",$AU$1,IF($AN10<>\"○\",$BJ$1,\"\")))))))","v":""},{"$f":"IF(LEN($E10)=0,\"\",IF($U10<>\"○\",$AQ$1,IF($V10<>\"○\",$AR$1,IF($W10<>\"○\",$AS$1,IF($X10<>\"○\",$X10,IF($Y10<>\"○\",$AU$1,IF($AN10<>\"○\",$BJ$1,\"\")))))))","v":""},null,{"$f":"IF(LEN($M9)=LEN(SUBSTITUTE(ASC($M9),\" \",\"\")),\"○\",\"×\")","v":"○"},{"$f":"IF(LEN($M9)=LENB($M9),\"○\",\"×\")","v":"○"},{"$f":"IF(ISNUMBER(VALUE($M9)),\"○\",\"×\")","v":"○"},{"$f":"IF(LEN($M9)=12,\"○\",IF(12-LEN($M9)>0,12-LEN($M9)&\"桁不足しています。調整してください。\",ABS(12-LEN($M9))&\"桁超過しています。調整してください。\"))","v":"12桁不足しています。調整してください。"},{"$f":"IF(COUNTIF($M$9:$M$100,$M9)=1,\"○\",\"×\")","v":"×"},null,{"$f":"MID($M9,12-($AE$9),1)*$BA$9","v":{"$error":"#VALUE!"}},{"$f":"MID($M9,12-($AF$9),1)*$BB$9","v":{"$error":"#VALUE!"}},{"$f":"MID($M9,12-($AG$9),1)*$BC$9","v":{"$error":"#VALUE!"}},{"$f":"MID($M9,12-($AH$9),1)*$BD$9","v":{"$error":"#VALUE!"}},{"$f":"MID($M9,12-($AI$9),1)*$BE$9","v":{"$error":"#VALUE!"}},{"$f":"MID($M9,12-($AJ$9),1)*$BF$9","v":{"$error":"#VALUE!"}},{"$f":"MID($M9,12-($AK$9),1)*$BG$9","v":{"$error":"#VALUE!"}},{"$f":"MID($M9,12-($AL$9),1)*$BH$9","v":{"$error":"#VALUE!"}},{"$f":"MID($M9,12-($AM$9),1)*$BI$9","v":{"$error":"#VALUE!"}},{"$f":"MID($M9,12-($AN$9),1)*$BJ$9","v":{"$error":"#VALUE!"}},{"$f":"MID($M9,12-($AO$9),1)*$BK$9","v":{"$error":"#VALUE!"}},{"$f":"MOD(SUM($AE10:$AO10),11)","v":{"$error":"#VALUE!"}},{"$f":"IF($AP10<=1,0,11-$AP10)","v":{"$error":"#VALUE!"}},{"$f":"IF(VALUE(RIGHT($M9,1))=$AQ10,\"○\",\"×\")","v":{"$error":"#VALUE!"}},{"$f":"IF(AND($Y10=\"○\",$Z10=\"○\",$AA10=\"○\",$AB10=\"○\",$AC10=\"○\",$AR10=\"○\"),\"○\",\"×\")","v":{"$error":"#VALUE!"}}]
[null,"（氏）",null,null,null,null,"（名）",null,null,null,null,"生年月日",{"$f":"IF(N12=\"\",\"\",\"（西暦　　\"&$N$12+$AA$7&\"　年）\")","v":""}]
[null,null,null,null,null,null,null,null,null,null,null,null,"平成",null,"年",null,"月",null,"日",null,null,null,null,null,{"$f":"IF(N12=\"\",\"\",N12+$AA$7)","v":""},{"$f":"IF(P12=\"\",\"\",TEXT(P12,\"dd\"))","v":""},{"$f":"IF(R12=\"\",\"\",TEXT(R12,\"dd\"))","v":""}]
[null,null,null,null,null,null,null,null,null,null,null,null,null,null,null,null,null,null,null,null,null,null,null,null,{"$f":"CONCATENATE(Y12,Z12,AA12)","v":""}]
["郵便番号",null,null,"-",null,null,"性別",null,null,null,null,"電話番号",null,"-",null,null,"-",null,null,"※電話番号は空欄でも可能です"]
["ﾌﾘｶﾞﾅ",null,null,null,null,null,null,null,null,null,null,"加入年月日\n(入社年月日)","平成",null,"年",null,"月",null,"日",null,null,null,null,null,{"$f":"IF(N15=\"\",\"\",N15+$Z$8)","v":""},{"$f":"IF(P15=\"\",\"\",TEXT(P15,\"dd\"))","v":""},{"$f":"IF(R15=\"\",\"\",TEXT(R15,\"dd\"))","v":""}]
["住所１\n(都道府県名から)",null,null,null,null,null,null,null,null,null,null,null,null,null,null,null,null,null,null,null,null,null,null,null,{"$f":"CONCATENATE(Y15,Z15,AA15)","v":""}]
["ﾌﾘｶﾞﾅ",null,null,null,null,null,null,null,null,null,null,"給料\n（交通費、残業代含む）",null,null,null,null,null,"円"]
["住所２\n(アパート名等)"]
["基礎年金番号","（4桁）",null,null,null,null,"（6桁）",null,null,null,null,"扶養家族の有無"]
[null,null,null,null,null,"-"]
["雇用保険番号\n（分からない場合、履歴書添付）","（4桁）",null,null,null,"（6桁）",null,null,null,null,"（1桁）","備考"]
[null,null,null,null,"-",null,null,null,null,"-"]
[]
["★扶養家族がいるときは、ご記入下さい。"]
["扶養家族氏名","フリガナ",null,null,null,null,null,null,null,null,null,"個人番号\n(マイナンバー)",null,null,null,null,null,null,null,"マイナンバーチェック結果"]
[null,null,null,null,null,null,null,null,null,null,null,null,null,null,null,null,null,null,null,{"$f":"IF(LEN($M25)=0,\"\",IF(ISERR($AS26),\"×\",$AS26))","v":""},{"$f":"IF(LEN($M25)=0,\"\",IF($Y26<>\"○\",$AU$9,IF($Z26<>\"○\",$AV$9,IF($AA26<>\"○\",$AW$9,IF($AB26<>\"○\",$AB26,IF($AC26<>\"○\",$AY$9,IF($AR26<>\"○\",$BN$9,\"\")))))))","v":""},{"$f":"IF(LEN($E26)=0,\"\",IF($U26<>\"○\",$AQ$1,IF($V26<>\"○\",$AR$1,IF($W26<>\"○\",$AS$1,IF($X26<>\"○\",$X26,IF($Y26<>\"○\",$AU$1,IF($AN26<>\"○\",$BJ$1,\"\")))))))","v":""},{"$f":"IF(LEN($E26)=0,\"\",IF($U26<>\"○\",$AQ$1,IF($V26<>\"○\",$AR$1,IF($W26<>\"○\",$AS$1,IF($X26<>\"○\",$X26,IF($Y26<>\"○\",$AU$1,IF($AN26<>\"○\",$BJ$1,\"\")))))))","v":""},null,{"$f":"IF(LEN($M25)=LEN(SUBSTITUTE(ASC($M25),\" \",\"\")),\"○\",\"×\")","v":"○"},{"$f":"IF(LEN($M25)=LENB($M25),\"○\",\"×\")","v":"○"},{"$f":"IF(ISNUMBER(VALUE($M25)),\"○\",\"×\")","v":"○"},{"$f":"IF(LEN($M25)=12,\"○\",IF(12-LEN($M25)>0,12-LEN($M25)&\"桁不足しています。調整してください。\",ABS(12-LEN($M25))&\"桁超過しています。調整してください。\"))","v":"12桁不足しています。調整してください。"},{"$f":"IF(COUNTIF($M$9:$M$100,$M25)=1,\"○\",\"×\")","v":"×"},null,{"$f":"MID($M25,12-($AE$9),1)*$BA$9","v":{"$error":"#VALUE!"}},{"$f":"MID($M25,12-($AF$9),1)*$BB$9","v":{"$error":"#VALUE!"}},{"$f":"MID($M25,12-($AG$9),1)*$BC$9","v":{"$error":"#VALUE!"}},{"$f":"MID($M25,12-($AH$9),1)*$BD$9","v":{"$error":"#VALUE!"}},{"$f":"MID($M25,12-($AI$9),1)*$BE$9","v":{"$error":"#VALUE!"}},{"$f":"MID($M25,12-($AJ$9),1)*$BF$9","v":{"$error":"#VALUE!"}},{"$f":"MID($M25,12-($AK$9),1)*$BG$9","v":{"$error":"#VALUE!"}},{"$f":"MID($M25,12-($AL$9),1)*$BH$9","v":{"$error":"#VALUE!"}},{"$f":"MID($M25,12-($AM$9),1)*$BI$9","v":{"$error":"#VALUE!"}},{"$f":"MID($M25,12-($AN$9),1)*$BJ$9","v":{"$error":"#VALUE!"}},{"$f":"MID($M25,12-($AO$9),1)*$BK$9","v":{"$error":"#VALUE!"}},{"$f":"MOD(SUM($AE26:$AO26),11)","v":{"$error":"#VALUE!"}},{"$f":"IF($AP26<=1,0,11-$AP26)","v":{"$error":"#VALUE!"}},{"$f":"IF(VALUE(RIGHT($M25,1))=$AQ26,\"○\",\"×\")","v":{"$error":"#VALUE!"}},{"$f":"IF(AND($Y26=\"○\",$Z26=\"○\",$AA26=\"○\",$AB26=\"○\",$AC26=\"○\",$AR26=\"○\"),\"○\",\"×\")","v":{"$error":"#VALUE!"}}]
[null,"（氏）",null,null,null,null,"（名）",null,null,null,null,"生年月日",{"$f":"IF(N28=\"\",\"\",\"（西暦　　\"&N28+$AB$7&\"　年）\")","v":""}]
[null,null,null,null,null,null,null,null,null,null,null,null,"平成",null,"年",null,"月",null,"日",null,null,null,null,null,{"$f":"IF(N28=\"\",\"\",N28+$AB$7)","v":""},{"$f":"IF(P28=\"\",\"\",TEXT(P28,\"dd\"))","v":""},{"$f":"IF(R28=\"\",\"\",TEXT(R28,\"dd\"))","v":""}]
[null,null,null,null,null,null,null,null,null,null,null,null,null,null,null,null,null,null,null,null,null,null,null,null,{"$f":"CONCATENATE(Y28,Z28,AA28)","v":""}]
["性別",null,null,null,"続柄",null,null,null,null,null,null,"収入の有無"]
["同居・別居",null,null,null,null,null,null,null,null,null,null,"備考",null,null,null,null,null,null,null,null,null,null,null,null,{"$f":"IF(N31=\"\",\"\",N31+$Z$8)","v":""},{"$f":"IF(P31=\"\",\"\",TEXT(P31,\"dd\"))","v":""},{"$f":"IF(R31=\"\",\"\",TEXT(R31,\"dd\"))","v":""}]
[null,null,null,null,null,null,null,null,null,null,null,null,null,null,null,null,null,null,null,null,null,null,null,null,{"$f":"CONCATENATE(Y31,Z31,AA31)","v":""}]
["※基礎年金番号\n（配偶者の場合）","（4桁）",null,null,null,null,"（6桁）"]
[null,null,null,null,null,"-"]
[]
["扶養家族氏名","フリガナ",null,null,null,null,null,null,null,null,null,"個人番号\n(マイナンバー)",null,null,null,null,null,null,null,"マイナンバーチェック結果"]
[null,null,null,null,null,null,null,null,null,null,null,null,null,null,null,null,null,null,null,{"$f":"IF(LEN($M36)=0,\"\",IF(ISERR($AS37),\"×\",$AS37))","v":""},{"$f":"IF(LEN($M36)=0,\"\",IF($Y37<>\"○\",$AU$9,IF($Z37<>\"○\",$AV$9,IF($AA37<>\"○\",$AW$9,IF($AB37<>\"○\",$AB37,IF($AC37<>\"○\",$AY$9,IF($AR37<>\"○\",$BN$9,\"\")))))))","v":""},{"$f":"IF(LEN($E37)=0,\"\",IF($U37<>\"○\",$AQ$1,IF($V37<>\"○\",$AR$1,IF($W37<>\"○\",$AS$1,IF($X37<>\"○\",$X37,IF($Y37<>\"○\",$AU$1,IF($AN37<>\"○\",$BJ$1,\"\")))))))","v":""},{"$f":"IF(LEN($E37)=0,\"\",IF($U37<>\"○\",$AQ$1,IF($V37<>\"○\",$AR$1,IF($W37<>\"○\",$AS$1,IF($X37<>\"○\",$X37,IF($Y37<>\"○\",$AU$1,IF($AN37<>\"○\",$BJ$1,\"\")))))))","v":""},null,{"$f":"IF(LEN($M36)=LEN(SUBSTITUTE(ASC($M36),\" \",\"\")),\"○\",\"×\")","v":"○"},{"$f":"IF(LEN($M36)=LENB($M36),\"○\",\"×\")","v":"○"},{"$f":"IF(ISNUMBER(VALUE($M36)),\"○\",\"×\")","v":"○"},{"$f":"IF(LEN($M36)=12,\"○\",IF(12-LEN($M36)>0,12-LEN($M36)&\"桁不足しています。調整してください。\",ABS(12-LEN($M36))&\"桁超過しています。調整してください。\"))","v":"12桁不足しています。調整してください。"},{"$f":"IF(COUNTIF($M$9:$M$100,$M36)=1,\"○\",\"×\")","v":"×"},null,{"$f":"MID($M36,12-($AE$9),1)*$BA$9","v":{"$error":"#VALUE!"}},{"$f":"MID($M36,12-($AF$9),1)*$BB$9","v":{"$error":"#VALUE!"}},{"$f":"MID($M36,12-($AG$9),1)*$BC$9","v":{"$error":"#VALUE!"}},{"$f":"MID($M36,12-($AH$9),1)*$BD$9","v":{"$error":"#VALUE!"}},{"$f":"MID($M36,12-($AI$9),1)*$BE$9","v":{"$error":"#VALUE!"}},{"$f":"MID($M36,12-($AJ$9),1)*$BF$9","v":{"$error":"#VALUE!"}},{"$f":"MID($M36,12-($AK$9),1)*$BG$9","v":{"$error":"#VALUE!"}},{"$f":"MID($M36,12-($AL$9),1)*$BH$9","v":{"$error":"#VALUE!"}},{"$f":"MID($M36,12-($AM$9),1)*$BI$9","v":{"$error":"#VALUE!"}},{"$f":"MID($M36,12-($AN$9),1)*$BJ$9","v":{"$error":"#VALUE!"}},{"$f":"MID($M36,12-($AO$9),1)*$BK$9","v":{"$error":"#VALUE!"}},{"$f":"MOD(SUM($AE37:$AO37),11)","v":{"$error":"#VALUE!"}},{"$f":"IF($AP37<=1,0,11-$AP37)","v":{"$error":"#VALUE!"}},{"$f":"IF(VALUE(RIGHT($M36,1))=$AQ37,\"○\",\"×\")","v":{"$error":"#VALUE!"}},{"$f":"IF(AND($Y37=\"○\",$Z37=\"○\",$AA37=\"○\",$AB37=\"○\",$AC37=\"○\",$AR37=\"○\"),\"○\",\"×\")","v":{"$error":"#VALUE!"}}]
[null,"（氏）",null,null,null,null,"（名）",null,null,null,null,"生年月日",{"$f":"IF(N39=\"\",\"\",\"（西暦　　\"&N39+$AC$7&\"　年）\")","v":""}]
[null,null,null,null,null,null,null,null,null,null,null,null,"平成",null,"年",null,"月",null,"日",null,null,null,null,null,{"$f":"IF(N39=\"\",\"\",N39+$AC$7)","v":""},{"$f":"IF(P39=\"\",\"\",TEXT(P39,\"dd\"))","v":""},{"$f":"IF(R39=\"\",\"\",TEXT(R39,\"dd\"))","v":""}]
[null,null,null,null,null,null,null,null,null,null,null,null,null,null,null,null,null,null,null,null,null,null,null,null,{"$f":"CONCATENATE(Y39,Z39,AA39)","v":""}]
["性別",null,null,null,"続柄",null,null,null,null,null,null,"収入の有無"]
["同居・別居",null,null,null,null,null,null,null,null,null,null,"備考",null,null,null,null,null,null,null,null,null,null,null,null,{"$f":"IF(N42=\"\",\"\",N42+$Z$8)","v":""},{"$f":"IF(P42=\"\",\"\",TEXT(P42,\"dd\"))","v":""},{"$f":"IF(R42=\"\",\"\",TEXT(R42,\"dd\"))","v":""}]
[null,null,null,null,null,null,null,null,null,null,null,null,null,null,null,null,null,null,null,null,null,null,null,null,{"$f":"CONCATENATE(Y42,Z42,AA42)","v":""}]
["※基礎年金番号\n（配偶者の場合）","（4桁）",null,null,null,null,"（6桁）"]
[null,null,null,null,null,"-"]
[]
["扶養家族氏名","フリガナ",null,null,null,null,null,null,null,null,null,"個人番号\n(マイナンバー)",null,null,null,null,null,null,null,"マイナンバーチェック結果"]
[null,null,null,null,null,null,null,null,null,null,null,null,null,null,null,null,null,null,null,{"$f":"IF(LEN($M47)=0,\"\",IF(ISERR($AS48),\"×\",$AS48))","v":""},{"$f":"IF(LEN($M47)=0,\"\",IF($Y48<>\"○\",$AU$9,IF($Z48<>\"○\",$AV$9,IF($AA48<>\"○\",$AW$9,IF($AB48<>\"○\",$AB48,IF($AC48<>\"○\",$AY$9,IF($AR48<>\"○\",$BN$9,\"\")))))))","v":""},{"$f":"IF(LEN($E48)=0,\"\",IF($U48<>\"○\",$AQ$1,IF($V48<>\"○\",$AR$1,IF($W48<>\"○\",$AS$1,IF($X48<>\"○\",$X48,IF($Y48<>\"○\",$AU$1,IF($AN48<>\"○\",$BJ$1,\"\")))))))","v":""},{"$f":"IF(LEN($E48)=0,\"\",IF($U48<>\"○\",$AQ$1,IF($V48<>\"○\",$AR$1,IF($W48<>\"○\",$AS$1,IF($X48<>\"○\",$X48,IF($Y48<>\"○\",$AU$1,IF($AN48<>\"○\",$BJ$1,\"\")))))))","v":""},null,{"$f":"IF(LEN($M47)=LEN(SUBSTITUTE(ASC($M47),\" \",\"\")),\"○\",\"×\")","v":"○"},{"$f":"IF(LEN($M47)=LENB($M47),\"○\",\"×\")","v":"○"},{"$f":"IF(ISNUMBER(VALUE($M47)),\"○\",\"×\")","v":"○"},{"$f":"IF(LEN($M47)=12,\"○\",IF(12-LEN($M47)>0,12-LEN($M47)&\"桁不足しています。調整してください。\",ABS(12-LEN($M47))&\"桁超過しています。調整してください。\"))","v":"12桁不足しています。調整してください。"},{"$f":"IF(COUNTIF($M$9:$M$100,$M47)=1,\"○\",\"×\")","v":"×"},null,{"$f":"MID($M47,12-($AE$9),1)*$BA$9","v":{"$error":"#VALUE!"}},{"$f":"MID($M47,12-($AF$9),1)*$BB$9","v":{"$error":"#VALUE!"}},{"$f":"MID($M47,12-($AG$9),1)*$BC$9","v":{"$error":"#VALUE!"}},{"$f":"MID($M47,12-($AH$9),1)*$BD$9","v":{"$error":"#VALUE!"}},{"$f":"MID($M47,12-($AI$9),1)*$BE$9","v":{"$error":"#VALUE!"}},{"$f":"MID($M47,12-($AJ$9),1)*$BF$9","v":{"$error":"#VALUE!"}},{"$f":"MID($M47,12-($AK$9),1)*$BG$9","v":{"$error":"#VALUE!"}},{"$f":"MID($M47,12-($AL$9),1)*$BH$9","v":{"$error":"#VALUE!"}},{"$f":"MID($M47,12-($AM$9),1)*$BI$9","v":{"$error":"#VALUE!"}},{"$f":"MID($M47,12-($AN$9),1)*$BJ$9","v":{"$error":"#VALUE!"}},{"$f":"MID($M47,12-($AO$9),1)*$BK$9","v":{"$error":"#VALUE!"}},{"$f":"MOD(SUM($AE48:$AO48),11)","v":{"$error":"#VALUE!"}},{"$f":"IF($AP48<=1,0,11-$AP48)","v":{"$error":"#VALUE!"}},{"$f":"IF(VALUE(RIGHT($M47,1))=$AQ48,\"○\",\"×\")","v":{"$error":"#VALUE!"}},{"$f":"IF(AND($Y48=\"○\",$Z48=\"○\",$AA48=\"○\",$AB48=\"○\",$AC48=\"○\",$AR48=\"○\"),\"○\",\"×\")","v":{"$error":"#VALUE!"}}]
[null,"（氏）",null,null,null,null,"（名）",null,null,null,null,"生年月日",{"$f":"IF(N50=\"\",\"\",\"（西暦　　\"&N50+$AD$7&\"　年）\")","v":""}]
[null,null,null,null,null,null,null,null,null,null,null,null,"平成",null,"年",null,"月",null,"日",null,null,null,null,null,{"$f":"IF(N50=\"\",\"\",N50+$AD$7)","v":""},{"$f":"IF(P50=\"\",\"\",TEXT(P50,\"dd\"))","v":""},{"$f":"IF(R50=\"\",\"\",TEXT(R50,\"dd\"))","v":""}]
[null,null,null,null,null,null,null,null,null,null,null,null,null,null,null,null,null,null,null,null,null,null,null,null,{"$f":"CONCATENATE(Y50,Z50,AA50)","v":""}]
["性別",null,null,null,"続柄",null,null,null,null,null,null,"収入の有無"]
["同居・別居",null,null,null,null,null,null,null,null,null,null,"備考",null,null,null,null,null,null,null,null,null,null,null,null,{"$f":"IF(N53=\"\",\"\",N53+$Z$8)","v":""},{"$f":"IF(P53=\"\",\"\",TEXT(P53,\"dd\"))","v":""},{"$f":"IF(R53=\"\",\"\",TEXT(R53,\"dd\"))","v":""}]
[null,null,null,null,null,null,null,null,null,null,null,null,null,null,null,null,null,null,null,null,null,null,null,null,{"$f":"CONCATENATE(Y53,Z53,AA53)","v":""}]
["※基礎年金番号\n（配偶者の場合）","（4桁）",null,null,null,null,"（6桁）"]
[null,null,null,null,null,"-"]
[]
["扶養家族氏名","フリガナ",null,null,null,null,null,null,null,null,null,"個人番号\n(マイナンバー)",null,null,null,null,null,null,null,"マイナンバーチェック結果"]
[null,null,null,null,null,null,null,null,null,null,null,null,null,null,null,null,null,null,null,{"$f":"IF(LEN($M58)=0,\"\",IF(ISERR($AS59),\"×\",$AS59))","v":""},{"$f":"IF(LEN($M58)=0,\"\",IF($Y59<>\"○\",$AU$9,IF($Z59<>\"○\",$AV$9,IF($AA59<>\"○\",$AW$9,IF($AB59<>\"○\",$AB59,IF($AC59<>\"○\",$AY$9,IF($AR59<>\"○\",$BN$9,\"\")))))))","v":""},{"$f":"IF(LEN($E59)=0,\"\",IF($U59<>\"○\",$AQ$1,IF($V59<>\"○\",$AR$1,IF($W59<>\"○\",$AS$1,IF($X59<>\"○\",$X59,IF($Y59<>\"○\",$AU$1,IF($AN59<>\"○\",$BJ$1,\"\")))))))","v":""},{"$f":"IF(LEN($E59)=0,\"\",IF($U59<>\"○\",$AQ$1,IF($V59<>\"○\",$AR$1,IF($W59<>\"○\",$AS$1,IF($X59<>\"○\",$X59,IF($Y59<>\"○\",$AU$1,IF($AN59<>\"○\",$BJ$1,\"\")))))))","v":""},null,{"$f":"IF(LEN($M58)=LEN(SUBSTITUTE(ASC($M58),\" \",\"\")),\"○\",\"×\")","v":"○"},{"$f":"IF(LEN($M58)=LENB($M58),\"○\",\"×\")","v":"○"},{"$f":"IF(ISNUMBER(VALUE($M58)),\"○\",\"×\")","v":"○"},{"$f":"IF(LEN($M58)=12,\"○\",IF(12-LEN($M58)>0,12-LEN($M58)&\"桁不足しています。調整してください。\",ABS(12-LEN($M58))&\"桁超過しています。調整してください。\"))","v":"12桁不足しています。調整してください。"},{"$f":"IF(COUNTIF($M$9:$M$100,$M58)=1,\"○\",\"×\")","v":"×"},null,{"$f":"MID($M58,12-($AE$9),1)*$BA$9","v":{"$error":"#VALUE!"}},{"$f":"MID($M58,12-($AF$9),1)*$BB$9","v":{"$error":"#VALUE!"}},{"$f":"MID($M58,12-($AG$9),1)*$BC$9","v":{"$error":"#VALUE!"}},{"$f":"MID($M58,12-($AH$9),1)*$BD$9","v":{"$error":"#VALUE!"}},{"$f":"MID($M58,12-($AI$9),1)*$BE$9","v":{"$error":"#VALUE!"}},{"$f":"MID($M58,12-($AJ$9),1)*$BF$9","v":{"$error":"#VALUE!"}},{"$f":"MID($M58,12-($AK$9),1)*$BG$9","v":{"$error":"#VALUE!"}},{"$f":"MID($M58,12-($AL$9),1)*$BH$9","v":{"$error":"#VALUE!"}},{"$f":"MID($M58,12-($AM$9),1)*$BI$9","v":{"$error":"#VALUE!"}},{"$f":"MID($M58,12-($AN$9),1)*$BJ$9","v":{"$error":"#VALUE!"}},{"$f":"MID($M58,12-($AO$9),1)*$BK$9","v":{"$error":"#VALUE!"}},{"$f":"MOD(SUM($AE59:$AO59),11)","v":{"$error":"#VALUE!"}},{"$f":"IF($AP59<=1,0,11-$AP59)","v":{"$error":"#VALUE!"}},{"$f":"IF(VALUE(RIGHT($M58,1))=$AQ59,\"○\",\"×\")","v":{"$error":"#VALUE!"}},{"$f":"IF(AND($Y59=\"○\",$Z59=\"○\",$AA59=\"○\",$AB59=\"○\",$AC59=\"○\",$AR59=\"○\"),\"○\",\"×\")","v":{"$error":"#VALUE!"}}]
[null,"（氏）",null,null,null,null,"（名）",null,null,null,null,"生年月日",{"$f":"IF(N61=\"\",\"\",\"（西暦　　\"&N61+$AE$7&\"　年）\")","v":""}]
[null,null,null,null,null,null,null,null,null,null,null,null,"昭和",null,"年",null,"月",null,"日",null,null,null,null,null,{"$f":"IF(N61=\"\",\"\",N61+$AE$7)","v":""},{"$f":"IF(P61=\"\",\"\",TEXT(P61,\"dd\"))","v":""},{"$f":"IF(R61=\"\",\"\",TEXT(R61,\"dd\"))","v":""}]
[null,null,null,null,null,null,null,null,null,null,null,null,null,null,null,null,null,null,null,null,null,null,null,null,{"$f":"CONCATENATE(Y61,Z61,AA61)","v":""}]
["性別",null,null,null,"続柄",null,null,null,null,null,null,"収入の有無"]
["同居・別居",null,null,null,null,null,null,null,null,null,null,"備考",null,null,null,null,null,null,null,null,null,null,null,null,{"$f":"IF(N64=\"\",\"\",N64+$Z$8)","v":""},{"$f":"IF(P64=\"\",\"\",TEXT(P64,\"dd\"))","v":""},{"$f":"IF(R64=\"\",\"\",TEXT(R64,\"dd\"))","v":""}]
[null,null,null,null,null,null,null,null,null,null,null,null,null,null,null,null,null,null,null,null,null,null,null,null,{"$f":"CONCATENATE(Y64,Z64,AA64)","v":""}]
["※基礎年金番号\n（配偶者の場合）","（4桁）",null,null,null,null,"（6桁）"]
[null,null,null,null,null,"-"]

{"sheet":"取得手続連絡 (10)","index":13,"n_rows":67,"n_cols":66,"rows_kept":67,"cut":false,"hidden":false,"merged":[[0,0,0,18],[2,0,2,18],[4,2,5,4],[4,5,5,14],[7,12,7,18],[8,0,12,0],[8,1,8,5],[8,6,8,10],[8,11,9,11],[8,12,9,18],[8,19,8,22],[9,1,9,5],[9,6,9,10],[9,20,9,22],[10,1,10,5],[10,6,10,10],[10,11,12,11],[10,12,10,14],[11,1,12,5],[11,6,12,10],[11,18,12,18],[13,1,13,2],[13,4,13,5],[13,6,13,8],[13,9,13,10],[13,14,13,15],[13,17,13,18],[11,12,12,12],[11,13,12,13],[11,14,12,14],[11,15,12,15],[11,16,12,16],[11,17,12,17],[14,16,15,16],[14,17,15,17],[14,18,15,18],[15,1,15,10],[16,1,16,10],[16,11,17,11],[16,12,17,16],[16,17,17,18],[17,1,17,10],[14,1,14,10],[14,11,15,11],[14,12,15,12],[14,13,15,13],[14,14,15,14],[14,15,15,15],[20,0,21,0],[20,1,20,3],[20,5,20,8],[20,11,21,11],[20,12,21,18],[21,1,21,3],[21,5,21,8],[18,0,19,0],[18,1,18,4],[18,6,18,10],[18,11,19,11],[18,12,19,18],[19,1,19,4],[19,6,19,10],[24,0,28,0],[24,1,24,5],[24,6,24,10],[24,11,25,11],[24,12,25,18],[24,19,24,22],[25,1,25,5],[25,6,25,10],[25,20,25,22],[26,1,26,5],[27,15,28,15],[27,16,28,16],[27,17,28,17],[27,18,28,18],[29,1,29,3],[29,4,29,5],[29,6,29,10],[29,12,29,18],[26,6,26,10],[26,11,28,11],[26,12,26,14],[27,1,28,5],[27,6,28,10],[27,12,28,12],[27,13,28,13],[27,14,28,14],[32,0,33,0],[32,1,32,4],[32,6,32,10],[33,1,33,4],[30,0,31,0],[30,1,31,10],[33,6,33,10],[30,11,33,11],[30,12,33,18],[35,0,39,0],[35,1,35,5],[35,6,35,10],[35,11,36,11],[35,12,36,18],[38,12,39,12],[38,13,39,13],[38,14,39,14],[38,15,39,15],[38,16,39,16],[38,17,39,17],[38,18,39,18],[40,1,40,3],[40,4,40,5],[40,6,40,10],[40,12,40,18],[35,19,35,22],[36,1,36,5],[36,6,36,10],[36,20,36,22],[37,1,37,5],[37,6,37,10],[37,11,39,11],[37,12,37,14],[38,1,39,5],[38,6,39,10],[43,0,44,0],[43,1,43,4],[43,6,43,10],[44,1,44,4],[41,0,42,0],[41,1,42,10],[44,6,44,10],[41,11,44,11],[41,12,44,18],[46,0,50,0],[46,1,46,5],[46,6,46,10],[46,11,47,11],[46,12,47,18],[49,12,50,12],[49,13,50,13],[49,14,50,14],[49,15,50,15],[49,16,50,16],[49,17,50,17],[49,18,50,18],[51,1,51,3],[51,4,51,5],[51,6,51,10],[51,12,51,18],[46,19,46,22],[47,1,47,5],[47,6,47,10],[47,20,47,22],[48,1,48,5],[48,6,48,10],[48,11,50,11],[48,12,48,14],[49,1,50,5],[49,6,50,10],[54,0,55,0],[54,1,54,4],[54,6,54,10],[55,1,55,4],[52,0,53,0],[52,1,53,10],[55,6,55,10],[52,11,55,11],[52,12,55,18],[57,0,61,0],[57,1,57,5],[57,6,57,10],[57,11,58,11],[57,12,58,18],[60,12,61,12],[60,13,61,13],[60,14,61,14],[60,15,61,15],[60,16,61,16],[60,17,61,17],[60,18,61,18],[62,1,62,3],[62,4,62,5],[62,6,62,10],[62,12,62,18],[57,19,57,22],[58,1,58,5],[58,6,58,10],[58,20,58,22],[59,1,59,5],[59,6,59,10],[59,11,61,11],[59,12,59,14],[60,1,61,5],[60,6,61,10],[66,6,66,10],[65,0,66,0],[65,1,65,4],[65,6,65,10],[66,1,66,4],[63,0,64,0],[63,1,64,10],[63,11,66,11],[63,12,66,18]]}
["【資格取得手続きに必要な事項】",null,null,null,null,null,null,null,null,null,null,null,null,null,null,null,null,null,null,null,null,null,null,null,null,"有り","同居"]
["★入社する方がいる時は、下記事項をご記入の上、ご連絡下さい。",null,null,null,null,null,null,null,null,null,null,null,null,null,null,null,null,null,null,null,null,null,null,null,null,"無し","別居"]
["※基礎年金番号をもっていない方・確認できない方\n⇒現在の住所と住民票上の住所が違う場合、必ず住民票上の住所を備考欄に記載してください。",null,null,null,null,null,null,null,null,null,null,null,null,null,null,null,null,null,null,null,null,null,null,null,null,"男"]
[null,null,null,null,null,null,null,null,null,null,null,null,null,null,null,null,null,null,null,null,null,null,null,null,null,"女"]
[null,null,"会社名",null,null,{"$f":"IF(取得手続連絡!$F$5=\"\",\"\",取得手続連絡!$F$5)","v":""}]
[null,null,null,null,null,null,null,null,null,null,null,null,null,null,null,null,null,null,null,null,null,null,null,null,null,null,"本人","扶養１","扶養２","扶養３","扶養４"]
[null,null,null,null,null,null,null,null,null,null,null,null,null,null,null,null,null,null,null,null,null,null,null,null,"昭和",1925,{"$f":"VLOOKUP(M12,$Y$7:$Z$8,2,FALSE)","v":1988},{"$f":"VLOOKUP(M28,$Y$7:$Z$8,2,FALSE)","v":1988},{"$f":"VLOOKUP(M39,$Y$7:$Z$8,2,FALSE)","v":1988},{"$f":"VLOOKUP(M50,$Y$7:$Z$8,2,FALSE)","v":1988},{"$f":"VLOOKUP(M61,$Y$7:$Z$8,2,FALSE)","v":1925}]
[null,null,null,null,null,null,null,null,null,null,null,null,"依頼日：平成○○年○○月○○日",null,null,null,null,null,null,null,null,null,null,null,"平成",1988]
["取得者氏名","ﾌﾘｶﾞﾅ",null,null,null,null,null,null,null,null,null,"個人番号\n(マイナンバー)",null,null,null,null,null,null,null,"マイナンバーチェック結果",null,null,null,null,"①空白チェック","②全角半角チェック","③数値チェック","④桁数チェック","⑤重複チェック","n⇒",1,2,3,4,5,6,7,8,9,10,11,"11で割った余り","11-[AB列の値]","⑥チェックデジット","マイナンバーチェック",null,"空白文字が入っています。削除してください。","半角数字で入力してください。","半角数字で入力してください。",null,"重複があります。ご確認ください。","Q_n⇒",2,3,4,5,6,7,2,3,4,5,6,null,null,"入力ミスがあります。通知カードと見比べてください。"]
[null,null,null,null,null,null,null,null,null,null,null,null,null,null,null,null,null,null,null,{"$f":"IF(LEN($M9)=0,\"\",IF(ISERR($AS10),\"×\",$AS10))","v":""},{"$f":"IF(LEN($M9)=0,\"\",IF($Y10<>\"○\",$AU$9,IF($Z10<>\"○\",$AV$9,IF($AA10<>\"○\",$AW$9,IF($AB10<>\"○\",$AB10,IF($AC10<>\"○\",$AY$9,IF($AR10<>\"○\",$BN$9,\"\")))))))","v":""},{"$f":"IF(LEN($E10)=0,\"\",IF($U10<>\"○\",$AQ$1,IF($V10<>\"○\",$AR$1,IF($W10<>\"○\",$AS$1,IF($X10<>\"○\",$X10,IF($Y10<>\"○\",$AU$1,IF($AN10<>\"○\",$BJ$1,\"\")))))))","v":""},{"$f":"IF(LEN($E10)=0,\"\",IF($U10<>\"○\",$AQ$1,IF($V10<>\"○\",$AR$1,IF($W10<>\"○\",$AS$1,IF($X10<>\"○\",$X10,IF($Y10<>\"○\",$AU$1,IF($AN10<>\"○\",$BJ$1,\"\")))))))","v":""},null,{"$f":"IF(LEN($M9)=LEN(SUBSTITUTE(ASC($M9),\" \",\"\")),\"○\",\"×\")","v":"○"},{"$f":"IF(LEN($M9)=LENB($M9),\"○\",\"×\")","v":"○"},{"$f":"IF(ISNUMBER(VALUE($M9)),\"○\",\"×\")","v":"○"},{"$f":"IF(LEN($M9)=12,\"○\",IF(12-LEN($M9)>0,12-LEN($M9)&\"桁不足しています。調整してください。\",ABS(12-LEN($M9))&\"桁超過しています。調整してください。\"))","v":"12桁不足しています。調整してください。"},{"$f":"IF(COUNTIF($M$9:$M$100,$M9)=1,\"○\",\"×\")","v":"×"},null,{"$f":"MID($M9,12-($AE$9),1)*$BA$9","v":{"$error":"#VALUE!"}},{"$f":"MID($M9,12-($AF$9),1)*$BB$9","v":{"$error":"#VALUE!"}},{"$f":"MID($M9,12-($AG$9),1)*$BC$9","v":{"$error":"#VALUE!"}},{"$f":"MID($M9,12-($AH$9),1)*$BD$9","v":{"$error":"#VALUE!"}},{"$f":"MID($M9,12-($AI$9),1)*$BE$9","v":{"$error":"#VALUE!"}},{"$f":"MID($M9,12-($AJ$9),1)*$BF$9","v":{"$error":"#VALUE!"}},{"$f":"MID($M9,12-($AK$9),1)*$BG$9","v":{"$error":"#VALUE!"}},{"$f":"MID($M9,12-($AL$9),1)*$BH$9","v":{"$error":"#VALUE!"}},{"$f":"MID($M9,12-($AM$9),1)*$BI$9","v":{"$error":"#VALUE!"}},{"$f":"MID($M9,12-($AN$9),1)*$BJ$9","v":{"$error":"#VALUE!"}},{"$f":"MID($M9,12-($AO$9),1)*$BK$9","v":{"$error":"#VALUE!"}},{"$f":"MOD(SUM($AE10:$AO10),11)","v":{"$error":"#VALUE!"}},{"$f":"IF($AP10<=1,0,11-$AP10)","v":{"$error":"#VALUE!"}},{"$f":"IF(VALUE(RIGHT($M9,1))=$AQ10,\"○\",\"×\")","v":{"$error":"#VALUE!"}},{"$f":"IF(AND($Y10=\"○\",$Z10=\"○\",$AA10=\"○\",$AB10=\"○\",$AC10=\"○\",$AR10=\"○\"),\"○\",\"×\")","v":{"$error":"#VALUE!"}}]
[null,"（氏）",null,null,null,null,"（名）",null,null,null,null,"生年月日",{"$f":"IF(N12=\"\",\"\",\"（西暦　　\"&$N$12+$AA$7&\"　年）\")","v":""}]
[null,null,null,null,null,null,null,null,null,null,null,null,"平成",null,"年",null,"月",null,"日",null,null,null,null,null,{"$f":"IF(N12=\"\",\"\",N12+$AA$7)","v":""},{"$f":"IF(P12=\"\",\"\",TEXT(P12,\"dd\"))","v":""},{"$f":"IF(R12=\"\",\"\",TEXT(R12,\"dd\"))","v":""}]
[null,null,null,null,null,null,null,null,null,null,null,null,null,null,null,null,null,null,null,null,null,null,null,null,{"$f":"CONCATENATE(Y12,Z12,AA12)","v":""}]
["郵便番号",null,null,"-",null,null,"性別",null,null,null,null,"電話番号",null,"-",null,null,"-",null,null,"※電話番号は空欄でも可能です"]
["ﾌﾘｶﾞﾅ",null,null,null,null,null,null,null,null,null,null,"加入年月日\n(入社年月日)","平成",null,"年",null,"月",null,"日",null,null,null,null,null,{"$f":"IF(N15=\"\",\"\",N15+$Z$8)","v":""},{"$f":"IF(P15=\"\",\"\",TEXT(P15,\"dd\"))","v":""},{"$f":"IF(R15=\"\",\"\",TEXT(R15,\"dd\"))","v":""}]
["住所１\n(都道府県名から)",null,null,null,null,null,null,null,null,null,null,null,null,null,null,null,null,null,null,null,null,null,null,null,{"$f":"CONCATENATE(Y15,Z15,AA15)","v":""}]
["ﾌﾘｶﾞﾅ",null,null,null,null,null,null,null,null,null,null,"給料\n（交通費、残業代含む）",null,null,null,null,null,"円"]
["住所２\n(アパート名等)"]
["基礎年金番号","（4桁）",null,null,null,null,"（6桁）",null,null,null,null,"扶養家族の有無"]
[null,null,null,null,null,"-"]
["雇用保険番号\n（分からない場合、履歴書添付）","（4桁）",null,null,null,"（6桁）",null,null,null,null,"（1桁）","備考"]
[null,null,null,null,"-",null,null,null,null,"-"]
[]
["★扶養家族がいるときは、ご記入下さい。"]
["扶養家族氏名","フリガナ",null,null,null,null,null,null,null,null,null,"個人番号\n(マイナンバー)",null,null,null,null,null,null,null,"マイナンバーチェック結果"]
[null,null,null,null,null,null,null,null,null,null,null,null,null,null,null,null,null,null,null,{"$f":"IF(LEN($M25)=0,\"\",IF(ISERR($AS26),\"×\",$AS26))","v":""},{"$f":"IF(LEN($M25)=0,\"\",IF($Y26<>\"○\",$AU$9,IF($Z26<>\"○\",$AV$9,IF($AA26<>\"○\",$AW$9,IF($AB26<>\"○\",$AB26,IF($AC26<>\"○\",$AY$9,IF($AR26<>\"○\",$BN$9,\"\")))))))","v":""},{"$f":"IF(LEN($E26)=0,\"\",IF($U26<>\"○\",$AQ$1,IF($V26<>\"○\",$AR$1,IF($W26<>\"○\",$AS$1,IF($X26<>\"○\",$X26,IF($Y26<>\"○\",$AU$1,IF($AN26<>\"○\",$BJ$1,\"\")))))))","v":""},{"$f":"IF(LEN($E26)=0,\"\",IF($U26<>\"○\",$AQ$1,IF($V26<>\"○\",$AR$1,IF($W26<>\"○\",$AS$1,IF($X26<>\"○\",$X26,IF($Y26<>\"○\",$AU$1,IF($AN26<>\"○\",$BJ$1,\"\")))))))","v":""},null,{"$f":"IF(LEN($M25)=LEN(SUBSTITUTE(ASC($M25),\" \",\"\")),\"○\",\"×\")","v":"○"},{"$f":"IF(LEN($M25)=LENB($M25),\"○\",\"×\")","v":"○"},{"$f":"IF(ISNUMBER(VALUE($M25)),\"○\",\"×\")","v":"○"},{"$f":"IF(LEN($M25)=12,\"○\",IF(12-LEN($M25)>0,12-LEN($M25)&\"桁不足しています。調整してください。\",ABS(12-LEN($M25))&\"桁超過しています。調整してください。\"))","v":"12桁不足しています。調整してください。"},{"$f":"IF(COUNTIF($M$9:$M$100,$M25)=1,\"○\",\"×\")","v":"×"},null,{"$f":"MID($M25,12-($AE$9),1)*$BA$9","v":{"$error":"#VALUE!"}},{"$f":"MID($M25,12-($AF$9),1)*$BB$9","v":{"$error":"#VALUE!"}},{"$f":"MID($M25,12-($AG$9),1)*$BC$9","v":{"$error":"#VALUE!"}},{"$f":"MID($M25,12-($AH$9),1)*$BD$9","v":{"$error":"#VALUE!"}},{"$f":"MID($M25,12-($AI$9),1)*$BE$9","v":{"$error":"#VALUE!"}},{"$f":"MID($M25,12-($AJ$9),1)*$BF$9","v":{"$error":"#VALUE!"}},{"$f":"MID($M25,12-($AK$9),1)*$BG$9","v":{"$error":"#VALUE!"}},{"$f":"MID($M25,12-($AL$9),1)*$BH$9","v":{"$error":"#VALUE!"}},{"$f":"MID($M25,12-($AM$9),1)*$BI$9","v":{"$error":"#VALUE!"}},{"$f":"MID($M25,12-($AN$9),1)*$BJ$9","v":{"$error":"#VALUE!"}},{"$f":"MID($M25,12-($AO$9),1)*$BK$9","v":{"$error":"#VALUE!"}},{"$f":"MOD(SUM($AE26:$AO26),11)","v":{"$error":"#VALUE!"}},{"$f":"IF($AP26<=1,0,11-$AP26)","v":{"$error":"#VALUE!"}},{"$f":"IF(VALUE(RIGHT($M25,1))=$AQ26,\"○\",\"×\")","v":{"$error":"#VALUE!"}},{"$f":"IF(AND($Y26=\"○\",$Z26=\"○\",$AA26=\"○\",$AB26=\"○\",$AC26=\"○\",$AR26=\"○\"),\"○\",\"×\")","v":{"$error":"#VALUE!"}}]
[null,"（氏）",null,null,null,null,"（名）",null,null,null,null,"生年月日",{"$f":"IF(N28=\"\",\"\",\"（西暦　　\"&N28+$AB$7&\"　年）\")","v":""}]
[null,null,null,null,null,null,null,null,null,null,null,null,"平成",null,"年",null,"月",null,"日",null,null,null,null,null,{"$f":"IF(N28=\"\",\"\",N28+$AB$7)","v":""},{"$f":"IF(P28=\"\",\"\",TEXT(P28,\"dd\"))","v":""},{"$f":"IF(R28=\"\",\"\",TEXT(R28,\"dd\"))","v":""}]
[null,null,null,null,null,null,null,null,null,null,null,null,null,null,null,null,null,null,null,null,null,null,null,null,{"$f":"CONCATENATE(Y28,Z28,AA28)","v":""}]
["性別",null,null,null,"続柄",null,null,null,null,null,null,"収入の有無"]
["同居・別居",null,null,null,null,null,null,null,null,null,null,"備考",null,null,null,null,null,null,null,null,null,null,null,null,{"$f":"IF(N31=\"\",\"\",N31+$Z$8)","v":""},{"$f":"IF(P31=\"\",\"\",TEXT(P31,\"dd\"))","v":""},{"$f":"IF(R31=\"\",\"\",TEXT(R31,\"dd\"))","v":""}]
[null,null,null,null,null,null,null,null,null,null,null,null,null,null,null,null,null,null,null,null,null,null,null,null,{"$f":"CONCATENATE(Y31,Z31,AA31)","v":""}]
["※基礎年金番号\n（配偶者の場合）","（4桁）",null,null,null,null,"（6桁）"]
[null,null,null,null,null,"-"]
[]
["扶養家族氏名","フリガナ",null,null,null,null,null,null,null,null,null,"個人番号\n(マイナンバー)",null,null,null,null,null,null,null,"マイナンバーチェック結果"]
[null,null,null,null,null,null,null,null,null,null,null,null,null,null,null,null,null,null,null,{"$f":"IF(LEN($M36)=0,\"\",IF(ISERR($AS37),\"×\",$AS37))","v":""},{"$f":"IF(LEN($M36)=0,\"\",IF($Y37<>\"○\",$AU$9,IF($Z37<>\"○\",$AV$9,IF($AA37<>\"○\",$AW$9,IF($AB37<>\"○\",$AB37,IF($AC37<>\"○\",$AY$9,IF($AR37<>\"○\",$BN$9,\"\")))))))","v":""},{"$f":"IF(LEN($E37)=0,\"\",IF($U37<>\"○\",$AQ$1,IF($V37<>\"○\",$AR$1,IF($W37<>\"○\",$AS$1,IF($X37<>\"○\",$X37,IF($Y37<>\"○\",$AU$1,IF($AN37<>\"○\",$BJ$1,\"\")))))))","v":""},{"$f":"IF(LEN($E37)=0,\"\",IF($U37<>\"○\",$AQ$1,IF($V37<>\"○\",$AR$1,IF($W37<>\"○\",$AS$1,IF($X37<>\"○\",$X37,IF($Y37<>\"○\",$AU$1,IF($AN37<>\"○\",$BJ$1,\"\")))))))","v":""},null,{"$f":"IF(LEN($M36)=LEN(SUBSTITUTE(ASC($M36),\" \",\"\")),\"○\",\"×\")","v":"○"},{"$f":"IF(LEN($M36)=LENB($M36),\"○\",\"×\")","v":"○"},{"$f":"IF(ISNUMBER(VALUE($M36)),\"○\",\"×\")","v":"○"},{"$f":"IF(LEN($M36)=12,\"○\",IF(12-LEN($M36)>0,12-LEN($M36)&\"桁不足しています。調整してください。\",ABS(12-LEN($M36))&\"桁超過しています。調整してください。\"))","v":"12桁不足しています。調整してください。"},{"$f":"IF(COUNTIF($M$9:$M$100,$M36)=1,\"○\",\"×\")","v":"×"},null,{"$f":"MID($M36,12-($AE$9),1)*$BA$9","v":{"$error":"#VALUE!"}},{"$f":"MID($M36,12-($AF$9),1)*$BB$9","v":{"$error":"#VALUE!"}},{"$f":"MID($M36,12-($AG$9),1)*$BC$9","v":{"$error":"#VALUE!"}},{"$f":"MID($M36,12-($AH$9),1)*$BD$9","v":{"$error":"#VALUE!"}},{"$f":"MID($M36,12-($AI$9),1)*$BE$9","v":{"$error":"#VALUE!"}},{"$f":"MID($M36,12-($AJ$9),1)*$BF$9","v":{"$error":"#VALUE!"}},{"$f":"MID($M36,12-($AK$9),1)*$BG$9","v":{"$error":"#VALUE!"}},{"$f":"MID($M36,12-($AL$9),1)*$BH$9","v":{"$error":"#VALUE!"}},{"$f":"MID($M36,12-($AM$9),1)*$BI$9","v":{"$error":"#VALUE!"}},{"$f":"MID($M36,12-($AN$9),1)*$BJ$9","v":{"$error":"#VALUE!"}},{"$f":"MID($M36,12-($AO$9),1)*$BK$9","v":{"$error":"#VALUE!"}},{"$f":"MOD(SUM($AE37:$AO37),11)","v":{"$error":"#VALUE!"}},{"$f":"IF($AP37<=1,0,11-$AP37)","v":{"$error":"#VALUE!"}},{"$f":"IF(VALUE(RIGHT($M36,1))=$AQ37,\"○\",\"×\")","v":{"$error":"#VALUE!"}},{"$f":"IF(AND($Y37=\"○\",$Z37=\"○\",$AA37=\"○\",$AB37=\"○\",$AC37=\"○\",$AR37=\"○\"),\"○\",\"×\")","v":{"$error":"#VALUE!"}}]
[null,"（氏）",null,null,null,null,"（名）",null,null,null,null,"生年月日",{"$f":"IF(N39=\"\",\"\",\"（西暦　　\"&N39+$AC$7&\"　年）\")","v":""}]
[null,null,null,null,null,null,null,null,null,null,null,null,"平成",null,"年",null,"月",null,"日",null,null,null,null,null,{"$f":"IF(N39=\"\",\"\",N39+$AC$7)","v":""},{"$f":"IF(P39=\"\",\"\",TEXT(P39,\"dd\"))","v":""},{"$f":"IF(R39=\"\",\"\",TEXT(R39,\"dd\"))","v":""}]
[null,null,null,null,null,null,null,null,null,null,null,null,null,null,null,null,null,null,null,null,null,null,null,null,{"$f":"CONCATENATE(Y39,Z39,AA39)","v":""}]
["性別",null,null,null,"続柄",null,null,null,null,null,null,"収入の有無"]
["同居・別居",null,null,null,null,null,null,null,null,null,null,"備考",null,null,null,null,null,null,null,null,null,null,null,null,{"$f":"IF(N42=\"\",\"\",N42+$Z$8)","v":""},{"$f":"IF(P42=\"\",\"\",TEXT(P42,\"dd\"))","v":""},{"$f":"IF(R42=\"\",\"\",TEXT(R42,\"dd\"))","v":""}]
[null,null,null,null,null,null,null,null,null,null,null,null,null,null,null,null,null,null,null,null,null,null,null,null,{"$f":"CONCATENATE(Y42,Z42,AA42)","v":""}]
["※基礎年金番号\n（配偶者の場合）","（4桁）",null,null,null,null,"（6桁）"]
[null,null,null,null,null,"-"]
[]
["扶養家族氏名","フリガナ",null,null,null,null,null,null,null,null,null,"個人番号\n(マイナンバー)",null,null,null,null,null,null,null,"マイナンバーチェック結果"]
[null,null,null,null,null,null,null,null,null,null,null,null,null,null,null,null,null,null,null,{"$f":"IF(LEN($M47)=0,\"\",IF(ISERR($AS48),\"×\",$AS48))","v":""},{"$f":"IF(LEN($M47)=0,\"\",IF($Y48<>\"○\",$AU$9,IF($Z48<>\"○\",$AV$9,IF($AA48<>\"○\",$AW$9,IF($AB48<>\"○\",$AB48,IF($AC48<>\"○\",$AY$9,IF($AR48<>\"○\",$BN$9,\"\")))))))","v":""},{"$f":"IF(LEN($E48)=0,\"\",IF($U48<>\"○\",$AQ$1,IF($V48<>\"○\",$AR$1,IF($W48<>\"○\",$AS$1,IF($X48<>\"○\",$X48,IF($Y48<>\"○\",$AU$1,IF($AN48<>\"○\",$BJ$1,\"\")))))))","v":""},{"$f":"IF(LEN($E48)=0,\"\",IF($U48<>\"○\",$AQ$1,IF($V48<>\"○\",$AR$1,IF($W48<>\"○\",$AS$1,IF($X48<>\"○\",$X48,IF($Y48<>\"○\",$AU$1,IF($AN48<>\"○\",$BJ$1,\"\")))))))","v":""},null,{"$f":"IF(LEN($M47)=LEN(SUBSTITUTE(ASC($M47),\" \",\"\")),\"○\",\"×\")","v":"○"},{"$f":"IF(LEN($M47)=LENB($M47),\"○\",\"×\")","v":"○"},{"$f":"IF(ISNUMBER(VALUE($M47)),\"○\",\"×\")","v":"○"},{"$f":"IF(LEN($M47)=12,\"○\",IF(12-LEN($M47)>0,12-LEN($M47)&\"桁不足しています。調整してください。\",ABS(12-LEN($M47))&\"桁超過しています。調整してください。\"))","v":"12桁不足しています。調整してください。"},{"$f":"IF(COUNTIF($M$9:$M$100,$M47)=1,\"○\",\"×\")","v":"×"},null,{"$f":"MID($M47,12-($AE$9),1)*$BA$9","v":{"$error":"#VALUE!"}},{"$f":"MID($M47,12-($AF$9),1)*$BB$9","v":{"$error":"#VALUE!"}},{"$f":"MID($M47,12-($AG$9),1)*$BC$9","v":{"$error":"#VALUE!"}},{"$f":"MID($M47,12-($AH$9),1)*$BD$9","v":{"$error":"#VALUE!"}},{"$f":"MID($M47,12-($AI$9),1)*$BE$9","v":{"$error":"#VALUE!"}},{"$f":"MID($M47,12-($AJ$9),1)*$BF$9","v":{"$error":"#VALUE!"}},{"$f":"MID($M47,12-($AK$9),1)*$BG$9","v":{"$error":"#VALUE!"}},{"$f":"MID($M47,12-($AL$9),1)*$BH$9","v":{"$error":"#VALUE!"}},{"$f":"MID($M47,12-($AM$9),1)*$BI$9","v":{"$error":"#VALUE!"}},{"$f":"MID($M47,12-($AN$9),1)*$BJ$9","v":{"$error":"#VALUE!"}},{"$f":"MID($M47,12-($AO$9),1)*$BK$9","v":{"$error":"#VALUE!"}},{"$f":"MOD(SUM($AE48:$AO48),11)","v":{"$error":"#VALUE!"}},{"$f":"IF($AP48<=1,0,11-$AP48)","v":{"$error":"#VALUE!"}},{"$f":"IF(VALUE(RIGHT($M47,1))=$AQ48,\"○\",\"×\")","v":{"$error":"#VALUE!"}},{"$f":"IF(AND($Y48=\"○\",$Z48=\"○\",$AA48=\"○\",$AB48=\"○\",$AC48=\"○\",$AR48=\"○\"),\"○\",\"×\")","v":{"$error":"#VALUE!"}}]
[null,"（氏）",null,null,null,null,"（名）",null,null,null,null,"生年月日",{"$f":"IF(N50=\"\",\"\",\"（西暦　　\"&N50+$AD$7&\"　年）\")","v":""}]
[null,null,null,null,null,null,null,null,null,null,null,null,"平成",null,"年",null,"月",null,"日",null,null,null,null,null,{"$f":"IF(N50=\"\",\"\",N50+$AD$7)","v":""},{"$f":"IF(P50=\"\",\"\",TEXT(P50,\"dd\"))","v":""},{"$f":"IF(R50=\"\",\"\",TEXT(R50,\"dd\"))","v":""}]
[null,null,null,null,null,null,null,null,null,null,null,null,null,null,null,null,null,null,null,null,null,null,null,null,{"$f":"CONCATENATE(Y50,Z50,AA50)","v":""}]
["性別",null,null,null,"続柄",null,null,null,null,null,null,"収入の有無"]
["同居・別居",null,null,null,null,null,null,null,null,null,null,"備考",null,null,null,null,null,null,null,null,null,null,null,null,{"$f":"IF(N53=\"\",\"\",N53+$Z$8)","v":""},{"$f":"IF(P53=\"\",\"\",TEXT(P53,\"dd\"))","v":""},{"$f":"IF(R53=\"\",\"\",TEXT(R53,\"dd\"))","v":""}]
[null,null,null,null,null,null,null,null,null,null,null,null,null,null,null,null,null,null,null,null,null,null,null,null,{"$f":"CONCATENATE(Y53,Z53,AA53)","v":""}]
["※基礎年金番号\n（配偶者の場合）","（4桁）",null,null,null,null,"（6桁）"]
[null,null,null,null,null,"-"]
[]
["扶養家族氏名","フリガナ",null,null,null,null,null,null,null,null,null,"個人番号\n(マイナンバー)",null,null,null,null,null,null,null,"マイナンバーチェック結果"]
[null,null,null,null,null,null,null,null,null,null,null,null,null,null,null,null,null,null,null,{"$f":"IF(LEN($M58)=0,\"\",IF(ISERR($AS59),\"×\",$AS59))","v":""},{"$f":"IF(LEN($M58)=0,\"\",IF($Y59<>\"○\",$AU$9,IF($Z59<>\"○\",$AV$9,IF($AA59<>\"○\",$AW$9,IF($AB59<>\"○\",$AB59,IF($AC59<>\"○\",$AY$9,IF($AR59<>\"○\",$BN$9,\"\")))))))","v":""},{"$f":"IF(LEN($E59)=0,\"\",IF($U59<>\"○\",$AQ$1,IF($V59<>\"○\",$AR$1,IF($W59<>\"○\",$AS$1,IF($X59<>\"○\",$X59,IF($Y59<>\"○\",$AU$1,IF($AN59<>\"○\",$BJ$1,\"\")))))))","v":""},{"$f":"IF(LEN($E59)=0,\"\",IF($U59<>\"○\",$AQ$1,IF($V59<>\"○\",$AR$1,IF($W59<>\"○\",$AS$1,IF($X59<>\"○\",$X59,IF($Y59<>\"○\",$AU$1,IF($AN59<>\"○\",$BJ$1,\"\")))))))","v":""},null,{"$f":"IF(LEN($M58)=LEN(SUBSTITUTE(ASC($M58),\" \",\"\")),\"○\",\"×\")","v":"○"},{"$f":"IF(LEN($M58)=LENB($M58),\"○\",\"×\")","v":"○"},{"$f":"IF(ISNUMBER(VALUE($M58)),\"○\",\"×\")","v":"○"},{"$f":"IF(LEN($M58)=12,\"○\",IF(12-LEN($M58)>0,12-LEN($M58)&\"桁不足しています。調整してください。\",ABS(12-LEN($M58))&\"桁超過しています。調整してください。\"))","v":"12桁不足しています。調整してください。"},{"$f":"IF(COUNTIF($M$9:$M$100,$M58)=1,\"○\",\"×\")","v":"×"},null,{"$f":"MID($M58,12-($AE$9),1)*$BA$9","v":{"$error":"#VALUE!"}},{"$f":"MID($M58,12-($AF$9),1)*$BB$9","v":{"$error":"#VALUE!"}},{"$f":"MID($M58,12-($AG$9),1)*$BC$9","v":{"$error":"#VALUE!"}},{"$f":"MID($M58,12-($AH$9),1)*$BD$9","v":{"$error":"#VALUE!"}},{"$f":"MID($M58,12-($AI$9),1)*$BE$9","v":{"$error":"#VALUE!"}},{"$f":"MID($M58,12-($AJ$9),1)*$BF$9","v":{"$error":"#VALUE!"}},{"$f":"MID($M58,12-($AK$9),1)*$BG$9","v":{"$error":"#VALUE!"}},{"$f":"MID($M58,12-($AL$9),1)*$BH$9","v":{"$error":"#VALUE!"}},{"$f":"MID($M58,12-($AM$9),1)*$BI$9","v":{"$error":"#VALUE!"}},{"$f":"MID($M58,12-($AN$9),1)*$BJ$9","v":{"$error":"#VALUE!"}},{"$f":"MID($M58,12-($AO$9),1)*$BK$9","v":{"$error":"#VALUE!"}},{"$f":"MOD(SUM($AE59:$AO59),11)","v":{"$error":"#VALUE!"}},{"$f":"IF($AP59<=1,0,11-$AP59)","v":{"$error":"#VALUE!"}},{"$f":"IF(VALUE(RIGHT($M58,1))=$AQ59,\"○\",\"×\")","v":{"$error":"#VALUE!"}},{"$f":"IF(AND($Y59=\"○\",$Z59=\"○\",$AA59=\"○\",$AB59=\"○\",$AC59=\"○\",$AR59=\"○\"),\"○\",\"×\")","v":{"$error":"#VALUE!"}}]
[null,"（氏）",null,null,null,null,"（名）",null,null,null,null,"生年月日",{"$f":"IF(N61=\"\",\"\",\"（西暦　　\"&N61+$AE$7&\"　年）\")","v":""}]
[null,null,null,null,null,null,null,null,null,null,null,null,"昭和",null,"年",null,"月",null,"日",null,null,null,null,null,{"$f":"IF(N61=\"\",\"\",N61+$AE$7)","v":""},{"$f":"IF(P61=\"\",\"\",TEXT(P61,\"dd\"))","v":""},{"$f":"IF(R61=\"\",\"\",TEXT(R61,\"dd\"))","v":""}]
[null,null,null,null,null,null,null,null,null,null,null,null,null,null,null,null,null,null,null,null,null,null,null,null,{"$f":"CONCATENATE(Y61,Z61,AA61)","v":""}]
["性別",null,null,null,"続柄",null,null,null,null,null,null,"収入の有無"]
["同居・別居",null,null,null,null,null,null,null,null,null,null,"備考",null,null,null,null,null,null,null,null,null,null,null,null,{"$f":"IF(N64=\"\",\"\",N64+$Z$8)","v":""},{"$f":"IF(P64=\"\",\"\",TEXT(P64,\"dd\"))","v":""},{"$f":"IF(R64=\"\",\"\",TEXT(R64,\"dd\"))","v":""}]
[null,null,null,null,null,null,null,null,null,null,null,null,null,null,null,null,null,null,null,null,null,null,null,null,{"$f":"CONCATENATE(Y64,Z64,AA64)","v":""}]
["※基礎年金番号\n（配偶者の場合）","（4桁）",null,null,null,null,"（6桁）"]
[null,null,null,null,null,"-"]